BEGIN:VCALENDAR
VERSION:2.0
PRODID:-//Iowa Western Community College - ECPv6.15.20//NONSGML v1.0//EN
CALSCALE:GREGORIAN
METHOD:PUBLISH
X-WR-CALNAME:Iowa Western Community College
X-ORIGINAL-URL:https://www.iwcc.edu
X-WR-CALDESC:Events for Iowa Western Community College
REFRESH-INTERVAL;VALUE=DURATION:PT1H
X-Robots-Tag:noindex
X-PUBLISHED-TTL:PT1H
BEGIN:VTIMEZONE
TZID:America/Chicago
BEGIN:DAYLIGHT
TZOFFSETFROM:-0600
TZOFFSETTO:-0500
TZNAME:CDT
DTSTART:20190310T080000
END:DAYLIGHT
BEGIN:STANDARD
TZOFFSETFROM:-0500
TZOFFSETTO:-0600
TZNAME:CST
DTSTART:20191103T070000
END:STANDARD
BEGIN:DAYLIGHT
TZOFFSETFROM:-0600
TZOFFSETTO:-0500
TZNAME:CDT
DTSTART:20200308T080000
END:DAYLIGHT
BEGIN:STANDARD
TZOFFSETFROM:-0500
TZOFFSETTO:-0600
TZNAME:CST
DTSTART:20201101T070000
END:STANDARD
BEGIN:DAYLIGHT
TZOFFSETFROM:-0600
TZOFFSETTO:-0500
TZNAME:CDT
DTSTART:20210314T080000
END:DAYLIGHT
BEGIN:STANDARD
TZOFFSETFROM:-0500
TZOFFSETTO:-0600
TZNAME:CST
DTSTART:20211107T070000
END:STANDARD
END:VTIMEZONE
BEGIN:VEVENT
DTSTART;VALUE=DATE:20201020
DTEND;VALUE=DATE:20201022
DTSTAMP:20260422T070919
CREATED:20200701T051905Z
LAST-MODIFIED:20200831T223218Z
UID:10003904-1603220400-1603306799@www.iwcc.edu
SUMMARY:Last Day 100% Refund for Accelerated Session II (8-week) Classes
DESCRIPTION:Last Day 100% Refund for Accelerated Session II (8-week) Classes
URL:https://www.iwcc.edu/event/last-day-100-refund-for-accelerated-session-ii-8-week-classes/
LOCATION:2700 College Rd.\, Council Bluffs\, IA\, 51503\, United States
END:VEVENT
BEGIN:VEVENT
DTSTART;VALUE=DATE:20201020
DTEND;VALUE=DATE:20201022
DTSTAMP:20260422T070919
CREATED:20200701T051905Z
LAST-MODIFIED:20200831T223239Z
UID:10003905-1603220400-1603306799@www.iwcc.edu
SUMMARY:Last Day to Add Accelerated Session II (8-week) Classes
DESCRIPTION:Last Day to Add Accelerated Session II (8-week) Classes
URL:https://www.iwcc.edu/event/last-day-to-add-accelerated-session-ii-8-week-classes/
LOCATION:2700 College Rd.\, Council Bluffs\, IA\, 51503\, United States
END:VEVENT
END:VCALENDAR