BEGIN:VCALENDAR
VERSION:2.0
PRODID:-//Iowa Western Community College - ECPv6.15.20//NONSGML v1.0//EN
CALSCALE:GREGORIAN
METHOD:PUBLISH
X-ORIGINAL-URL:https://www.iwcc.edu
X-WR-CALDESC:Events for Iowa Western Community College
REFRESH-INTERVAL;VALUE=DURATION:PT1H
X-Robots-Tag:noindex
X-PUBLISHED-TTL:PT1H
BEGIN:VTIMEZONE
TZID:America/Chicago
BEGIN:DAYLIGHT
TZOFFSETFROM:-0600
TZOFFSETTO:-0500
TZNAME:CDT
DTSTART:20200308T080000
END:DAYLIGHT
BEGIN:STANDARD
TZOFFSETFROM:-0500
TZOFFSETTO:-0600
TZNAME:CST
DTSTART:20201101T070000
END:STANDARD
BEGIN:DAYLIGHT
TZOFFSETFROM:-0600
TZOFFSETTO:-0500
TZNAME:CDT
DTSTART:20210314T080000
END:DAYLIGHT
BEGIN:STANDARD
TZOFFSETFROM:-0500
TZOFFSETTO:-0600
TZNAME:CST
DTSTART:20211107T070000
END:STANDARD
BEGIN:DAYLIGHT
TZOFFSETFROM:-0600
TZOFFSETTO:-0500
TZNAME:CDT
DTSTART:20220313T080000
END:DAYLIGHT
BEGIN:STANDARD
TZOFFSETFROM:-0500
TZOFFSETTO:-0600
TZNAME:CST
DTSTART:20221106T070000
END:STANDARD
END:VTIMEZONE
BEGIN:VEVENT
DTSTART;TZID=America/Chicago:20210304T130000
DTEND;TZID=America/Chicago:20210304T150000
DTSTAMP:20260421T155402
CREATED:20210114T232247Z
LAST-MODIFIED:20210114T232247Z
UID:10004242-1614862800-1614870000@www.iwcc.edu
SUMMARY:Nerdology (Game Show)
DESCRIPTION:Hosted by Clinton/Scott/Muscatine
URL:https://www.iwcc.edu/event/nerdology-game-show/
CATEGORIES:Residence Life,Student Activities
END:VEVENT
BEGIN:VEVENT
DTSTART;VALUE=DATE:20210304
DTEND;VALUE=DATE:20210306
DTSTAMP:20260421T155402
CREATED:20200826T220901Z
LAST-MODIFIED:20200826T220901Z
UID:10004034-1614880800-1614967199@www.iwcc.edu
SUMMARY:Spring Accelerated Session I Ends
DESCRIPTION:
URL:https://www.iwcc.edu/event/spring-accelerated-session-i-ends/
LOCATION:2700 College Rd.\, Council Bluffs\, IA\, 51503\, United States
CATEGORIES:Term Start & End Dates
ORGANIZER;CN="Registrar Office":MAILTO:registrar@iwcc.edu
END:VEVENT
BEGIN:VEVENT
DTSTART;VALUE=DATE:20210304
DTEND;VALUE=DATE:20210306
DTSTAMP:20260421T155402
CREATED:20201211T033047Z
LAST-MODIFIED:20210112T231643Z
UID:10004329-1614880800-1614967199@www.iwcc.edu
SUMMARY:(Softball) North Platte Community College vs. Iowa Western
DESCRIPTION:(Softball) North Platte Community College vs. Iowa Western
URL:https://www.iwcc.edu/event/softball-north-platte-community-college-vs-iowa-western/
CATEGORIES:Athletics,Softball
END:VEVENT
BEGIN:VEVENT
DTSTART;VALUE=DATE:20210304
DTEND;VALUE=DATE:20210306
DTSTAMP:20260421T155402
CREATED:20201211T033048Z
LAST-MODIFIED:20210112T231643Z
UID:10004109-1614880800-1614967199@www.iwcc.edu
SUMMARY:(Softball) North Platte Community College vs. Iowa Western
DESCRIPTION:(Softball) North Platte Community College vs. Iowa Western
URL:https://www.iwcc.edu/event/softball-north-platte-community-college-vs-iowa-western-2/
CATEGORIES:Athletics,Softball
END:VEVENT
END:VCALENDAR