BEGIN:VCALENDAR
VERSION:2.0
PRODID:-//Iowa Western Community College - ECPv6.15.20//NONSGML v1.0//EN
CALSCALE:GREGORIAN
METHOD:PUBLISH
X-WR-CALNAME:Iowa Western Community College
X-ORIGINAL-URL:https://www.iwcc.edu
X-WR-CALDESC:Events for Iowa Western Community College
REFRESH-INTERVAL;VALUE=DURATION:PT1H
X-Robots-Tag:noindex
X-PUBLISHED-TTL:PT1H
BEGIN:VTIMEZONE
TZID:America/Chicago
BEGIN:DAYLIGHT
TZOFFSETFROM:-0600
TZOFFSETTO:-0500
TZNAME:CDT
DTSTART:20200308T080000
END:DAYLIGHT
BEGIN:STANDARD
TZOFFSETFROM:-0500
TZOFFSETTO:-0600
TZNAME:CST
DTSTART:20201101T070000
END:STANDARD
BEGIN:DAYLIGHT
TZOFFSETFROM:-0600
TZOFFSETTO:-0500
TZNAME:CDT
DTSTART:20210314T080000
END:DAYLIGHT
BEGIN:STANDARD
TZOFFSETFROM:-0500
TZOFFSETTO:-0600
TZNAME:CST
DTSTART:20211107T070000
END:STANDARD
BEGIN:DAYLIGHT
TZOFFSETFROM:-0600
TZOFFSETTO:-0500
TZNAME:CDT
DTSTART:20220313T080000
END:DAYLIGHT
BEGIN:STANDARD
TZOFFSETFROM:-0500
TZOFFSETTO:-0600
TZNAME:CST
DTSTART:20221106T070000
END:STANDARD
END:VTIMEZONE
BEGIN:VEVENT
DTSTART;TZID=America/Chicago:20210515T120000
DTEND;TZID=America/Chicago:20210515T120000
DTSTAMP:20260422T010853
CREATED:20210311T220847Z
LAST-MODIFIED:20210514T184445Z
UID:10004667-1621080000-1621080000@www.iwcc.edu
SUMMARY:(Football) Southern Shreveport vs. Iowa Western
DESCRIPTION:(Football) Southern Shreveport vs. Iowa Western\, Titan Stadium | Council Bluffs\, IA
URL:https://www.iwcc.edu/event/football-southern-shreveport-vs-iowa-western/
CATEGORIES:Football
END:VEVENT
BEGIN:VEVENT
DTSTART;TZID=America/Chicago:20210515T120000
DTEND;TZID=America/Chicago:20210515T120000
DTSTAMP:20260422T010853
CREATED:20210509T184454Z
LAST-MODIFIED:20210514T184445Z
UID:10004753-1621080000-1621080000@www.iwcc.edu
SUMMARY:(Baseball) Indian Hills Community College vs. Iowa Western
DESCRIPTION:(Baseball) Indian Hills Community College vs. Iowa Western\, Region XI Championship – If Necessary
URL:https://www.iwcc.edu/event/baseball-indian-hills-community-college-vs-iowa-western-3/
CATEGORIES:Baseball
END:VEVENT
BEGIN:VEVENT
DTSTART;TZID=America/Chicago:20210515T130000
DTEND;TZID=America/Chicago:20210515T130000
DTSTAMP:20260422T010853
CREATED:20210509T184454Z
LAST-MODIFIED:20210514T184445Z
UID:10004754-1621083600-1621083600@www.iwcc.edu
SUMMARY:(Men's Soccer) Indian Hills Community College vs. Iowa Western
DESCRIPTION:(Men’s Soccer) TBA vs. Iowa Western\, Region XI Tournament – Semifinals
URL:https://www.iwcc.edu/event/mens-soccer-tba-vs-iowa-western/
CATEGORIES:Men's Soccer
END:VEVENT
END:VCALENDAR