BEGIN:VCALENDAR
VERSION:2.0
PRODID:-//Iowa Western Community College - ECPv6.15.20//NONSGML v1.0//EN
CALSCALE:GREGORIAN
METHOD:PUBLISH
X-WR-CALNAME:Iowa Western Community College
X-ORIGINAL-URL:https://www.iwcc.edu
X-WR-CALDESC:Events for Iowa Western Community College
REFRESH-INTERVAL;VALUE=DURATION:PT1H
X-Robots-Tag:noindex
X-PUBLISHED-TTL:PT1H
BEGIN:VTIMEZONE
TZID:America/Chicago
BEGIN:DAYLIGHT
TZOFFSETFROM:-0600
TZOFFSETTO:-0500
TZNAME:CDT
DTSTART:20200308T080000
END:DAYLIGHT
BEGIN:STANDARD
TZOFFSETFROM:-0500
TZOFFSETTO:-0600
TZNAME:CST
DTSTART:20201101T070000
END:STANDARD
BEGIN:DAYLIGHT
TZOFFSETFROM:-0600
TZOFFSETTO:-0500
TZNAME:CDT
DTSTART:20210314T080000
END:DAYLIGHT
BEGIN:STANDARD
TZOFFSETFROM:-0500
TZOFFSETTO:-0600
TZNAME:CST
DTSTART:20211107T070000
END:STANDARD
BEGIN:DAYLIGHT
TZOFFSETFROM:-0600
TZOFFSETTO:-0500
TZNAME:CDT
DTSTART:20220313T080000
END:DAYLIGHT
BEGIN:STANDARD
TZOFFSETFROM:-0500
TZOFFSETTO:-0600
TZNAME:CST
DTSTART:20221106T070000
END:STANDARD
END:VTIMEZONE
BEGIN:VEVENT
DTSTART;VALUE=DATE:20210518
DTEND;VALUE=DATE:20210520
DTSTAMP:20260421T132903
CREATED:20210311T220848Z
LAST-MODIFIED:20210516T185948Z
UID:10004670-1621364400-1621450799@www.iwcc.edu
SUMMARY:(Baseball) Iowa Western vs. TBA
DESCRIPTION:(Baseball) Iowa Western vs. TBA\, Northern District Tournament
URL:https://www.iwcc.edu/event/baseball-iowa-western-vs-tba-2/
LOCATION:Region IV
CATEGORIES:Baseball
END:VEVENT
BEGIN:VEVENT
DTSTART;TZID=America/Chicago:20210519T130000
DTEND;TZID=America/Chicago:20210519T130000
DTSTAMP:20260421T132903
CREATED:20210311T220848Z
LAST-MODIFIED:20210518T185927Z
UID:10004672-1621429200-1621429200@www.iwcc.edu
SUMMARY:(Women's Soccer) Indian Hills Community College vs. Iowa Western
DESCRIPTION:(Women’s Soccer) Iowa Western at ICCAC Finals
URL:https://www.iwcc.edu/event/womens-soccer-iowa-western-at-iccac-finals/
CATEGORIES:Women's Soccer
END:VEVENT
END:VCALENDAR