BEGIN:VCALENDAR
VERSION:2.0
PRODID:-//Iowa Western Community College - ECPv6.15.20//NONSGML v1.0//EN
CALSCALE:GREGORIAN
METHOD:PUBLISH
X-ORIGINAL-URL:https://www.iwcc.edu
X-WR-CALDESC:Events for Iowa Western Community College
REFRESH-INTERVAL;VALUE=DURATION:PT1H
X-Robots-Tag:noindex
X-PUBLISHED-TTL:PT1H
BEGIN:VTIMEZONE
TZID:America/Chicago
BEGIN:DAYLIGHT
TZOFFSETFROM:-0600
TZOFFSETTO:-0500
TZNAME:CDT
DTSTART:20200308T080000
END:DAYLIGHT
BEGIN:STANDARD
TZOFFSETFROM:-0500
TZOFFSETTO:-0600
TZNAME:CST
DTSTART:20201101T070000
END:STANDARD
BEGIN:DAYLIGHT
TZOFFSETFROM:-0600
TZOFFSETTO:-0500
TZNAME:CDT
DTSTART:20210314T080000
END:DAYLIGHT
BEGIN:STANDARD
TZOFFSETFROM:-0500
TZOFFSETTO:-0600
TZNAME:CST
DTSTART:20211107T070000
END:STANDARD
BEGIN:DAYLIGHT
TZOFFSETFROM:-0600
TZOFFSETTO:-0500
TZNAME:CDT
DTSTART:20220313T080000
END:DAYLIGHT
BEGIN:STANDARD
TZOFFSETFROM:-0500
TZOFFSETTO:-0600
TZNAME:CST
DTSTART:20221106T070000
END:STANDARD
END:VTIMEZONE
BEGIN:VEVENT
DTSTART;VALUE=DATE:20210523
DTEND;VALUE=DATE:20210525
DTSTAMP:20260421T214102
CREATED:20200902T212314Z
LAST-MODIFIED:20200902T212314Z
UID:10004100-1621796400-1621882799@www.iwcc.edu
SUMMARY:Last Day to Drop Summer Accelerated Session I (4-week) Classes
DESCRIPTION:
URL:https://www.iwcc.edu/event/last-day-to-drop-summer-accelerated-session-i-4-week-classes/
END:VEVENT
BEGIN:VEVENT
DTSTART;TZID=America/Chicago:20210524T130000
DTEND;TZID=America/Chicago:20210524T130000
DTSTAMP:20260421T214102
CREATED:20210523T191448Z
LAST-MODIFIED:20210523T191448Z
UID:10004759-1621861200-1621861200@www.iwcc.edu
SUMMARY:(Men's Soccer) TBA vs. Iowa Western
DESCRIPTION:(Men’s Soccer) TBA vs. Iowa Western\, Midwest District Championship
URL:https://www.iwcc.edu/event/mens-soccer-tba-vs-iowa-western-2/
CATEGORIES:Men's Soccer
END:VEVENT
BEGIN:VEVENT
DTSTART;TZID=America/Chicago:20210524T153000
DTEND;TZID=America/Chicago:20210524T153000
DTSTAMP:20260421T214102
CREATED:20210311T220848Z
LAST-MODIFIED:20210524T191535Z
UID:10004676-1621870200-1621870200@www.iwcc.edu
SUMMARY:(Women's Soccer) Lewis & Clark Community College vs. Iowa Western
DESCRIPTION:(Women’s Soccer) Iowa Western at District Finals
URL:https://www.iwcc.edu/event/womens-soccer-iowa-western-at-district-finals/
CATEGORIES:Women's Soccer
END:VEVENT
END:VCALENDAR