BEGIN:VCALENDAR
VERSION:2.0
PRODID:-//Iowa Western Community College - ECPv6.15.20//NONSGML v1.0//EN
CALSCALE:GREGORIAN
METHOD:PUBLISH
X-ORIGINAL-URL:https://www.iwcc.edu
X-WR-CALDESC:Events for Iowa Western Community College
REFRESH-INTERVAL;VALUE=DURATION:PT1H
X-Robots-Tag:noindex
X-PUBLISHED-TTL:PT1H
BEGIN:VTIMEZONE
TZID:America/Chicago
BEGIN:DAYLIGHT
TZOFFSETFROM:-0600
TZOFFSETTO:-0500
TZNAME:CDT
DTSTART:20200308T080000
END:DAYLIGHT
BEGIN:STANDARD
TZOFFSETFROM:-0500
TZOFFSETTO:-0600
TZNAME:CST
DTSTART:20201101T070000
END:STANDARD
BEGIN:DAYLIGHT
TZOFFSETFROM:-0600
TZOFFSETTO:-0500
TZNAME:CDT
DTSTART:20210314T080000
END:DAYLIGHT
BEGIN:STANDARD
TZOFFSETFROM:-0500
TZOFFSETTO:-0600
TZNAME:CST
DTSTART:20211107T070000
END:STANDARD
BEGIN:DAYLIGHT
TZOFFSETFROM:-0600
TZOFFSETTO:-0500
TZNAME:CDT
DTSTART:20220313T080000
END:DAYLIGHT
BEGIN:STANDARD
TZOFFSETFROM:-0500
TZOFFSETTO:-0600
TZNAME:CST
DTSTART:20221106T070000
END:STANDARD
END:VTIMEZONE
BEGIN:VEVENT
DTSTART;TZID=America/Chicago:20211112T180000
DTEND;TZID=America/Chicago:20211112T180000
DTSTAMP:20260420T072611
CREATED:20210820T211437Z
LAST-MODIFIED:20211112T044427Z
UID:10004482-1636740000-1636740000@www.iwcc.edu
SUMMARY:(Football) Iowa Western at Northwestern College JV
DESCRIPTION:(Football) Iowa Western at Northwestern College JV\, Orange City\, IA
URL:https://www.iwcc.edu/event/football-air-force-prep-vs-iowa-western/
CATEGORIES:Football
END:VEVENT
BEGIN:VEVENT
DTSTART;VALUE=DATE:20211112
DTEND;VALUE=DATE:20211114
DTSTAMP:20260420T072611
CREATED:20210820T211436Z
LAST-MODIFIED:20211112T044427Z
UID:10004478-1636740000-1636826399@www.iwcc.edu
SUMMARY:(Women's Cross Country) NJCAA National Championships
DESCRIPTION:(Women’s Cross Country) NJCAA National Championships\, Richmond\, VA
URL:https://www.iwcc.edu/event/womens-cross-country-njcaa-national-championships/
CATEGORIES:Women's Cross Country
END:VEVENT
BEGIN:VEVENT
DTSTART;VALUE=DATE:20211112
DTEND;VALUE=DATE:20211114
DTSTAMP:20260420T072611
CREATED:20210820T211436Z
LAST-MODIFIED:20211112T044427Z
UID:10004480-1636740000-1636826399@www.iwcc.edu
SUMMARY:(Men's Cross Country) NJCAA National Championships
DESCRIPTION:(Men’s Cross Country) NJCAA National Championships\, Richmond\, VA
URL:https://www.iwcc.edu/event/mens-cross-country-njcaa-national-championships/
CATEGORIES:Men's Cross Country
END:VEVENT
BEGIN:VEVENT
DTSTART;VALUE=DATE:20211112
DTEND;VALUE=DATE:20211114
DTSTAMP:20260420T072611
CREATED:20211111T044431Z
LAST-MODIFIED:20211112T044427Z
UID:10004675-1636740000-1636826399@www.iwcc.edu
SUMMARY:(Women's Wrestling) Waldorf Open
DESCRIPTION:(Women’s Wrestling) Waldorf Open\, John K Hanson Fieldhouse – Forest City\, IA\, 9:00 AM
URL:https://www.iwcc.edu/event/womens-wrestling-waldorf-open/
CATEGORIES:Women's Wrestling
END:VEVENT
BEGIN:VEVENT
DTSTART;TZID=America/Chicago:20211112T190000
DTEND;TZID=America/Chicago:20211112T210000
DTSTAMP:20260420T072611
CREATED:20210815T192942Z
LAST-MODIFIED:20211019T162944Z
UID:10004868-1636743600-1636750800@www.iwcc.edu
SUMMARY:IWCC Theater: An Evening of One-Act Plays
DESCRIPTION:
URL:https://www.iwcc.edu/event/iwcc-theater-an-evening-of-one-act-plays-2/
LOCATION:Arts Center at Iowa Western\, 2700 College Road Arts Center\, Council Bluffs\, IA 51503\, USA
END:VEVENT
BEGIN:VEVENT
DTSTART;TZID=America/Chicago:20211112T200000
DTEND;TZID=America/Chicago:20211112T200000
DTSTAMP:20260420T072611
CREATED:20211104T042939Z
LAST-MODIFIED:20211112T044427Z
UID:10005246-1636747200-1636747200@www.iwcc.edu
SUMMARY:(Men's Basketball) Iowa Western at Kansas City Kansas Community College
DESCRIPTION:(Men’s Basketball) Iowa Western at Kansas City Kansas Community College\, Kansas City\, KS
URL:https://www.iwcc.edu/event/mens-basketball-iowa-western-at-kansas-city-kansas-community-college/
CATEGORIES:Men's Basketball
END:VEVENT
END:VCALENDAR