BEGIN:VCALENDAR
VERSION:2.0
PRODID:-//Iowa Western Community College - ECPv6.15.20//NONSGML v1.0//EN
CALSCALE:GREGORIAN
METHOD:PUBLISH
X-ORIGINAL-URL:https://www.iwcc.edu
X-WR-CALDESC:Events for Iowa Western Community College
REFRESH-INTERVAL;VALUE=DURATION:PT1H
X-Robots-Tag:noindex
X-PUBLISHED-TTL:PT1H
BEGIN:VTIMEZONE
TZID:America/Chicago
BEGIN:DAYLIGHT
TZOFFSETFROM:-0600
TZOFFSETTO:-0500
TZNAME:CDT
DTSTART:20210314T080000
END:DAYLIGHT
BEGIN:STANDARD
TZOFFSETFROM:-0500
TZOFFSETTO:-0600
TZNAME:CST
DTSTART:20211107T070000
END:STANDARD
BEGIN:DAYLIGHT
TZOFFSETFROM:-0600
TZOFFSETTO:-0500
TZNAME:CDT
DTSTART:20220313T080000
END:DAYLIGHT
BEGIN:STANDARD
TZOFFSETFROM:-0500
TZOFFSETTO:-0600
TZNAME:CST
DTSTART:20221106T070000
END:STANDARD
BEGIN:DAYLIGHT
TZOFFSETFROM:-0600
TZOFFSETTO:-0500
TZNAME:CDT
DTSTART:20230312T080000
END:DAYLIGHT
BEGIN:STANDARD
TZOFFSETFROM:-0500
TZOFFSETTO:-0600
TZNAME:CST
DTSTART:20231105T070000
END:STANDARD
END:VTIMEZONE
BEGIN:VEVENT
DTSTART;TZID=America/Chicago:20221129T173000
DTEND;TZID=America/Chicago:20221129T173000
DTSTAMP:20260421T190540
CREATED:20220923T081757Z
LAST-MODIFIED:20221129T223203Z
UID:10005215-1669743000-1669743000@www.iwcc.edu
SUMMARY:(Women's Basketball) Iowa Western at Rochester Community and Technical College
DESCRIPTION:(Women’s Basketball) Iowa Western at Rochester Community and Technical College\, Regional Sports Center – Rochester\, MN\, Cancelled
URL:https://www.iwcc.edu/event/womens-basketball-iowa-western-at-rochester-community-and-technical-college/
CATEGORIES:Women's Basketball
END:VEVENT
BEGIN:VEVENT
DTSTART;VALUE=DATE:20221129
DTEND;VALUE=DATE:20221201
DTSTAMP:20260421T190540
CREATED:20220901T064456Z
LAST-MODIFIED:20221129T223203Z
UID:10005804-1669744800-1669831199@www.iwcc.edu
SUMMARY:Iowa Central Dual
DESCRIPTION:Iowa Central Dual\, Fort Dodge\, IA
URL:https://www.iwcc.edu/event/iowa-central-dual/
END:VEVENT
BEGIN:VEVENT
DTSTART;TZID=America/Chicago:20221129T193000
DTEND;TZID=America/Chicago:20221129T193000
DTSTAMP:20260421T190540
CREATED:20220901T064457Z
LAST-MODIFIED:20221129T223203Z
UID:10005806-1669750200-1669750200@www.iwcc.edu
SUMMARY:(Men's Basketball) Iowa Western at Highland Community College - Kansas
DESCRIPTION:(Men’s Basketball) Iowa Western at Highland Community College – Kansas
URL:https://www.iwcc.edu/event/mens-basketball-iowa-western-at-highland-community-college-kansas/
CATEGORIES:Men's Basketball
END:VEVENT
END:VCALENDAR