BEGIN:VCALENDAR
VERSION:2.0
PRODID:-//Iowa Western Community College - ECPv6.15.20//NONSGML v1.0//EN
CALSCALE:GREGORIAN
METHOD:PUBLISH
X-WR-CALNAME:Iowa Western Community College
X-ORIGINAL-URL:https://www.iwcc.edu
X-WR-CALDESC:Events for Iowa Western Community College
REFRESH-INTERVAL;VALUE=DURATION:PT1H
X-Robots-Tag:noindex
X-PUBLISHED-TTL:PT1H
BEGIN:VTIMEZONE
TZID:America/Chicago
BEGIN:DAYLIGHT
TZOFFSETFROM:-0600
TZOFFSETTO:-0500
TZNAME:CDT
DTSTART:20210314T080000
END:DAYLIGHT
BEGIN:STANDARD
TZOFFSETFROM:-0500
TZOFFSETTO:-0600
TZNAME:CST
DTSTART:20211107T070000
END:STANDARD
BEGIN:DAYLIGHT
TZOFFSETFROM:-0600
TZOFFSETTO:-0500
TZNAME:CDT
DTSTART:20220313T080000
END:DAYLIGHT
BEGIN:STANDARD
TZOFFSETFROM:-0500
TZOFFSETTO:-0600
TZNAME:CST
DTSTART:20221106T070000
END:STANDARD
BEGIN:DAYLIGHT
TZOFFSETFROM:-0600
TZOFFSETTO:-0500
TZNAME:CDT
DTSTART:20230312T080000
END:DAYLIGHT
BEGIN:STANDARD
TZOFFSETFROM:-0500
TZOFFSETTO:-0600
TZNAME:CST
DTSTART:20231105T070000
END:STANDARD
END:VTIMEZONE
BEGIN:VEVENT
DTSTART;VALUE=DATE:20221209
DTEND;VALUE=DATE:20221211
DTSTAMP:20260421T210040
CREATED:20220911T065953Z
LAST-MODIFIED:20221209T004822Z
UID:10005816-1670608800-1670695199@www.iwcc.edu
SUMMARY:William Penn Quad
DESCRIPTION:William Penn Quad\, Oskaloosa\, IA
URL:https://www.iwcc.edu/event/william-penn-quad/
END:VEVENT
BEGIN:VEVENT
DTSTART;TZID=America/Chicago:20221210T100000
DTEND;TZID=America/Chicago:20221210T120000
DTSTAMP:20260421T210040
CREATED:20210830T190537Z
LAST-MODIFIED:20210830T190537Z
UID:10004528-1670666400-1670673600@www.iwcc.edu
SUMMARY:Winter Commencement Ceremony
DESCRIPTION:
URL:https://www.iwcc.edu/event/winter-commencement-ceremony-2/
LOCATION:Reiver Arena\, 2700 College Rd\, Council Bluffs\, IA\, 51503\, United States
CATEGORIES:Commencement & Graduation
END:VEVENT
BEGIN:VEVENT
DTSTART;TZID=America/Chicago:20221210T130000
DTEND;TZID=America/Chicago:20221210T130000
DTSTAMP:20260421T210040
CREATED:20220911T065953Z
LAST-MODIFIED:20221210T010306Z
UID:10005817-1670677200-1670677200@www.iwcc.edu
SUMMARY:(Women's Basketball) Iowa Western at Kirkwood Community College
DESCRIPTION:(Women’s Basketball) Iowa Western at Kirkwood Community College\, Johnson Hall – Cedar Rapids\, IA
URL:https://www.iwcc.edu/event/womens-basketball-iowa-western-at-kirkwood-community-college-3/
CATEGORIES:Women's Basketball
END:VEVENT
BEGIN:VEVENT
DTSTART;TZID=America/Chicago:20221210T150000
DTEND;TZID=America/Chicago:20221210T150000
DTSTAMP:20260421T210040
CREATED:20220911T065953Z
LAST-MODIFIED:20221210T010307Z
UID:10005818-1670684400-1670684400@www.iwcc.edu
SUMMARY:(Men's Basketball) Iowa Western at Kirkwood Community College
DESCRIPTION:(Men’s Basketball) Iowa Western at Kirkwood Community College\, Cedar Rapids\, IA
URL:https://www.iwcc.edu/event/mens-basketball-iowa-western-at-kirkwood-community-college-3/
CATEGORIES:Men's Basketball
END:VEVENT
END:VCALENDAR