BEGIN:VCALENDAR
VERSION:2.0
PRODID:-//Iowa Western Community College - ECPv6.15.20//NONSGML v1.0//EN
CALSCALE:GREGORIAN
METHOD:PUBLISH
X-ORIGINAL-URL:https://www.iwcc.edu
X-WR-CALDESC:Events for Iowa Western Community College
REFRESH-INTERVAL;VALUE=DURATION:PT1H
X-Robots-Tag:noindex
X-PUBLISHED-TTL:PT1H
BEGIN:VTIMEZONE
TZID:America/Chicago
BEGIN:DAYLIGHT
TZOFFSETFROM:-0600
TZOFFSETTO:-0500
TZNAME:CDT
DTSTART:20220313T080000
END:DAYLIGHT
BEGIN:STANDARD
TZOFFSETFROM:-0500
TZOFFSETTO:-0600
TZNAME:CST
DTSTART:20221106T070000
END:STANDARD
BEGIN:DAYLIGHT
TZOFFSETFROM:-0600
TZOFFSETTO:-0500
TZNAME:CDT
DTSTART:20230312T080000
END:DAYLIGHT
BEGIN:STANDARD
TZOFFSETFROM:-0500
TZOFFSETTO:-0600
TZNAME:CST
DTSTART:20231105T070000
END:STANDARD
BEGIN:DAYLIGHT
TZOFFSETFROM:-0600
TZOFFSETTO:-0500
TZNAME:CDT
DTSTART:20240310T080000
END:DAYLIGHT
BEGIN:STANDARD
TZOFFSETFROM:-0500
TZOFFSETTO:-0600
TZNAME:CST
DTSTART:20241103T070000
END:STANDARD
END:VTIMEZONE
BEGIN:VEVENT
DTSTART;TZID=America/Chicago:20230124T080000
DTEND;TZID=America/Chicago:20230124T163000
DTSTAMP:20260421T171611
CREATED:20230220T164223Z
LAST-MODIFIED:20230220T164223Z
UID:10006247-1674547200-1674577800@www.iwcc.edu
SUMMARY:National Compliment Day
DESCRIPTION:
URL:https://www.iwcc.edu/event/national-compliment-day/
CATEGORIES:Student Activities
ORGANIZER;CN="Campus Life":MAILTO:campuslife@iwcc.edu
END:VEVENT
BEGIN:VEVENT
DTSTART;TZID=America/Chicago:20230124T150000
DTEND;TZID=America/Chicago:20230124T160000
DTSTAMP:20260421T171611
CREATED:20230223T194750Z
LAST-MODIFIED:20230223T194750Z
UID:10006362-1674572400-1674576000@www.iwcc.edu
SUMMARY:Japanese Club Meeting
DESCRIPTION:Join fellow Iowa Western student and Club President\, Natsuki Takata\, for a weekly Japanese Club Meeting! \nLearn about the Japanese culture\, language and more 
URL:https://www.iwcc.edu/event/japanese-club-meeting/2023-01-24/
LOCATION:STC 2008 of Student Center\, 2700 College Rd\, Council Bluffs\, IA\, 51503\, United States
CATEGORIES:Student Activities
ORGANIZER;CN="Campus Life":MAILTO:campuslife@iwcc.edu
END:VEVENT
BEGIN:VEVENT
DTSTART;TZID=America/Chicago:20230124T180000
DTEND;TZID=America/Chicago:20230124T193000
DTSTAMP:20260421T171611
CREATED:20230220T161959Z
LAST-MODIFIED:20230220T161959Z
UID:10006237-1674583200-1674588600@www.iwcc.edu
SUMMARY:Therapy Dogs
DESCRIPTION:
URL:https://www.iwcc.edu/event/therapy-dogs-3/
CATEGORIES:Student Activities
ORGANIZER;CN="Campus Life":MAILTO:campuslife@iwcc.edu
END:VEVENT
BEGIN:VEVENT
DTSTART;VALUE=DATE:20230124
DTEND;VALUE=DATE:20230126
DTSTAMP:20260421T171611
CREATED:20221027T124516Z
LAST-MODIFIED:20230119T071747Z
UID:10005846-1674583200-1674669599@www.iwcc.edu
SUMMARY:NIACC Dual
DESCRIPTION:NIACC Dual\, Mason City\, IA
URL:https://www.iwcc.edu/event/niacc-dual/
END:VEVENT
BEGIN:VEVENT
DTSTART;VALUE=DATE:20230124
DTEND;VALUE=DATE:20230126
DTSTAMP:20260421T171611
CREATED:20230120T073140Z
LAST-MODIFIED:20230124T081647Z
UID:10005950-1674583200-1674669599@www.iwcc.edu
SUMMARY:(Women's Wrestling) NIACC Dual
DESCRIPTION:(Women’s Wrestling) NIACC Dual\, Mason City\, IA
URL:https://www.iwcc.edu/event/womens-wrestling-niacc-dual/
CATEGORIES:Women's Wrestling
END:VEVENT
END:VCALENDAR