BEGIN:VCALENDAR
VERSION:2.0
PRODID:-//Iowa Western Community College - ECPv6.15.20//NONSGML v1.0//EN
CALSCALE:GREGORIAN
METHOD:PUBLISH
X-WR-CALNAME:Iowa Western Community College
X-ORIGINAL-URL:https://www.iwcc.edu
X-WR-CALDESC:Events for Iowa Western Community College
REFRESH-INTERVAL;VALUE=DURATION:PT1H
X-Robots-Tag:noindex
X-PUBLISHED-TTL:PT1H
BEGIN:VTIMEZONE
TZID:America/Chicago
BEGIN:DAYLIGHT
TZOFFSETFROM:-0600
TZOFFSETTO:-0500
TZNAME:CDT
DTSTART:20220313T080000
END:DAYLIGHT
BEGIN:STANDARD
TZOFFSETFROM:-0500
TZOFFSETTO:-0600
TZNAME:CST
DTSTART:20221106T070000
END:STANDARD
BEGIN:DAYLIGHT
TZOFFSETFROM:-0600
TZOFFSETTO:-0500
TZNAME:CDT
DTSTART:20230312T080000
END:DAYLIGHT
BEGIN:STANDARD
TZOFFSETFROM:-0500
TZOFFSETTO:-0600
TZNAME:CST
DTSTART:20231105T070000
END:STANDARD
BEGIN:DAYLIGHT
TZOFFSETFROM:-0600
TZOFFSETTO:-0500
TZNAME:CDT
DTSTART:20240310T080000
END:DAYLIGHT
BEGIN:STANDARD
TZOFFSETFROM:-0500
TZOFFSETTO:-0600
TZNAME:CST
DTSTART:20241103T070000
END:STANDARD
END:VTIMEZONE
BEGIN:VEVENT
DTSTART;VALUE=DATE:20230411
DTEND;VALUE=DATE:20230413
DTSTAMP:20260422T154322
CREATED:20230326T043220Z
LAST-MODIFIED:20230411T160317Z
UID:10007086-1681239600-1681325999@www.iwcc.edu
SUMMARY:(Men's Track & Field) Mt. Sac
DESCRIPTION:(Men’s Track & Field) Mt. Sac
URL:https://www.iwcc.edu/event/mens-track-field-mt-sac/
CATEGORIES:Men's Track & Field
END:VEVENT
BEGIN:VEVENT
DTSTART;VALUE=DATE:20230411
DTEND;VALUE=DATE:20230413
DTSTAMP:20260422T154322
CREATED:20230326T043220Z
LAST-MODIFIED:20230411T160317Z
UID:10007087-1681239600-1681325999@www.iwcc.edu
SUMMARY:(Women's Track & Field) Mt. Sac
DESCRIPTION:(Women’s Track & Field) Mt. Sac
URL:https://www.iwcc.edu/event/womens-track-field-mt-sac/
CATEGORIES:Women's Track & Field
END:VEVENT
BEGIN:VEVENT
DTSTART;VALUE=DATE:20230412
DTEND;VALUE=DATE:20230413
DTSTAMP:20260422T154322
CREATED:20210830T195803Z
LAST-MODIFIED:20210830T195803Z
UID:10005088-1681257600-1681343999@www.iwcc.edu
SUMMARY:Fall Open Registration Begins
DESCRIPTION:
URL:https://www.iwcc.edu/event/fall-open-registration-begins/
LOCATION:Iowa Western Community College\, 2700 College Rd.\, Council Bluffs\, IA\, 51503\, United States
CATEGORIES:Term Registration Dates
END:VEVENT
BEGIN:VEVENT
DTSTART;TZID=America/Chicago:20230412T130000
DTEND;TZID=America/Chicago:20230412T130000
DTSTAMP:20260422T154322
CREATED:20230203T100349Z
LAST-MODIFIED:20230412T161651Z
UID:10006030-1681304400-1681304400@www.iwcc.edu
SUMMARY:(Baseball) Iowa Western at Southwestern Community College
DESCRIPTION:(Baseball) Iowa Western at Southwestern Community College
URL:https://www.iwcc.edu/event/baseball-iowa-western-at-southwestern-community-college-5/
CATEGORIES:Baseball
END:VEVENT
BEGIN:VEVENT
DTSTART;TZID=America/Chicago:20230412T140000
DTEND;TZID=America/Chicago:20230412T140000
DTSTAMP:20260422T154322
CREATED:20230203T100349Z
LAST-MODIFIED:20230412T161651Z
UID:10006031-1681308000-1681308000@www.iwcc.edu
SUMMARY:(Softball) Iowa Western at Indian Hills Community College
DESCRIPTION:(Softball) Iowa Western at Indian Hills Community College\, Ottumwa\, IA
URL:https://www.iwcc.edu/event/softball-iowa-western-at-indian-hills-community-college-8/
CATEGORIES:Softball
END:VEVENT
BEGIN:VEVENT
DTSTART;TZID=America/Chicago:20230412T150000
DTEND;TZID=America/Chicago:20230412T150000
DTSTAMP:20260422T154322
CREATED:20230317T030202Z
LAST-MODIFIED:20230412T161651Z
UID:10007079-1681311600-1681311600@www.iwcc.edu
SUMMARY:(Baseball) Iowa Western at Southwestern Community College
DESCRIPTION:(Baseball) Iowa Western at Southwestern Community College\, Cancelled
URL:https://www.iwcc.edu/event/baseball-iowa-western-at-southwestern-community-college-6/
CATEGORIES:Baseball
END:VEVENT
BEGIN:VEVENT
DTSTART;TZID=America/Chicago:20230412T160000
DTEND;TZID=America/Chicago:20230412T160000
DTSTAMP:20260422T154322
CREATED:20230203T100350Z
LAST-MODIFIED:20230412T161651Z
UID:10006032-1681315200-1681315200@www.iwcc.edu
SUMMARY:(Softball) Iowa Western at Indian Hills Community College
DESCRIPTION:(Softball) Iowa Western at Indian Hills Community College\, Ottumwa\, IA
URL:https://www.iwcc.edu/event/softball-iowa-western-at-indian-hills-community-college-9/
CATEGORIES:Softball
END:VEVENT
BEGIN:VEVENT
DTSTART;VALUE=DATE:20230412
DTEND;VALUE=DATE:20230414
DTSTAMP:20260422T154322
CREATED:20230307T013041Z
LAST-MODIFIED:20230412T161651Z
UID:10007066-1681326000-1681412399@www.iwcc.edu
SUMMARY:(Men's Track & Field) Kansas Relays
DESCRIPTION:(Men’s Track & Field) Kansas Relays\, Lawrence\, KS
URL:https://www.iwcc.edu/event/mens-track-field-kansas-relays-2/
CATEGORIES:Men's Track & Field
END:VEVENT
BEGIN:VEVENT
DTSTART;VALUE=DATE:20230412
DTEND;VALUE=DATE:20230414
DTSTAMP:20260422T154322
CREATED:20230307T013041Z
LAST-MODIFIED:20230412T161652Z
UID:10007067-1681326000-1681412399@www.iwcc.edu
SUMMARY:(Women's Track & Field) Kansas Relays
DESCRIPTION:(Women’s Track & Field) Kansas Relays\, Lawrence\, KS
URL:https://www.iwcc.edu/event/womens-track-field-kansas-relays-2/
CATEGORIES:Women's Track & Field
END:VEVENT
BEGIN:VEVENT
DTSTART;VALUE=DATE:20230412
DTEND;VALUE=DATE:20230414
DTSTAMP:20260422T154322
CREATED:20230326T043221Z
LAST-MODIFIED:20230412T161652Z
UID:10007088-1681326000-1681412399@www.iwcc.edu
SUMMARY:(Men's Track & Field) Bryant Clay Invite
DESCRIPTION:(Men’s Track & Field) Bryant Clay Invite
URL:https://www.iwcc.edu/event/mens-track-field-bryant-clay-invite/
CATEGORIES:Men's Track & Field
END:VEVENT
BEGIN:VEVENT
DTSTART;VALUE=DATE:20230412
DTEND;VALUE=DATE:20230414
DTSTAMP:20260422T154322
CREATED:20230326T043221Z
LAST-MODIFIED:20230412T161652Z
UID:10007089-1681326000-1681412399@www.iwcc.edu
SUMMARY:(Women's Track & Field) Bryant Clay Invite
DESCRIPTION:(Women’s Track & Field) Bryant Clay Invite
URL:https://www.iwcc.edu/event/womens-track-field-bryant-clay-invite/
CATEGORIES:Women's Track & Field
END:VEVENT
END:VCALENDAR