BEGIN:VCALENDAR
VERSION:2.0
PRODID:-//Iowa Western Community College - ECPv6.15.20//NONSGML v1.0//EN
CALSCALE:GREGORIAN
METHOD:PUBLISH
X-WR-CALNAME:Iowa Western Community College
X-ORIGINAL-URL:https://www.iwcc.edu
X-WR-CALDESC:Events for Iowa Western Community College
REFRESH-INTERVAL;VALUE=DURATION:PT1H
X-Robots-Tag:noindex
X-PUBLISHED-TTL:PT1H
BEGIN:VTIMEZONE
TZID:America/Chicago
BEGIN:DAYLIGHT
TZOFFSETFROM:-0600
TZOFFSETTO:-0500
TZNAME:CDT
DTSTART:20220313T080000
END:DAYLIGHT
BEGIN:STANDARD
TZOFFSETFROM:-0500
TZOFFSETTO:-0600
TZNAME:CST
DTSTART:20221106T070000
END:STANDARD
BEGIN:DAYLIGHT
TZOFFSETFROM:-0600
TZOFFSETTO:-0500
TZNAME:CDT
DTSTART:20230312T080000
END:DAYLIGHT
BEGIN:STANDARD
TZOFFSETFROM:-0500
TZOFFSETTO:-0600
TZNAME:CST
DTSTART:20231105T070000
END:STANDARD
BEGIN:DAYLIGHT
TZOFFSETFROM:-0600
TZOFFSETTO:-0500
TZNAME:CDT
DTSTART:20240310T080000
END:DAYLIGHT
BEGIN:STANDARD
TZOFFSETFROM:-0500
TZOFFSETTO:-0600
TZNAME:CST
DTSTART:20241103T070000
END:STANDARD
END:VTIMEZONE
BEGIN:VEVENT
DTSTART;VALUE=DATE:20230825
DTEND;VALUE=DATE:20230827
DTSTAMP:20260421T175143
CREATED:20230819T213102Z
LAST-MODIFIED:20230825T221916Z
UID:10007276-1692990000-1693076399@www.iwcc.edu
SUMMARY:Freshman Shoot
DESCRIPTION:Freshman Shoot
URL:https://www.iwcc.edu/event/freshman-shoot/
CATEGORIES:Athletics
END:VEVENT
BEGIN:VEVENT
DTSTART;VALUE=DATE:20230826
DTEND;VALUE=DATE:20230827
DTSTAMP:20260421T175143
CREATED:20220331T134614Z
LAST-MODIFIED:20220331T134614Z
UID:10005622-1693008000-1693094399@www.iwcc.edu
SUMMARY:Saturday Classes Begin
DESCRIPTION:
URL:https://www.iwcc.edu/event/saturday-classes-begin-7/
CATEGORIES:Term Start & End Dates
END:VEVENT
BEGIN:VEVENT
DTSTART;TZID=America/Chicago:20230826T090000
DTEND;TZID=America/Chicago:20230826T090000
DTSTAMP:20260421T175143
CREATED:20230801T231829Z
LAST-MODIFIED:20230825T221916Z
UID:10007157-1693040400-1693040400@www.iwcc.edu
SUMMARY:(Women's Volleyball) Iowa Western vs. Miami Dade College
DESCRIPTION:(Women’s Volleyball) Iowa Western vs. Miami Dade College\, Jefferson College Classic
URL:https://www.iwcc.edu/event/womens-volleyball-iowa-western-vs-miami-dade-college-3/
LOCATION:Jefferson College
CATEGORIES:Athletics,Women's Volleyball
END:VEVENT
BEGIN:VEVENT
DTSTART;TZID=America/Chicago:20230826T100000
DTEND;TZID=America/Chicago:20230826T100000
DTSTAMP:20260421T175143
CREATED:20230801T231829Z
LAST-MODIFIED:20230825T221916Z
UID:10007159-1693044000-1693044000@www.iwcc.edu
SUMMARY:(Men's Soccer) Barton Community College vs. Iowa Western
DESCRIPTION:(Men’s Soccer) Barton Community College vs. Iowa Western\, Reiver Sports Complex | Council Bluffs\, IA
URL:https://www.iwcc.edu/event/mens-soccer-barton-community-college-vs-iowa-western-3/
CATEGORIES:Athletics,Men's Soccer
END:VEVENT
BEGIN:VEVENT
DTSTART;TZID=America/Chicago:20230826T110000
DTEND;TZID=America/Chicago:20230826T110000
DTSTAMP:20260421T175143
CREATED:20230801T231828Z
LAST-MODIFIED:20230825T221916Z
UID:10007156-1693047600-1693047600@www.iwcc.edu
SUMMARY:(Women's Volleyball) College of Southern Idaho vs. Iowa Western
DESCRIPTION:(Women’s Volleyball) College of Southern Idaho vs. Iowa Western
URL:https://www.iwcc.edu/event/womens-volleyball-tba-vs-iowa-western-3/
LOCATION:Jefferson College
CATEGORIES:Athletics,Women's Volleyball
END:VEVENT
BEGIN:VEVENT
DTSTART;TZID=America/Chicago:20230826T110000
DTEND;TZID=America/Chicago:20230826T110000
DTSTAMP:20260421T175143
CREATED:20230801T231829Z
LAST-MODIFIED:20230825T221917Z
UID:10007158-1693047600-1693047600@www.iwcc.edu
SUMMARY:(Football) Iowa Western at Dodge City Community College
DESCRIPTION:(Football) Iowa Western at Dodge City Community College\, Memorial Stadium | Dodge City\, KS
URL:https://www.iwcc.edu/event/football-iowa-western-at-dodge-city-community-college-2/
CATEGORIES:Athletics,Football
END:VEVENT
BEGIN:VEVENT
DTSTART;VALUE=DATE:20230826
DTEND;VALUE=DATE:20230828
DTSTAMP:20260421T175143
CREATED:20230819T213103Z
LAST-MODIFIED:20230826T223235Z
UID:10007277-1693076400-1693162799@www.iwcc.edu
SUMMARY:Freshman Shoot
DESCRIPTION:Freshman Shoot
URL:https://www.iwcc.edu/event/freshman-shoot-2/
CATEGORIES:Athletics
END:VEVENT
END:VCALENDAR