BEGIN:VCALENDAR
VERSION:2.0
PRODID:-//Iowa Western Community College - ECPv6.15.20//NONSGML v1.0//EN
CALSCALE:GREGORIAN
METHOD:PUBLISH
X-ORIGINAL-URL:https://www.iwcc.edu
X-WR-CALDESC:Events for Iowa Western Community College
REFRESH-INTERVAL;VALUE=DURATION:PT1H
X-Robots-Tag:noindex
X-PUBLISHED-TTL:PT1H
BEGIN:VTIMEZONE
TZID:America/Chicago
BEGIN:DAYLIGHT
TZOFFSETFROM:-0600
TZOFFSETTO:-0500
TZNAME:CDT
DTSTART:20230312T080000
END:DAYLIGHT
BEGIN:STANDARD
TZOFFSETFROM:-0500
TZOFFSETTO:-0600
TZNAME:CST
DTSTART:20231105T070000
END:STANDARD
BEGIN:DAYLIGHT
TZOFFSETFROM:-0600
TZOFFSETTO:-0500
TZNAME:CDT
DTSTART:20240310T080000
END:DAYLIGHT
BEGIN:STANDARD
TZOFFSETFROM:-0500
TZOFFSETTO:-0600
TZNAME:CST
DTSTART:20241103T070000
END:STANDARD
BEGIN:DAYLIGHT
TZOFFSETFROM:-0600
TZOFFSETTO:-0500
TZNAME:CDT
DTSTART:20250309T080000
END:DAYLIGHT
BEGIN:STANDARD
TZOFFSETFROM:-0500
TZOFFSETTO:-0600
TZNAME:CST
DTSTART:20251102T070000
END:STANDARD
END:VTIMEZONE
BEGIN:VEVENT
DTSTART;TZID=America/Chicago:20240511T130000
DTEND;TZID=America/Chicago:20240511T130000
DTSTAMP:20260422T130155
CREATED:20240506T224854Z
LAST-MODIFIED:20240510T234527Z
UID:10008226-1715432400-1715432400@www.iwcc.edu
SUMMARY:(Softball) Crowder College vs. Iowa Western
DESCRIPTION:(Softball) Crowder College vs. Iowa Western\, Midwest District Championship – Game 1
URL:https://www.iwcc.edu/event/softball-crowder-college-vs-iowa-western-3/
LOCATION:Council Bluffs\, IA
CATEGORIES:Athletics,Softball
END:VEVENT
BEGIN:VEVENT
DTSTART;TZID=America/Chicago:20240511T140000
DTEND;TZID=America/Chicago:20240511T140000
DTSTAMP:20260422T130155
CREATED:20240508T231909Z
LAST-MODIFIED:20240510T234528Z
UID:10008231-1715436000-1715436000@www.iwcc.edu
SUMMARY:(Baseball) Indian Hills Community College vs. Iowa Western
DESCRIPTION:(Baseball) Indian Hills Community College vs. Iowa Western\, NJCAA Region 11 Tournament
URL:https://www.iwcc.edu/event/baseball-indian-hills-community-college-vs-iowa-western-12/
CATEGORIES:Athletics,Baseball
END:VEVENT
BEGIN:VEVENT
DTSTART;TZID=America/Chicago:20240511T150000
DTEND;TZID=America/Chicago:20240511T150000
DTSTAMP:20260422T130155
CREATED:20240506T224856Z
LAST-MODIFIED:20240510T234529Z
UID:10008227-1715439600-1715439600@www.iwcc.edu
SUMMARY:(Softball) Iowa Western vs. Crowder College
DESCRIPTION:(Softball) Iowa Western vs. Crowder College\, Midwest District Championship – Game 2
URL:https://www.iwcc.edu/event/softball-iowa-western-vs-crowder-college/
LOCATION:Council Bluffs\, IA
CATEGORIES:Athletics,Softball
END:VEVENT
END:VCALENDAR