BEGIN:VCALENDAR
VERSION:2.0
PRODID:-//Iowa Western Community College - ECPv6.15.20//NONSGML v1.0//EN
CALSCALE:GREGORIAN
METHOD:PUBLISH
X-WR-CALNAME:Iowa Western Community College
X-ORIGINAL-URL:https://www.iwcc.edu
X-WR-CALDESC:Events for Iowa Western Community College
REFRESH-INTERVAL;VALUE=DURATION:PT1H
X-Robots-Tag:noindex
X-PUBLISHED-TTL:PT1H
BEGIN:VTIMEZONE
TZID:America/Chicago
BEGIN:DAYLIGHT
TZOFFSETFROM:-0600
TZOFFSETTO:-0500
TZNAME:CDT
DTSTART:20240310T080000
END:DAYLIGHT
BEGIN:STANDARD
TZOFFSETFROM:-0500
TZOFFSETTO:-0600
TZNAME:CST
DTSTART:20241103T070000
END:STANDARD
BEGIN:DAYLIGHT
TZOFFSETFROM:-0600
TZOFFSETTO:-0500
TZNAME:CDT
DTSTART:20250309T080000
END:DAYLIGHT
BEGIN:STANDARD
TZOFFSETFROM:-0500
TZOFFSETTO:-0600
TZNAME:CST
DTSTART:20251102T070000
END:STANDARD
BEGIN:DAYLIGHT
TZOFFSETFROM:-0600
TZOFFSETTO:-0500
TZNAME:CDT
DTSTART:20260308T080000
END:DAYLIGHT
BEGIN:STANDARD
TZOFFSETFROM:-0500
TZOFFSETTO:-0600
TZNAME:CST
DTSTART:20261101T070000
END:STANDARD
END:VTIMEZONE
BEGIN:VEVENT
DTSTART;TZID=America/Chicago:20250402T090000
DTEND;TZID=America/Chicago:20250402T090000
DTSTAMP:20260421T155141
CREATED:20250101T221838Z
LAST-MODIFIED:20250401T164655Z
UID:10008839-1743584400-1743584400@www.iwcc.edu
SUMMARY:(Women's Golf) Bulldog Spring Invite-Hosted by Concordia University
DESCRIPTION:(Women’s Golf) Bulldog Spring Invite-Hosted by Concordia University\, Highlands Golf Course-Lincoln\, NE
URL:https://www.iwcc.edu/event/womens-golf-bulldog-spring-invite-hosted-by-concordia-university-6/
CATEGORIES:Athletics,Women's Golf
END:VEVENT
BEGIN:VEVENT
DTSTART;TZID=America/Chicago:20250402T190000
DTEND;TZID=America/Chicago:20250402T210000
DTSTAMP:20260421T155141
CREATED:20250129T153214Z
LAST-MODIFIED:20250129T153214Z
UID:10008996-1743620400-1743627600@www.iwcc.edu
SUMMARY:CSF Club Meeting
DESCRIPTION:CSF (Christian Student Fellowship)\nExplore what it means to follow Jesus in a welcoming community where you can grow in faith\, have meaningful conversations\, and serve alongside others.
URL:https://www.iwcc.edu/event/csf-club-meeting/2025-04-02/
LOCATION:STC 2008 of Student Center\, 2700 College Rd\, Council Bluffs\, IA\, 51503\, United States
CATEGORIES:Student Activities
ORGANIZER;CN="Campus Life":MAILTO:campuslife@iwcc.edu
END:VEVENT
END:VCALENDAR