BEGIN:VCALENDAR
VERSION:2.0
PRODID:-//Iowa Western Community College - ECPv6.15.20//NONSGML v1.0//EN
CALSCALE:GREGORIAN
METHOD:PUBLISH
X-WR-CALNAME:Iowa Western Community College
X-ORIGINAL-URL:https://www.iwcc.edu
X-WR-CALDESC:Events for Iowa Western Community College
REFRESH-INTERVAL;VALUE=DURATION:PT1H
X-Robots-Tag:noindex
X-PUBLISHED-TTL:PT1H
BEGIN:VTIMEZONE
TZID:America/Chicago
BEGIN:DAYLIGHT
TZOFFSETFROM:-0600
TZOFFSETTO:-0500
TZNAME:CDT
DTSTART:20240310T080000
END:DAYLIGHT
BEGIN:STANDARD
TZOFFSETFROM:-0500
TZOFFSETTO:-0600
TZNAME:CST
DTSTART:20241103T070000
END:STANDARD
BEGIN:DAYLIGHT
TZOFFSETFROM:-0600
TZOFFSETTO:-0500
TZNAME:CDT
DTSTART:20250309T080000
END:DAYLIGHT
BEGIN:STANDARD
TZOFFSETFROM:-0500
TZOFFSETTO:-0600
TZNAME:CST
DTSTART:20251102T070000
END:STANDARD
BEGIN:DAYLIGHT
TZOFFSETFROM:-0600
TZOFFSETTO:-0500
TZNAME:CDT
DTSTART:20260308T080000
END:DAYLIGHT
BEGIN:STANDARD
TZOFFSETFROM:-0500
TZOFFSETTO:-0600
TZNAME:CST
DTSTART:20261101T070000
END:STANDARD
END:VTIMEZONE
BEGIN:VEVENT
DTSTART;TZID=America/Chicago:20250514T090000
DTEND;TZID=America/Chicago:20250514T090000
DTSTAMP:20260422T155946
CREATED:20250213T235115Z
LAST-MODIFIED:20250512T234837Z
UID:10009200-1747213200-1747213200@www.iwcc.edu
SUMMARY:(Men's Golf) NJCAA National Championship
DESCRIPTION:(Men’s Golf) NJCAA National Championship\, Sand Creek Station Golf Course-Newton\, KS
URL:https://www.iwcc.edu/event/mens-golf-njcaa-national-championship-10/
CATEGORIES:Athletics,Men's Golf
END:VEVENT
BEGIN:VEVENT
DTSTART;TZID=America/Chicago:20250514T090000
DTEND;TZID=America/Chicago:20250514T090000
DTSTAMP:20260422T155946
CREATED:20250213T235116Z
LAST-MODIFIED:20250512T234838Z
UID:10009201-1747213200-1747213200@www.iwcc.edu
SUMMARY:(Women's Golf) NJCAA National Championship
DESCRIPTION:(Women’s Golf) NJCAA National Championship\, Buffalo Dunes Golf Course-Garden City\, KS
URL:https://www.iwcc.edu/event/womens-golf-njcaa-national-championship-11/
CATEGORIES:Athletics,Women's Golf
END:VEVENT
BEGIN:VEVENT
DTSTART;TZID=America/Chicago:20250514T150000
DTEND;TZID=America/Chicago:20250514T150000
DTSTAMP:20260422T155946
CREATED:20250512T234839Z
LAST-MODIFIED:20250514T154702Z
UID:10009278-1747234800-1747234800@www.iwcc.edu
SUMMARY:(Baseball) Iowa Western at McHenry County College
DESCRIPTION:(Baseball) Iowa Western at McHenry County College\, Midwest District Tournament – Game 2
URL:https://www.iwcc.edu/event/baseball-iowa-western-at-mchenry-county-college/
CATEGORIES:Athletics,Baseball
END:VEVENT
BEGIN:VEVENT
DTSTART;TZID=America/Chicago:20250514T190000
DTEND;TZID=America/Chicago:20250514T210000
DTSTAMP:20260422T155946
CREATED:20250129T153214Z
LAST-MODIFIED:20250129T153214Z
UID:10009002-1747249200-1747256400@www.iwcc.edu
SUMMARY:CSF Club Meeting
DESCRIPTION:CSF (Christian Student Fellowship)\nExplore what it means to follow Jesus in a welcoming community where you can grow in faith\, have meaningful conversations\, and serve alongside others.
URL:https://www.iwcc.edu/event/csf-club-meeting/2025-05-14/
LOCATION:STC 2008 of Student Center\, 2700 College Rd\, Council Bluffs\, IA\, 51503\, United States
CATEGORIES:Student Activities
ORGANIZER;CN="Campus Life":MAILTO:campuslife@iwcc.edu
END:VEVENT
BEGIN:VEVENT
DTSTART;VALUE=DATE:20250514
DTEND;VALUE=DATE:20250516
DTSTAMP:20260422T155946
CREATED:20250215T155014Z
LAST-MODIFIED:20250514T154703Z
UID:10009202-1747249200-1747335599@www.iwcc.edu
SUMMARY:(Women's Track & Field) NJCAA National Championships
DESCRIPTION:(Women’s Track & Field) NJCAA National Championships\, Hutchinson\, KS
URL:https://www.iwcc.edu/event/womens-track-field-njcaa-national-championships/
CATEGORIES:Athletics,Women's Track & Field
END:VEVENT
BEGIN:VEVENT
DTSTART;VALUE=DATE:20250514
DTEND;VALUE=DATE:20250516
DTSTAMP:20260422T155946
CREATED:20250215T155014Z
LAST-MODIFIED:20250514T154704Z
UID:10009203-1747249200-1747335599@www.iwcc.edu
SUMMARY:(Men's Track & Field) NJCAA National Championships
DESCRIPTION:(Men’s Track & Field) NJCAA National Championships\, Hutchinson\, KS
URL:https://www.iwcc.edu/event/mens-track-field-njcaa-national-championships/
CATEGORIES:Athletics,Men's Track & Field
END:VEVENT
END:VCALENDAR