BEGIN:VCALENDAR
VERSION:2.0
PRODID:-//Iowa Western Community College - ECPv6.15.20//NONSGML v1.0//EN
CALSCALE:GREGORIAN
METHOD:PUBLISH
X-ORIGINAL-URL:https://www.iwcc.edu
X-WR-CALDESC:Events for Iowa Western Community College
REFRESH-INTERVAL;VALUE=DURATION:PT1H
X-Robots-Tag:noindex
X-PUBLISHED-TTL:PT1H
BEGIN:VTIMEZONE
TZID:America/Chicago
BEGIN:DAYLIGHT
TZOFFSETFROM:-0600
TZOFFSETTO:-0500
TZNAME:CDT
DTSTART:20250309T080000
END:DAYLIGHT
BEGIN:STANDARD
TZOFFSETFROM:-0500
TZOFFSETTO:-0600
TZNAME:CST
DTSTART:20251102T070000
END:STANDARD
BEGIN:DAYLIGHT
TZOFFSETFROM:-0600
TZOFFSETTO:-0500
TZNAME:CDT
DTSTART:20260308T080000
END:DAYLIGHT
BEGIN:STANDARD
TZOFFSETFROM:-0500
TZOFFSETTO:-0600
TZNAME:CST
DTSTART:20261101T070000
END:STANDARD
BEGIN:DAYLIGHT
TZOFFSETFROM:-0600
TZOFFSETTO:-0500
TZNAME:CDT
DTSTART:20270314T080000
END:DAYLIGHT
BEGIN:STANDARD
TZOFFSETFROM:-0500
TZOFFSETTO:-0600
TZNAME:CST
DTSTART:20271107T070000
END:STANDARD
END:VTIMEZONE
BEGIN:VEVENT
DTSTART;TZID=America/Chicago:20260114T173000
DTEND;TZID=America/Chicago:20260114T173000
DTSTAMP:20260421T033210
CREATED:20251114T153627Z
LAST-MODIFIED:20260114T182937Z
UID:10009385-1768411800-1768411800@www.iwcc.edu
SUMMARY:(Women's Basketball) Des Moines Area Community College vs. Iowa Western
DESCRIPTION:(Women’s Basketball) Des Moines Area Community College vs. Iowa Western\, Reiver Arena | Council Bluffs\, IA
URL:https://www.iwcc.edu/event/womens-basketball-des-moines-area-community-college-vs-iowa-western-6/
CATEGORIES:Athletics,Women's Basketball
END:VEVENT
BEGIN:VEVENT
DTSTART;TZID=America/Chicago:20260114T180000
DTEND;TZID=America/Chicago:20260114T180000
DTSTAMP:20260421T033210
CREATED:20251114T153626Z
LAST-MODIFIED:20260114T182939Z
UID:10009383-1768413600-1768413600@www.iwcc.edu
SUMMARY:(Women's Wrestling) NIACC Dual
DESCRIPTION:(Women’s Wrestling) NIACC Dual\, Mason City\, IA
URL:https://www.iwcc.edu/event/womens-wrestling-niacc-dual-4/
CATEGORIES:Athletics,Women's Wrestling
END:VEVENT
BEGIN:VEVENT
DTSTART;TZID=America/Chicago:20260114T190000
DTEND;TZID=America/Chicago:20260114T190000
DTSTAMP:20260421T033210
CREATED:20251114T153626Z
LAST-MODIFIED:20260114T182940Z
UID:10009384-1768417200-1768417200@www.iwcc.edu
SUMMARY:(Wrestling) NIACC Dual
DESCRIPTION:(Wrestling) NIACC Dual\, Mason City\, IA
URL:https://www.iwcc.edu/event/wrestling-niacc-dual-5/
CATEGORIES:Athletics,Wrestling
END:VEVENT
BEGIN:VEVENT
DTSTART;TZID=America/Chicago:20260114T193000
DTEND;TZID=America/Chicago:20260114T193000
DTSTAMP:20260421T033210
CREATED:20251114T153628Z
LAST-MODIFIED:20260114T182941Z
UID:10009386-1768419000-1768419000@www.iwcc.edu
SUMMARY:(Men's Basketball) Des Moines Area Community College vs. Iowa Western
DESCRIPTION:(Men’s Basketball) Des Moines Area Community College vs. Iowa Western\, Reiver Arena | Council Bluffs\, IA
URL:https://www.iwcc.edu/event/mens-basketball-des-moines-area-community-college-vs-iowa-western-6/
CATEGORIES:Athletics,Men's Basketball
END:VEVENT
END:VCALENDAR