BEGIN:VCALENDAR
VERSION:2.0
PRODID:-//Iowa Western Community College - ECPv6.15.20//NONSGML v1.0//EN
CALSCALE:GREGORIAN
METHOD:PUBLISH
X-WR-CALNAME:Iowa Western Community College
X-ORIGINAL-URL:https://www.iwcc.edu
X-WR-CALDESC:Events for Iowa Western Community College
REFRESH-INTERVAL;VALUE=DURATION:PT1H
X-Robots-Tag:noindex
X-PUBLISHED-TTL:PT1H
BEGIN:VTIMEZONE
TZID:America/Chicago
BEGIN:DAYLIGHT
TZOFFSETFROM:-0600
TZOFFSETTO:-0500
TZNAME:CDT
DTSTART:20250309T080000
END:DAYLIGHT
BEGIN:STANDARD
TZOFFSETFROM:-0500
TZOFFSETTO:-0600
TZNAME:CST
DTSTART:20251102T070000
END:STANDARD
BEGIN:DAYLIGHT
TZOFFSETFROM:-0600
TZOFFSETTO:-0500
TZNAME:CDT
DTSTART:20260308T080000
END:DAYLIGHT
BEGIN:STANDARD
TZOFFSETFROM:-0500
TZOFFSETTO:-0600
TZNAME:CST
DTSTART:20261101T070000
END:STANDARD
BEGIN:DAYLIGHT
TZOFFSETFROM:-0600
TZOFFSETTO:-0500
TZNAME:CDT
DTSTART:20270314T080000
END:DAYLIGHT
BEGIN:STANDARD
TZOFFSETFROM:-0500
TZOFFSETTO:-0600
TZNAME:CST
DTSTART:20271107T070000
END:STANDARD
END:VTIMEZONE
BEGIN:VEVENT
DTSTART;VALUE=DATE:20260123
DTEND;VALUE=DATE:20260125
DTSTAMP:20260422T012632
CREATED:20251114T153640Z
LAST-MODIFIED:20260123T203427Z
UID:10009399-1769191200-1769277599@www.iwcc.edu
SUMMARY:(Men's Bowling) MIBC #3/Championship
DESCRIPTION:(Men’s Bowling) MIBC #3/Championship\, Cedar Rapids\, IA
URL:https://www.iwcc.edu/event/mens-bowling-mibc-3-championship/
CATEGORIES:Athletics,Men's Bowling
END:VEVENT
BEGIN:VEVENT
DTSTART;VALUE=DATE:20260123
DTEND;VALUE=DATE:20260125
DTSTAMP:20260422T012632
CREATED:20251114T153641Z
LAST-MODIFIED:20260123T203425Z
UID:10009400-1769191200-1769277599@www.iwcc.edu
SUMMARY:(Women's Bowling) MIBC #3/Championship
DESCRIPTION:(Women’s Bowling) MIBC #3/Championship\, Cedar Rapids\, IA
URL:https://www.iwcc.edu/event/womens-bowling-mibc-3-championship/
CATEGORIES:Athletics,Women's Bowling
END:VEVENT
BEGIN:VEVENT
DTSTART;VALUE=DATE:20260123
DTEND;VALUE=DATE:20260125
DTSTAMP:20260422T012632
CREATED:20251114T153641Z
LAST-MODIFIED:20260123T203427Z
UID:10009401-1769191200-1769277599@www.iwcc.edu
SUMMARY:(Women's Wrestling) National Duals
DESCRIPTION:(Women’s Wrestling) National Duals\, Ephraim\, UT\, Cancelled
URL:https://www.iwcc.edu/event/womens-wrestling-national-duals-2/
CATEGORIES:Athletics,Women's Wrestling
END:VEVENT
BEGIN:VEVENT
DTSTART;VALUE=DATE:20260123
DTEND;VALUE=DATE:20260125
DTSTAMP:20260422T012632
CREATED:20260109T171845Z
LAST-MODIFIED:20260123T203428Z
UID:10009601-1769191200-1769277599@www.iwcc.edu
SUMMARY:(Women's Track & Field) Bob Teel Invitational
DESCRIPTION:(Women’s Track & Field) Bob Teel Invitational\, Columbia\, MO\, Cancelled
URL:https://www.iwcc.edu/event/womens-track-field-bob-teel-invitational/
CATEGORIES:Athletics,Women's Track & Field
END:VEVENT
BEGIN:VEVENT
DTSTART;VALUE=DATE:20260123
DTEND;VALUE=DATE:20260125
DTSTAMP:20260422T012632
CREATED:20260109T171847Z
LAST-MODIFIED:20260123T203429Z
UID:10009603-1769191200-1769277599@www.iwcc.edu
SUMMARY:(Men's Track & Field) Bob Teel Invitational
DESCRIPTION:(Men’s Track & Field) Bob Teel Invitational\, Columbia\, MO\, Cancelled
URL:https://www.iwcc.edu/event/mens-track-field-bob-teel-invitational/
CATEGORIES:Athletics,Men's Track & Field
END:VEVENT
BEGIN:VEVENT
DTSTART;TZID=America/Chicago:20260124T120000
DTEND;TZID=America/Chicago:20260124T120000
DTSTAMP:20260422T012632
CREATED:20251114T153642Z
LAST-MODIFIED:20260123T203430Z
UID:10009402-1769256000-1769256000@www.iwcc.edu
SUMMARY:(Women's Swimming & Diving) Midland Dual
DESCRIPTION:(Women’s Swimming & Diving) Midland Dual\, Fremont\, NE
URL:https://www.iwcc.edu/event/womens-swimming-diving-midland-dual/
CATEGORIES:Athletics,Women's Swimming & Diving
END:VEVENT
BEGIN:VEVENT
DTSTART;TZID=America/Chicago:20260124T120000
DTEND;TZID=America/Chicago:20260124T120000
DTSTAMP:20260422T012632
CREATED:20251114T153643Z
LAST-MODIFIED:20260123T203430Z
UID:10009403-1769256000-1769256000@www.iwcc.edu
SUMMARY:(Men's Swimming & Diving) Midland Dual
DESCRIPTION:(Men’s Swimming & Diving) Midland Dual\, Fremont\, NE
URL:https://www.iwcc.edu/event/mens-swimming-diving-midland-dual/
CATEGORIES:Athletics,Men's Swimming & Diving
END:VEVENT
BEGIN:VEVENT
DTSTART;TZID=America/Chicago:20260124T130000
DTEND;TZID=America/Chicago:20260124T130000
DTSTAMP:20260422T012632
CREATED:20251114T153644Z
LAST-MODIFIED:20260123T203431Z
UID:10009404-1769259600-1769259600@www.iwcc.edu
SUMMARY:(Women's Basketball) Iowa Central Community College vs. Iowa Western
DESCRIPTION:(Women’s Basketball) Iowa Central Community College vs. Iowa Western\, Reiver Arena | Council Bluffs\, IA
URL:https://www.iwcc.edu/event/womens-basketball-iowa-central-community-college-vs-iowa-western-7/
CATEGORIES:Athletics,Women's Basketball
END:VEVENT
BEGIN:VEVENT
DTSTART;TZID=America/Chicago:20260124T150000
DTEND;TZID=America/Chicago:20260124T150000
DTSTAMP:20260422T012632
CREATED:20251114T153645Z
LAST-MODIFIED:20260124T204605Z
UID:10009405-1769266800-1769266800@www.iwcc.edu
SUMMARY:(Men's Basketball) Iowa Central Community College vs. Iowa Western
DESCRIPTION:(Men’s Basketball) Iowa Central Community College vs. Iowa Western\, Reiver Arena | Council Bluffs\, IA
URL:https://www.iwcc.edu/event/mens-basketball-iowa-central-community-college-vs-iowa-western-6/
CATEGORIES:Athletics,Men's Basketball
END:VEVENT
BEGIN:VEVENT
DTSTART;VALUE=DATE:20260124
DTEND;VALUE=DATE:20260126
DTSTAMP:20260422T012632
CREATED:20251114T153646Z
LAST-MODIFIED:20260124T204608Z
UID:10009406-1769277600-1769363999@www.iwcc.edu
SUMMARY:(Men's Bowling) MIBC #3/Championship
DESCRIPTION:(Men’s Bowling) MIBC #3/Championship\, Cedar Rapids\, IA
URL:https://www.iwcc.edu/event/mens-bowling-mibc-3-championship-2/
CATEGORIES:Athletics,Men's Bowling
END:VEVENT
BEGIN:VEVENT
DTSTART;VALUE=DATE:20260124
DTEND;VALUE=DATE:20260126
DTSTAMP:20260422T012632
CREATED:20251114T153646Z
LAST-MODIFIED:20260124T204607Z
UID:10009407-1769277600-1769363999@www.iwcc.edu
SUMMARY:(Women's Bowling) MIBC #3/Championship
DESCRIPTION:(Women’s Bowling) MIBC #3/Championship\, Cedar Rapids\, IA
URL:https://www.iwcc.edu/event/womens-bowling-mibc-3-championship-2/
CATEGORIES:Athletics,Women's Bowling
END:VEVENT
END:VCALENDAR