BEGIN:VCALENDAR
VERSION:2.0
PRODID:-//Iowa Western Community College - ECPv6.15.20//NONSGML v1.0//EN
CALSCALE:GREGORIAN
METHOD:PUBLISH
X-WR-CALNAME:Iowa Western Community College
X-ORIGINAL-URL:https://www.iwcc.edu
X-WR-CALDESC:Events for Iowa Western Community College
REFRESH-INTERVAL;VALUE=DURATION:PT1H
X-Robots-Tag:noindex
X-PUBLISHED-TTL:PT1H
BEGIN:VTIMEZONE
TZID:America/Chicago
BEGIN:DAYLIGHT
TZOFFSETFROM:-0600
TZOFFSETTO:-0500
TZNAME:CDT
DTSTART:20250309T080000
END:DAYLIGHT
BEGIN:STANDARD
TZOFFSETFROM:-0500
TZOFFSETTO:-0600
TZNAME:CST
DTSTART:20251102T070000
END:STANDARD
BEGIN:DAYLIGHT
TZOFFSETFROM:-0600
TZOFFSETTO:-0500
TZNAME:CDT
DTSTART:20260308T080000
END:DAYLIGHT
BEGIN:STANDARD
TZOFFSETFROM:-0500
TZOFFSETTO:-0600
TZNAME:CST
DTSTART:20261101T070000
END:STANDARD
BEGIN:DAYLIGHT
TZOFFSETFROM:-0600
TZOFFSETTO:-0500
TZNAME:CDT
DTSTART:20270314T080000
END:DAYLIGHT
BEGIN:STANDARD
TZOFFSETFROM:-0500
TZOFFSETTO:-0600
TZNAME:CST
DTSTART:20271107T070000
END:STANDARD
END:VTIMEZONE
BEGIN:VEVENT
DTSTART;VALUE=DATE:20260220
DTEND;VALUE=DATE:20260222
DTSTAMP:20260421T090325
CREATED:20260109T171947Z
LAST-MODIFIED:20260220T190123Z
UID:10009618-1771610400-1771696799@www.iwcc.edu
SUMMARY:(Women's Track & Field) Region 11 Championships
DESCRIPTION:(Women’s Track & Field) Region 11 Championships\, Storm Lake\, IA
URL:https://www.iwcc.edu/event/womens-track-field-region-11-championships-7/
CATEGORIES:Athletics,Women's Track & Field
END:VEVENT
BEGIN:VEVENT
DTSTART;VALUE=DATE:20260220
DTEND;VALUE=DATE:20260222
DTSTAMP:20260421T090325
CREATED:20260109T171947Z
LAST-MODIFIED:20260220T190124Z
UID:10009619-1771610400-1771696799@www.iwcc.edu
SUMMARY:(Men's Track & Field) Region 11 Championships
DESCRIPTION:(Men’s Track & Field) Region 11 Championships\, Storm Lake\, IA
URL:https://www.iwcc.edu/event/mens-track-field-region-11-championships-7/
CATEGORIES:Athletics,Men's Track & Field
END:VEVENT
BEGIN:VEVENT
DTSTART;VALUE=DATE:20260220
DTEND;VALUE=DATE:20260222
DTSTAMP:20260421T090325
CREATED:20260114T183114Z
LAST-MODIFIED:20260220T190125Z
UID:10009678-1771610400-1771696799@www.iwcc.edu
SUMMARY:Midland Dual
DESCRIPTION:Midland Dual\, Brainard\, NE
URL:https://www.iwcc.edu/event/midland-dual/
CATEGORIES:Athletics
END:VEVENT
BEGIN:VEVENT
DTSTART;TZID=America/Chicago:20260221T130000
DTEND;TZID=America/Chicago:20260221T130000
DTSTAMP:20260421T090325
CREATED:20251123T170444Z
LAST-MODIFIED:20260220T190125Z
UID:10009442-1771678800-1771678800@www.iwcc.edu
SUMMARY:(Women's Basketball) Iowa Western at Ellsworth Community College
DESCRIPTION:(Women’s Basketball) Iowa Western at Ellsworth Community College\, Dittmer Gym / Iowa Falls\, Iowa
URL:https://www.iwcc.edu/event/womens-basketball-iowa-western-at-ellsworth-community-college-6/
CATEGORIES:Athletics,Women's Basketball
END:VEVENT
BEGIN:VEVENT
DTSTART;TZID=America/Chicago:20260221T130000
DTEND;TZID=America/Chicago:20260221T130000
DTSTAMP:20260421T090325
CREATED:20260107T170328Z
LAST-MODIFIED:20260220T190127Z
UID:10009533-1771678800-1771678800@www.iwcc.edu
SUMMARY:(Softball) Iowa Western vs. Northeastern Oklahoma AM College
DESCRIPTION:(Softball) Iowa Western vs. Northeastern Oklahoma AM College\, Cancelled
URL:https://www.iwcc.edu/event/softball-northeastern-oklahoma-am-college-vs-iowa-western/
LOCATION:Neosho County Community College
CATEGORIES:Athletics,Softball
END:VEVENT
BEGIN:VEVENT
DTSTART;TZID=America/Chicago:20260221T140000
DTEND;TZID=America/Chicago:20260221T140000
DTSTAMP:20260421T090325
CREATED:20260107T170326Z
LAST-MODIFIED:20260221T191658Z
UID:10009532-1771682400-1771682400@www.iwcc.edu
SUMMARY:(Softball) Iowa Western vs. Barton Community College
DESCRIPTION:(Softball) Iowa Western vs. Barton Community College\, Cancelled
URL:https://www.iwcc.edu/event/softball-iowa-western-vs-barton-community-college/
LOCATION:Chanute\, KS
CATEGORIES:Athletics,Softball
END:VEVENT
BEGIN:VEVENT
DTSTART;TZID=America/Chicago:20260221T150000
DTEND;TZID=America/Chicago:20260221T150000
DTSTAMP:20260421T090325
CREATED:20251123T170447Z
LAST-MODIFIED:20260221T191659Z
UID:10009443-1771686000-1771686000@www.iwcc.edu
SUMMARY:(Men's Basketball) Iowa Western at Ellsworth Community College
DESCRIPTION:(Men’s Basketball) Iowa Western at Ellsworth Community College\, Dittmer Gym | Iowa Falls\, Iowa
URL:https://www.iwcc.edu/event/mens-basketball-iowa-western-at-ellsworth-community-college-6/
CATEGORIES:Athletics,Men's Basketball
END:VEVENT
BEGIN:VEVENT
DTSTART;VALUE=DATE:20260221
DTEND;VALUE=DATE:20260223
DTSTAMP:20260421T090325
CREATED:20260114T183119Z
LAST-MODIFIED:20260221T191700Z
UID:10009679-1771696800-1771783199@www.iwcc.edu
SUMMARY:Midland Dual
DESCRIPTION:Midland Dual\, Brainard\, NE
URL:https://www.iwcc.edu/event/midland-dual-2/
CATEGORIES:Athletics
END:VEVENT
END:VCALENDAR