BEGIN:VCALENDAR
VERSION:2.0
PRODID:-//Iowa Western Community College - ECPv6.15.20//NONSGML v1.0//EN
CALSCALE:GREGORIAN
METHOD:PUBLISH
X-WR-CALNAME:Iowa Western Community College
X-ORIGINAL-URL:https://www.iwcc.edu
X-WR-CALDESC:Events for Iowa Western Community College
REFRESH-INTERVAL;VALUE=DURATION:PT1H
X-Robots-Tag:noindex
X-PUBLISHED-TTL:PT1H
BEGIN:VTIMEZONE
TZID:America/Chicago
BEGIN:DAYLIGHT
TZOFFSETFROM:-0600
TZOFFSETTO:-0500
TZNAME:CDT
DTSTART:20220313T080000
END:DAYLIGHT
BEGIN:STANDARD
TZOFFSETFROM:-0500
TZOFFSETTO:-0600
TZNAME:CST
DTSTART:20221106T070000
END:STANDARD
BEGIN:DAYLIGHT
TZOFFSETFROM:-0600
TZOFFSETTO:-0500
TZNAME:CDT
DTSTART:20230312T080000
END:DAYLIGHT
BEGIN:STANDARD
TZOFFSETFROM:-0500
TZOFFSETTO:-0600
TZNAME:CST
DTSTART:20231105T070000
END:STANDARD
BEGIN:DAYLIGHT
TZOFFSETFROM:-0600
TZOFFSETTO:-0500
TZNAME:CDT
DTSTART:20240310T080000
END:DAYLIGHT
BEGIN:STANDARD
TZOFFSETFROM:-0500
TZOFFSETTO:-0600
TZNAME:CST
DTSTART:20241103T070000
END:STANDARD
END:VTIMEZONE
BEGIN:VEVENT
DTSTART;TZID=America/Chicago:20230111T173000
DTEND;TZID=America/Chicago:20230111T173000
DTSTAMP:20260421T054126
CREATED:20221013T111551Z
LAST-MODIFIED:20230111T060241Z
UID:10005828-1673458200-1673458200@www.iwcc.edu
SUMMARY:(Women's Basketball) Kansas City Kansas Community College vs. Iowa Western
DESCRIPTION:(Women’s Basketball) Kansas City Kansas Community College vs. Iowa Western\, Reiver Arena – Council Bluffs\, IA
URL:https://www.iwcc.edu/event/womens-basketball-kansas-city-kansas-community-college-vs-iowa-western/
CATEGORIES:Women's Basketball
END:VEVENT
BEGIN:VEVENT
DTSTART;VALUE=DATE:20230112
DTEND;VALUE=DATE:20230114
DTSTAMP:20260421T054126
CREATED:20230106T033440Z
LAST-MODIFIED:20230112T060326Z
UID:10005880-1673546400-1673632799@www.iwcc.edu
SUMMARY:(Women's Track & Field) University of Nebraska
DESCRIPTION:(Women’s Track & Field) University of Nebraska\, Lincoln\, NE
URL:https://www.iwcc.edu/event/womens-track-field-university-of-nebraska/
CATEGORIES:Women's Track & Field
END:VEVENT
BEGIN:VEVENT
DTSTART;VALUE=DATE:20230112
DTEND;VALUE=DATE:20230114
DTSTAMP:20260421T054126
CREATED:20230106T033440Z
LAST-MODIFIED:20230112T060326Z
UID:10005881-1673546400-1673632799@www.iwcc.edu
SUMMARY:(Women's Track & Field) Mt. Marty
DESCRIPTION:(Women’s Track & Field) Mt. Marty\, Yankton\, SD
URL:https://www.iwcc.edu/event/womens-track-field-mt-marty/
CATEGORIES:Women's Track & Field
END:VEVENT
BEGIN:VEVENT
DTSTART;VALUE=DATE:20230112
DTEND;VALUE=DATE:20230114
DTSTAMP:20260421T054126
CREATED:20230106T033441Z
LAST-MODIFIED:20230112T060326Z
UID:10005882-1673546400-1673632799@www.iwcc.edu
SUMMARY:(Men's Track & Field) University of Nebraska
DESCRIPTION:(Men’s Track & Field) University of Nebraska\, Lincoln\, NE
URL:https://www.iwcc.edu/event/mens-track-field-university-of-nebraska/
CATEGORIES:Men's Track & Field
END:VEVENT
BEGIN:VEVENT
DTSTART;VALUE=DATE:20230113
DTEND;VALUE=DATE:20230115
DTSTAMP:20260421T054126
CREATED:20230106T033442Z
LAST-MODIFIED:20230113T060407Z
UID:10005883-1673632800-1673719199@www.iwcc.edu
SUMMARY:(Men's Track & Field) University of Nebraska
DESCRIPTION:(Men’s Track & Field) University of Nebraska\, Lincoln\, NE
URL:https://www.iwcc.edu/event/mens-track-field-university-of-nebraska-2/
CATEGORIES:Men's Track & Field
END:VEVENT
BEGIN:VEVENT
DTSTART;VALUE=DATE:20230113
DTEND;VALUE=DATE:20230115
DTSTAMP:20260421T054126
CREATED:20230106T033443Z
LAST-MODIFIED:20230113T060408Z
UID:10005884-1673632800-1673719199@www.iwcc.edu
SUMMARY:(Men's Track & Field) Mt. Marty
DESCRIPTION:(Men’s Track & Field) Mt. Marty\, Yankton\, SD
URL:https://www.iwcc.edu/event/mens-track-field-mt-marty/
CATEGORIES:Men's Track & Field
END:VEVENT
BEGIN:VEVENT
DTSTART;VALUE=DATE:20230113
DTEND;VALUE=DATE:20230115
DTSTAMP:20260421T054126
CREATED:20230106T033443Z
LAST-MODIFIED:20230113T060407Z
UID:10005885-1673632800-1673719199@www.iwcc.edu
SUMMARY:(Women's Track & Field) Mt. Marty
DESCRIPTION:(Women’s Track & Field) Mt. Marty\, Yankton\, SD
URL:https://www.iwcc.edu/event/womens-track-field-mt-marty-2/
CATEGORIES:Women's Track & Field
END:VEVENT
BEGIN:VEVENT
DTSTART;VALUE=DATE:20230113
DTEND;VALUE=DATE:20230115
DTSTAMP:20260421T054126
CREATED:20230106T033444Z
LAST-MODIFIED:20230113T060407Z
UID:10005886-1673632800-1673719199@www.iwcc.edu
SUMMARY:(Women's Track & Field) University of Nebraska
DESCRIPTION:(Women’s Track & Field) University of Nebraska\, Lincoln\, NE
URL:https://www.iwcc.edu/event/womens-track-field-university-of-nebraska-2/
CATEGORIES:Women's Track & Field
END:VEVENT
BEGIN:VEVENT
DTSTART;VALUE=DATE:20230113
DTEND;VALUE=DATE:20230115
DTSTAMP:20260421T054126
CREATED:20230106T033446Z
LAST-MODIFIED:20230113T060407Z
UID:10005887-1673632800-1673719199@www.iwcc.edu
SUMMARY:(Men's Bowling) Kegel/ISBPA Midwest Collegiate Classic
DESCRIPTION:(Men’s Bowling) Kegel/ISBPA Midwest Collegiate Classic\, Tier 1
URL:https://www.iwcc.edu/event/mens-bowling-kegel-isbpa-midwest-collegiate-classic-3/
LOCATION:Addison\, IL
CATEGORIES:Men's Bowling
END:VEVENT
BEGIN:VEVENT
DTSTART;VALUE=DATE:20230113
DTEND;VALUE=DATE:20230115
DTSTAMP:20260421T054126
CREATED:20230106T033447Z
LAST-MODIFIED:20230113T060408Z
UID:10005888-1673632800-1673719199@www.iwcc.edu
SUMMARY:(Women's Bowling) Kegel/ISBPA Midwest Collegiate Classic
DESCRIPTION:(Women’s Bowling) Kegel/ISBPA Midwest Collegiate Classic\, Tier 1
URL:https://www.iwcc.edu/event/womens-bowling-kegel-isbpa-midwest-collegiate-classic-3/
LOCATION:Addison\, IL
CATEGORIES:Women's Bowling
END:VEVENT
BEGIN:VEVENT
DTSTART;TZID=America/Chicago:20230114T130000
DTEND;TZID=America/Chicago:20230114T130000
DTSTAMP:20260421T054126
CREATED:20221016T114433Z
LAST-MODIFIED:20230114T061925Z
UID:10005830-1673701200-1673701200@www.iwcc.edu
SUMMARY:(Women's Basketball) Iowa Western at Iowa Central Community College
DESCRIPTION:(Women’s Basketball) Iowa Western at Iowa Central Community College\, Hodges Fieldhouse – Fort Dodge\, IA
URL:https://www.iwcc.edu/event/womens-basketball-iowa-western-at-iowa-central-community-college-3/
CATEGORIES:Women's Basketball
END:VEVENT
BEGIN:VEVENT
DTSTART;TZID=America/Chicago:20230114T150000
DTEND;TZID=America/Chicago:20230114T150000
DTSTAMP:20260421T054126
CREATED:20221016T114433Z
LAST-MODIFIED:20230114T061925Z
UID:10005831-1673708400-1673708400@www.iwcc.edu
SUMMARY:(Men's Basketball) Iowa Western at Iowa Central Community College
DESCRIPTION:(Men’s Basketball) Iowa Western at Iowa Central Community College\, Fort Dodge\, IA
URL:https://www.iwcc.edu/event/mens-basketball-iowa-western-at-iowa-central-community-college-3/
CATEGORIES:Men's Basketball
END:VEVENT
BEGIN:VEVENT
DTSTART;VALUE=DATE:20230114
DTEND;VALUE=DATE:20230116
DTSTAMP:20260421T054126
CREATED:20230106T033449Z
LAST-MODIFIED:20230114T061925Z
UID:10005889-1673719200-1673805599@www.iwcc.edu
SUMMARY:(Women's Bowling) Kegel/ISBPA Midwest Collegiate Classic
DESCRIPTION:(Women’s Bowling) Kegel/ISBPA Midwest Collegiate Classic\, Tier 1
URL:https://www.iwcc.edu/event/womens-bowling-kegel-isbpa-midwest-collegiate-classic-4/
LOCATION:Addison\, IL
CATEGORIES:Women's Bowling
END:VEVENT
BEGIN:VEVENT
DTSTART;VALUE=DATE:20230114
DTEND;VALUE=DATE:20230116
DTSTAMP:20260421T054126
CREATED:20230106T033450Z
LAST-MODIFIED:20230114T061926Z
UID:10005890-1673719200-1673805599@www.iwcc.edu
SUMMARY:(Men's Bowling) Kegel/ISBPA Midwest Collegiate Classic
DESCRIPTION:(Men’s Bowling) Kegel/ISBPA Midwest Collegiate Classic\, Tier 1
URL:https://www.iwcc.edu/event/mens-bowling-kegel-isbpa-midwest-collegiate-classic-4/
LOCATION:Addison\, IL
CATEGORIES:Men's Bowling
END:VEVENT
BEGIN:VEVENT
DTSTART;TZID=America/Chicago:20230115T100000
DTEND;TZID=America/Chicago:20230115T100000
DTSTAMP:20260421T054126
CREATED:20230105T031613Z
LAST-MODIFIED:20230115T063409Z
UID:10005876-1673776800-1673776800@www.iwcc.edu
SUMMARY:(Wrestling) Roger Denker Open
DESCRIPTION:(Wrestling) Roger Denker Open\, Warrensburg\, MO
URL:https://www.iwcc.edu/event/wrestling-roger-denker-open/
CATEGORIES:Wrestling
END:VEVENT
BEGIN:VEVENT
DTSTART;TZID=America/Chicago:20230117T173000
DTEND;TZID=America/Chicago:20230117T173000
DTSTAMP:20260421T054126
CREATED:20221019T114522Z
LAST-MODIFIED:20230116T064606Z
UID:10005834-1673976600-1673976600@www.iwcc.edu
SUMMARY:(Women's Basketball) Des Moines Area Community College vs. Iowa Western
DESCRIPTION:(Women’s Basketball) Des Moines Area Community College vs. Iowa Western\, Reiver Arena – Council Bluffs\, IA
URL:https://www.iwcc.edu/event/womens-basketball-des-moines-area-community-college-vs-iowa-western-3/
CATEGORIES:Women's Basketball
END:VEVENT
BEGIN:VEVENT
DTSTART;TZID=America/Chicago:20230117T193000
DTEND;TZID=America/Chicago:20230117T193000
DTSTAMP:20260421T054126
CREATED:20221020T114714Z
LAST-MODIFIED:20230116T064606Z
UID:10005838-1673983800-1673983800@www.iwcc.edu
SUMMARY:(Men's Basketball) Des Moines Area Community College vs. Iowa Western
DESCRIPTION:(Men’s Basketball) Des Moines Area Community College vs. Iowa Western\, Council Bluffs\, IA
URL:https://www.iwcc.edu/event/mens-basketball-des-moines-area-community-college-vs-iowa-western-3/
CATEGORIES:Men's Basketball
END:VEVENT
BEGIN:VEVENT
DTSTART;VALUE=DATE:20230119
DTEND;VALUE=DATE:20230121
DTSTAMP:20260421T054126
CREATED:20230106T033708Z
LAST-MODIFIED:20230119T071746Z
UID:10005891-1674151200-1674237599@www.iwcc.edu
SUMMARY:(Women's Track & Field) Northwest Open
DESCRIPTION:(Women’s Track & Field) Northwest Open\, Maryville\, MO
URL:https://www.iwcc.edu/event/womens-track-field-northwest-open-2/
CATEGORIES:Women's Track & Field
END:VEVENT
BEGIN:VEVENT
DTSTART;VALUE=DATE:20230119
DTEND;VALUE=DATE:20230121
DTSTAMP:20260421T054126
CREATED:20230106T033708Z
LAST-MODIFIED:20230119T071746Z
UID:10005892-1674151200-1674237599@www.iwcc.edu
SUMMARY:(Men's Track & Field) Northwest Open
DESCRIPTION:(Men’s Track & Field) Northwest Open\, Maryville\, MO
URL:https://www.iwcc.edu/event/mens-track-field-northwest-open-2/
CATEGORIES:Men's Track & Field
END:VEVENT
BEGIN:VEVENT
DTSTART;TZID=America/Chicago:20230120T140000
DTEND;TZID=America/Chicago:20230120T140000
DTSTAMP:20260421T054126
CREATED:20221020T114714Z
LAST-MODIFIED:20230120T073139Z
UID:10005837-1674223200-1674223200@www.iwcc.edu
SUMMARY:(Wrestling) Indian Hills Dual
DESCRIPTION:(Wrestling) Indian Hills Dual\, Reiver Arena | Council Bluffs\, IA
URL:https://www.iwcc.edu/event/wrestling-indian-hills-dual-2/
CATEGORIES:Wrestling
END:VEVENT
BEGIN:VEVENT
DTSTART;VALUE=DATE:20230120
DTEND;VALUE=DATE:20230122
DTSTAMP:20260421T054126
CREATED:20230106T033708Z
LAST-MODIFIED:20230120T073139Z
UID:10005893-1674237600-1674323999@www.iwcc.edu
SUMMARY:(Men's Bowling) Clarke Invite
DESCRIPTION:(Men’s Bowling) Clarke Invite
URL:https://www.iwcc.edu/event/mens-bowling-clarke-invite/
LOCATION:Dubuque\, IA
CATEGORIES:Men's Bowling
END:VEVENT
BEGIN:VEVENT
DTSTART;VALUE=DATE:20230120
DTEND;VALUE=DATE:20230122
DTSTAMP:20260421T054126
CREATED:20230106T033709Z
LAST-MODIFIED:20230120T073139Z
UID:10005894-1674237600-1674323999@www.iwcc.edu
SUMMARY:(Women's Bowling) Clarke Invite
DESCRIPTION:(Women’s Bowling) Clarke Invite
URL:https://www.iwcc.edu/event/womens-bowling-clarke-invite/
LOCATION:Dubuque\, IA
CATEGORIES:Women's Bowling
END:VEVENT
BEGIN:VEVENT
DTSTART;TZID=America/Chicago:20230120T190000
DTEND;TZID=America/Chicago:20230120T190000
DTSTAMP:20260421T054126
CREATED:20221023T121749Z
LAST-MODIFIED:20230120T073140Z
UID:10005839-1674241200-1674241200@www.iwcc.edu
SUMMARY:(Men's Basketball) Graceland University JV vs. Iowa Western
DESCRIPTION:(Men’s Basketball) Graceland University JV vs. Iowa Western
URL:https://www.iwcc.edu/event/mens-basketball-graceland-university-jv-vs-iowa-western/
CATEGORIES:Men's Basketball
END:VEVENT
BEGIN:VEVENT
DTSTART;TZID=America/Chicago:20230121T130000
DTEND;TZID=America/Chicago:20230121T130000
DTSTAMP:20260421T054126
CREATED:20221023T121749Z
LAST-MODIFIED:20230120T073140Z
UID:10005840-1674306000-1674306000@www.iwcc.edu
SUMMARY:(Women's Basketball) Southeastern Community College vs. Iowa Western
DESCRIPTION:(Women’s Basketball) Southeastern Community College vs. Iowa Western\, Reiver Arena – Council Bluffs\, IA\, Cancelled
URL:https://www.iwcc.edu/event/womens-basketball-southeastern-community-college-vs-iowa-western-4/
CATEGORIES:Women's Basketball
END:VEVENT
BEGIN:VEVENT
DTSTART;TZID=America/Chicago:20230121T130000
DTEND;TZID=America/Chicago:20230121T130000
DTSTAMP:20260421T054126
CREATED:20230105T031616Z
LAST-MODIFIED:20230120T073140Z
UID:10005877-1674306000-1674306000@www.iwcc.edu
SUMMARY:(Women's Basketball) Iowa Western at Southwestern Illinois College
DESCRIPTION:(Women’s Basketball) Iowa Western at Southwestern Illinois College\, Belleville\, IL
URL:https://www.iwcc.edu/event/womens-basketball-iowa-western-at-southwestern-illinois-college/
CATEGORIES:Women's Basketball
END:VEVENT
BEGIN:VEVENT
DTSTART;VALUE=DATE:20230121
DTEND;VALUE=DATE:20230123
DTSTAMP:20260421T054126
CREATED:20230106T033709Z
LAST-MODIFIED:20230120T073140Z
UID:10005895-1674324000-1674410399@www.iwcc.edu
SUMMARY:(Women's Bowling) Clarke Invite
DESCRIPTION:(Women’s Bowling) Clarke Invite
URL:https://www.iwcc.edu/event/womens-bowling-clarke-invite-2/
LOCATION:Dubuque\, IA
CATEGORIES:Women's Bowling
END:VEVENT
BEGIN:VEVENT
DTSTART;VALUE=DATE:20230121
DTEND;VALUE=DATE:20230123
DTSTAMP:20260421T054126
CREATED:20230106T033710Z
LAST-MODIFIED:20230120T073140Z
UID:10005896-1674324000-1674410399@www.iwcc.edu
SUMMARY:(Men's Bowling) Clarke Invite
DESCRIPTION:(Men’s Bowling) Clarke Invite
URL:https://www.iwcc.edu/event/mens-bowling-clarke-invite-2/
LOCATION:Dubuque\, IA
CATEGORIES:Men's Bowling
END:VEVENT
BEGIN:VEVENT
DTSTART;VALUE=DATE:20230124
DTEND;VALUE=DATE:20230126
DTSTAMP:20260421T054126
CREATED:20230120T073140Z
LAST-MODIFIED:20230124T081647Z
UID:10005950-1674583200-1674669599@www.iwcc.edu
SUMMARY:(Women's Wrestling) NIACC Dual
DESCRIPTION:(Women’s Wrestling) NIACC Dual\, Mason City\, IA
URL:https://www.iwcc.edu/event/womens-wrestling-niacc-dual/
CATEGORIES:Women's Wrestling
END:VEVENT
BEGIN:VEVENT
DTSTART;TZID=America/Chicago:20230125T190000
DTEND;TZID=America/Chicago:20230125T190000
DTSTAMP:20260421T054126
CREATED:20221027T124516Z
LAST-MODIFIED:20230125T083157Z
UID:10005847-1674673200-1674673200@www.iwcc.edu
SUMMARY:(Wrestling) NIACC Dual
DESCRIPTION:(Wrestling) NIACC Dual\, Mason City\, IA
URL:https://www.iwcc.edu/event/wrestling-niacc-dual-2/
CATEGORIES:Wrestling
END:VEVENT
BEGIN:VEVENT
DTSTART;TZID=America/Chicago:20230126T173000
DTEND;TZID=America/Chicago:20230126T173000
DTSTAMP:20260421T054126
CREATED:20221028T124834Z
LAST-MODIFIED:20230125T083158Z
UID:10005851-1674754200-1674754200@www.iwcc.edu
SUMMARY:(Women's Basketball) Kirkwood Community College vs. Iowa Western
DESCRIPTION:(Women’s Basketball) Kirkwood Community College vs. Iowa Western\, Reiver Arena – Council Bluffs\, IA
URL:https://www.iwcc.edu/event/womens-basketball-kirkwood-community-college-vs-iowa-western-3/
CATEGORIES:Women's Basketball
END:VEVENT
END:VCALENDAR