BEGIN:VCALENDAR
VERSION:2.0
PRODID:-//Iowa Western Community College - ECPv6.15.20//NONSGML v1.0//EN
CALSCALE:GREGORIAN
METHOD:PUBLISH
X-WR-CALNAME:Iowa Western Community College
X-ORIGINAL-URL:https://www.iwcc.edu
X-WR-CALDESC:Events for Iowa Western Community College
REFRESH-INTERVAL;VALUE=DURATION:PT1H
X-Robots-Tag:noindex
X-PUBLISHED-TTL:PT1H
BEGIN:VTIMEZONE
TZID:America/Chicago
BEGIN:DAYLIGHT
TZOFFSETFROM:-0600
TZOFFSETTO:-0500
TZNAME:CDT
DTSTART:20220313T080000
END:DAYLIGHT
BEGIN:STANDARD
TZOFFSETFROM:-0500
TZOFFSETTO:-0600
TZNAME:CST
DTSTART:20221106T070000
END:STANDARD
BEGIN:DAYLIGHT
TZOFFSETFROM:-0600
TZOFFSETTO:-0500
TZNAME:CDT
DTSTART:20230312T080000
END:DAYLIGHT
BEGIN:STANDARD
TZOFFSETFROM:-0500
TZOFFSETTO:-0600
TZNAME:CST
DTSTART:20231105T070000
END:STANDARD
BEGIN:DAYLIGHT
TZOFFSETFROM:-0600
TZOFFSETTO:-0500
TZNAME:CDT
DTSTART:20240310T080000
END:DAYLIGHT
BEGIN:STANDARD
TZOFFSETFROM:-0500
TZOFFSETTO:-0600
TZNAME:CST
DTSTART:20241103T070000
END:STANDARD
END:VTIMEZONE
BEGIN:VEVENT
DTSTART;VALUE=DATE:20230120
DTEND;VALUE=DATE:20230122
DTSTAMP:20260421T220952
CREATED:20230106T033708Z
LAST-MODIFIED:20230120T073139Z
UID:10005893-1674237600-1674323999@www.iwcc.edu
SUMMARY:(Men's Bowling) Clarke Invite
DESCRIPTION:(Men’s Bowling) Clarke Invite
URL:https://www.iwcc.edu/event/mens-bowling-clarke-invite/
LOCATION:Dubuque\, IA
CATEGORIES:Men's Bowling
END:VEVENT
BEGIN:VEVENT
DTSTART;VALUE=DATE:20230120
DTEND;VALUE=DATE:20230122
DTSTAMP:20260421T220952
CREATED:20230106T033709Z
LAST-MODIFIED:20230120T073139Z
UID:10005894-1674237600-1674323999@www.iwcc.edu
SUMMARY:(Women's Bowling) Clarke Invite
DESCRIPTION:(Women’s Bowling) Clarke Invite
URL:https://www.iwcc.edu/event/womens-bowling-clarke-invite/
LOCATION:Dubuque\, IA
CATEGORIES:Women's Bowling
END:VEVENT
BEGIN:VEVENT
DTSTART;TZID=America/Chicago:20230120T190000
DTEND;TZID=America/Chicago:20230120T190000
DTSTAMP:20260421T220952
CREATED:20221023T121749Z
LAST-MODIFIED:20230120T073140Z
UID:10005839-1674241200-1674241200@www.iwcc.edu
SUMMARY:(Men's Basketball) Graceland University JV vs. Iowa Western
DESCRIPTION:(Men’s Basketball) Graceland University JV vs. Iowa Western
URL:https://www.iwcc.edu/event/mens-basketball-graceland-university-jv-vs-iowa-western/
CATEGORIES:Men's Basketball
END:VEVENT
BEGIN:VEVENT
DTSTART;TZID=America/Chicago:20230121T130000
DTEND;TZID=America/Chicago:20230121T130000
DTSTAMP:20260421T220952
CREATED:20221023T121749Z
LAST-MODIFIED:20230120T073140Z
UID:10005840-1674306000-1674306000@www.iwcc.edu
SUMMARY:(Women's Basketball) Southeastern Community College vs. Iowa Western
DESCRIPTION:(Women’s Basketball) Southeastern Community College vs. Iowa Western\, Reiver Arena – Council Bluffs\, IA\, Cancelled
URL:https://www.iwcc.edu/event/womens-basketball-southeastern-community-college-vs-iowa-western-4/
CATEGORIES:Women's Basketball
END:VEVENT
BEGIN:VEVENT
DTSTART;TZID=America/Chicago:20230121T130000
DTEND;TZID=America/Chicago:20230121T130000
DTSTAMP:20260421T220952
CREATED:20230105T031616Z
LAST-MODIFIED:20230120T073140Z
UID:10005877-1674306000-1674306000@www.iwcc.edu
SUMMARY:(Women's Basketball) Iowa Western at Southwestern Illinois College
DESCRIPTION:(Women’s Basketball) Iowa Western at Southwestern Illinois College\, Belleville\, IL
URL:https://www.iwcc.edu/event/womens-basketball-iowa-western-at-southwestern-illinois-college/
CATEGORIES:Women's Basketball
END:VEVENT
BEGIN:VEVENT
DTSTART;VALUE=DATE:20230121
DTEND;VALUE=DATE:20230123
DTSTAMP:20260421T220952
CREATED:20230106T033709Z
LAST-MODIFIED:20230120T073140Z
UID:10005895-1674324000-1674410399@www.iwcc.edu
SUMMARY:(Women's Bowling) Clarke Invite
DESCRIPTION:(Women’s Bowling) Clarke Invite
URL:https://www.iwcc.edu/event/womens-bowling-clarke-invite-2/
LOCATION:Dubuque\, IA
CATEGORIES:Women's Bowling
END:VEVENT
BEGIN:VEVENT
DTSTART;VALUE=DATE:20230121
DTEND;VALUE=DATE:20230123
DTSTAMP:20260421T220952
CREATED:20230106T033710Z
LAST-MODIFIED:20230120T073140Z
UID:10005896-1674324000-1674410399@www.iwcc.edu
SUMMARY:(Men's Bowling) Clarke Invite
DESCRIPTION:(Men’s Bowling) Clarke Invite
URL:https://www.iwcc.edu/event/mens-bowling-clarke-invite-2/
LOCATION:Dubuque\, IA
CATEGORIES:Men's Bowling
END:VEVENT
BEGIN:VEVENT
DTSTART;VALUE=DATE:20230124
DTEND;VALUE=DATE:20230126
DTSTAMP:20260421T220952
CREATED:20230120T073140Z
LAST-MODIFIED:20230124T081647Z
UID:10005950-1674583200-1674669599@www.iwcc.edu
SUMMARY:(Women's Wrestling) NIACC Dual
DESCRIPTION:(Women’s Wrestling) NIACC Dual\, Mason City\, IA
URL:https://www.iwcc.edu/event/womens-wrestling-niacc-dual/
CATEGORIES:Women's Wrestling
END:VEVENT
BEGIN:VEVENT
DTSTART;TZID=America/Chicago:20230125T190000
DTEND;TZID=America/Chicago:20230125T190000
DTSTAMP:20260421T220952
CREATED:20221027T124516Z
LAST-MODIFIED:20230125T083157Z
UID:10005847-1674673200-1674673200@www.iwcc.edu
SUMMARY:(Wrestling) NIACC Dual
DESCRIPTION:(Wrestling) NIACC Dual\, Mason City\, IA
URL:https://www.iwcc.edu/event/wrestling-niacc-dual-2/
CATEGORIES:Wrestling
END:VEVENT
BEGIN:VEVENT
DTSTART;TZID=America/Chicago:20230126T173000
DTEND;TZID=America/Chicago:20230126T173000
DTSTAMP:20260421T220952
CREATED:20221028T124834Z
LAST-MODIFIED:20230125T083158Z
UID:10005851-1674754200-1674754200@www.iwcc.edu
SUMMARY:(Women's Basketball) Kirkwood Community College vs. Iowa Western
DESCRIPTION:(Women’s Basketball) Kirkwood Community College vs. Iowa Western\, Reiver Arena – Council Bluffs\, IA
URL:https://www.iwcc.edu/event/womens-basketball-kirkwood-community-college-vs-iowa-western-3/
CATEGORIES:Women's Basketball
END:VEVENT
BEGIN:VEVENT
DTSTART;TZID=America/Chicago:20230126T193000
DTEND;TZID=America/Chicago:20230126T193000
DTSTAMP:20260421T220952
CREATED:20221031T162058Z
LAST-MODIFIED:20230125T083158Z
UID:10005243-1674761400-1674761400@www.iwcc.edu
SUMMARY:(Men's Basketball) Kirkwood Community College vs. Iowa Western
DESCRIPTION:(Men’s Basketball) Kirkwood Community College vs. Iowa Western\, Council Bluffs\, IA
URL:https://www.iwcc.edu/event/mens-basketball-kirkwood-community-college-vs-iowa-western-3/
CATEGORIES:Men's Basketball
END:VEVENT
BEGIN:VEVENT
DTSTART;VALUE=DATE:20230127
DTEND;VALUE=DATE:20230129
DTSTAMP:20260421T220952
CREATED:20230106T033711Z
LAST-MODIFIED:20230127T090133Z
UID:10005897-1674842400-1674928799@www.iwcc.edu
SUMMARY:(Women's Bowling) Bronco Baker Blast
DESCRIPTION:(Women’s Bowling) Bronco Baker Blast
URL:https://www.iwcc.edu/event/womens-bowling-bronco-baker-blast/
LOCATION:Hastings\, NE
CATEGORIES:Women's Bowling
END:VEVENT
BEGIN:VEVENT
DTSTART;VALUE=DATE:20230127
DTEND;VALUE=DATE:20230129
DTSTAMP:20260421T220952
CREATED:20230106T033711Z
LAST-MODIFIED:20230127T090133Z
UID:10005898-1674842400-1674928799@www.iwcc.edu
SUMMARY:(Men's Bowling) Bronco Baker Blast
DESCRIPTION:(Men’s Bowling) Bronco Baker Blast
URL:https://www.iwcc.edu/event/mens-bowling-bronco-baker-blast/
LOCATION:Hastings\, NE
CATEGORIES:Men's Bowling
END:VEVENT
BEGIN:VEVENT
DTSTART;VALUE=DATE:20230127
DTEND;VALUE=DATE:20230129
DTSTAMP:20260421T220952
CREATED:20230106T033712Z
LAST-MODIFIED:20230127T090133Z
UID:10005899-1674842400-1674928799@www.iwcc.edu
SUMMARY:(Women's Track & Field) Central Missouri
DESCRIPTION:(Women’s Track & Field) Central Missouri\, Warrensburg\, MO
URL:https://www.iwcc.edu/event/womens-track-field-central-missouri/
CATEGORIES:Women's Track & Field
END:VEVENT
BEGIN:VEVENT
DTSTART;VALUE=DATE:20230127
DTEND;VALUE=DATE:20230129
DTSTAMP:20260421T220952
CREATED:20230106T033712Z
LAST-MODIFIED:20230127T090133Z
UID:10005900-1674842400-1674928799@www.iwcc.edu
SUMMARY:(Men's Track & Field) Central Missouri
DESCRIPTION:(Men’s Track & Field) Central Missouri\, Warrensburg\, MO
URL:https://www.iwcc.edu/event/mens-track-field-central-missouri/
CATEGORIES:Men's Track & Field
END:VEVENT
BEGIN:VEVENT
DTSTART;TZID=America/Chicago:20230128T150000
DTEND;TZID=America/Chicago:20230128T150000
DTSTAMP:20260421T220952
CREATED:20221031T162058Z
LAST-MODIFIED:20230128T091929Z
UID:10005247-1674918000-1674918000@www.iwcc.edu
SUMMARY:(Men's Basketball) Central Community College-Columbus vs. Iowa Western
DESCRIPTION:(Men’s Basketball) Central Community College-Columbus vs. Iowa Western
URL:https://www.iwcc.edu/event/mens-basketball-central-community-college-columbus-vs-iowa-western-2/
CATEGORIES:Men's Basketball
END:VEVENT
BEGIN:VEVENT
DTSTART;VALUE=DATE:20230128
DTEND;VALUE=DATE:20230130
DTSTAMP:20260421T220952
CREATED:20230106T033713Z
LAST-MODIFIED:20230128T091930Z
UID:10005901-1674928800-1675015199@www.iwcc.edu
SUMMARY:(Women's Track & Field) Central Missouri
DESCRIPTION:(Women’s Track & Field) Central Missouri\, Warrensburg\, MO
URL:https://www.iwcc.edu/event/womens-track-field-central-missouri-2/
CATEGORIES:Women's Track & Field
END:VEVENT
BEGIN:VEVENT
DTSTART;VALUE=DATE:20230128
DTEND;VALUE=DATE:20230130
DTSTAMP:20260421T220952
CREATED:20230106T033713Z
LAST-MODIFIED:20230128T091930Z
UID:10005902-1674928800-1675015199@www.iwcc.edu
SUMMARY:(Men's Track & Field) Central Missouri
DESCRIPTION:(Men’s Track & Field) Central Missouri\, Warrensburg\, MO
URL:https://www.iwcc.edu/event/mens-track-field-central-missouri-2/
CATEGORIES:Men's Track & Field
END:VEVENT
BEGIN:VEVENT
DTSTART;TZID=America/Chicago:20230129T130000
DTEND;TZID=America/Chicago:20230129T130000
DTSTAMP:20260421T220952
CREATED:20221031T162058Z
LAST-MODIFIED:20230129T093345Z
UID:10005245-1674997200-1674997200@www.iwcc.edu
SUMMARY:(Women's Basketball) Marshalltown CC vs. Iowa Western
DESCRIPTION:(Women’s Basketball) Marshalltown CC vs. Iowa Western\, Reiver Arena – Council Bluffs\, IA
URL:https://www.iwcc.edu/event/womens-basketball-marshalltown-cc-vs-iowa-western-3/
CATEGORIES:Women's Basketball
END:VEVENT
BEGIN:VEVENT
DTSTART;TZID=America/Chicago:20230201T173000
DTEND;TZID=America/Chicago:20230201T173000
DTSTAMP:20260421T220952
CREATED:20221103T190020Z
LAST-MODIFIED:20230201T100012Z
UID:10005253-1675272600-1675272600@www.iwcc.edu
SUMMARY:(Women's Basketball) Iowa Western at Ellsworth Community College
DESCRIPTION:(Women’s Basketball) Iowa Western at Ellsworth Community College\, Dittmer Gymnasium – Iowa Falls\, IA
URL:https://www.iwcc.edu/event/womens-basketball-iowa-western-at-ellsworth-community-college-3/
CATEGORIES:Women's Basketball
END:VEVENT
BEGIN:VEVENT
DTSTART;TZID=America/Chicago:20230201T190000
DTEND;TZID=America/Chicago:20230201T190000
DTSTAMP:20260421T220952
CREATED:20221103T190020Z
LAST-MODIFIED:20230201T100012Z
UID:10005251-1675278000-1675278000@www.iwcc.edu
SUMMARY:(Wrestling) Iowa Lakes Dual
DESCRIPTION:(Wrestling) Iowa Lakes Dual\, Reiver Arena | Council Bluffs\, IA
URL:https://www.iwcc.edu/event/wrestling-iowa-lakes-dual-3/
CATEGORIES:Wrestling
END:VEVENT
BEGIN:VEVENT
DTSTART;TZID=America/Chicago:20230201T193000
DTEND;TZID=America/Chicago:20230201T193000
DTSTAMP:20260421T220952
CREATED:20221104T190342Z
LAST-MODIFIED:20230201T100012Z
UID:10005255-1675279800-1675279800@www.iwcc.edu
SUMMARY:(Men's Basketball) Iowa Western at Ellsworth Community College
DESCRIPTION:(Men’s Basketball) Iowa Western at Ellsworth Community College\, Dittmer Gym / Iowa Falls\, IA
URL:https://www.iwcc.edu/event/mens-basketball-iowa-western-at-ellsworth-community-college-3/
CATEGORIES:Men's Basketball
END:VEVENT
BEGIN:VEVENT
DTSTART;VALUE=DATE:20230202
DTEND;VALUE=DATE:20230204
DTSTAMP:20260421T220952
CREATED:20230106T033715Z
LAST-MODIFIED:20230202T100150Z
UID:10005903-1675360800-1675447199@www.iwcc.edu
SUMMARY:(Women's Track & Field) Washburn Open
DESCRIPTION:(Women’s Track & Field) Washburn Open\, Topeka\, KS
URL:https://www.iwcc.edu/event/womens-track-field-washburn-open-3/
CATEGORIES:Women's Track & Field
END:VEVENT
BEGIN:VEVENT
DTSTART;VALUE=DATE:20230202
DTEND;VALUE=DATE:20230204
DTSTAMP:20260421T220952
CREATED:20230106T033715Z
LAST-MODIFIED:20230202T100150Z
UID:10005904-1675360800-1675447199@www.iwcc.edu
SUMMARY:(Women's Track & Field) Bearcat Invite
DESCRIPTION:(Women’s Track & Field) Bearcat Invite\, Maryville\, MO
URL:https://www.iwcc.edu/event/womens-track-field-bearcat-invite-3/
CATEGORIES:Women's Track & Field
END:VEVENT
BEGIN:VEVENT
DTSTART;VALUE=DATE:20230202
DTEND;VALUE=DATE:20230204
DTSTAMP:20260421T220952
CREATED:20230106T033715Z
LAST-MODIFIED:20230202T100150Z
UID:10005905-1675360800-1675447199@www.iwcc.edu
SUMMARY:(Men's Track & Field) Washburn Open
DESCRIPTION:(Men’s Track & Field) Washburn Open\, Topeka\, KS
URL:https://www.iwcc.edu/event/mens-track-field-washburn-open-3/
CATEGORIES:Men's Track & Field
END:VEVENT
BEGIN:VEVENT
DTSTART;VALUE=DATE:20230202
DTEND;VALUE=DATE:20230204
DTSTAMP:20260421T220952
CREATED:20230106T033716Z
LAST-MODIFIED:20230202T100150Z
UID:10005906-1675360800-1675447199@www.iwcc.edu
SUMMARY:(Men's Track & Field) Bearcat Invite
DESCRIPTION:(Men’s Track & Field) Bearcat Invite\, Maryville\, MO
URL:https://www.iwcc.edu/event/mens-track-field-bearcat-invite-3/
CATEGORIES:Men's Track & Field
END:VEVENT
BEGIN:VEVENT
DTSTART;VALUE=DATE:20230203
DTEND;VALUE=DATE:20230205
DTSTAMP:20260421T220952
CREATED:20230106T033716Z
LAST-MODIFIED:20230203T100303Z
UID:10005907-1675447200-1675533599@www.iwcc.edu
SUMMARY:(Men's Track & Field) Bearcat Invite
DESCRIPTION:(Men’s Track & Field) Bearcat Invite\, Maryville\, MO
URL:https://www.iwcc.edu/event/mens-track-field-bearcat-invite-4/
CATEGORIES:Men's Track & Field
END:VEVENT
BEGIN:VEVENT
DTSTART;VALUE=DATE:20230203
DTEND;VALUE=DATE:20230205
DTSTAMP:20260421T220952
CREATED:20230106T033716Z
LAST-MODIFIED:20230203T100303Z
UID:10005908-1675447200-1675533599@www.iwcc.edu
SUMMARY:(Men's Track & Field) Washburn Open
DESCRIPTION:(Men’s Track & Field) Washburn Open\, Topeka\, KS
URL:https://www.iwcc.edu/event/mens-track-field-washburn-open-4/
CATEGORIES:Men's Track & Field
END:VEVENT
BEGIN:VEVENT
DTSTART;VALUE=DATE:20230203
DTEND;VALUE=DATE:20230205
DTSTAMP:20260421T220952
CREATED:20230106T033716Z
LAST-MODIFIED:20230203T100303Z
UID:10005909-1675447200-1675533599@www.iwcc.edu
SUMMARY:(Women's Track & Field) Bearcat Invite
DESCRIPTION:(Women’s Track & Field) Bearcat Invite\, Maryville\, MO
URL:https://www.iwcc.edu/event/womens-track-field-bearcat-invite-4/
CATEGORIES:Women's Track & Field
END:VEVENT
BEGIN:VEVENT
DTSTART;VALUE=DATE:20230203
DTEND;VALUE=DATE:20230205
DTSTAMP:20260421T220952
CREATED:20230106T033716Z
LAST-MODIFIED:20230203T100303Z
UID:10005910-1675447200-1675533599@www.iwcc.edu
SUMMARY:(Women's Track & Field) Washburn Open
DESCRIPTION:(Women’s Track & Field) Washburn Open\, Topeka\, KS
URL:https://www.iwcc.edu/event/womens-track-field-washburn-open-4/
CATEGORIES:Women's Track & Field
END:VEVENT
END:VCALENDAR