BEGIN:VCALENDAR
VERSION:2.0
PRODID:-//Iowa Western Community College - ECPv6.15.20//NONSGML v1.0//EN
CALSCALE:GREGORIAN
METHOD:PUBLISH
X-WR-CALNAME:Iowa Western Community College
X-ORIGINAL-URL:https://www.iwcc.edu
X-WR-CALDESC:Events for Iowa Western Community College
REFRESH-INTERVAL;VALUE=DURATION:PT1H
X-Robots-Tag:noindex
X-PUBLISHED-TTL:PT1H
BEGIN:VTIMEZONE
TZID:America/Chicago
BEGIN:DAYLIGHT
TZOFFSETFROM:-0600
TZOFFSETTO:-0500
TZNAME:CDT
DTSTART:20200308T080000
END:DAYLIGHT
BEGIN:STANDARD
TZOFFSETFROM:-0500
TZOFFSETTO:-0600
TZNAME:CST
DTSTART:20201101T070000
END:STANDARD
BEGIN:DAYLIGHT
TZOFFSETFROM:-0600
TZOFFSETTO:-0500
TZNAME:CDT
DTSTART:20210314T080000
END:DAYLIGHT
BEGIN:STANDARD
TZOFFSETFROM:-0500
TZOFFSETTO:-0600
TZNAME:CST
DTSTART:20211107T070000
END:STANDARD
BEGIN:DAYLIGHT
TZOFFSETFROM:-0600
TZOFFSETTO:-0500
TZNAME:CDT
DTSTART:20220313T080000
END:DAYLIGHT
BEGIN:STANDARD
TZOFFSETFROM:-0500
TZOFFSETTO:-0600
TZNAME:CST
DTSTART:20221106T070000
END:STANDARD
END:VTIMEZONE
BEGIN:VEVENT
DTSTART;TZID=America/Chicago:20210331T140000
DTEND;TZID=America/Chicago:20210331T140000
DTSTAMP:20260422T012827
CREATED:20210101T214640Z
LAST-MODIFIED:20210330T181609Z
UID:10004444-1617199200-1617199200@www.iwcc.edu
SUMMARY:(Softball) Southwestern Community College vs. Iowa Western
DESCRIPTION:(Softball) Southwestern Community College vs. Iowa Western\, Reiver Sports Complex | Council Bluffs\, IA
URL:https://www.iwcc.edu/event/softball-southwestern-community-college-vs-iowa-western/
CATEGORIES:Athletics,Softball
END:VEVENT
BEGIN:VEVENT
DTSTART;TZID=America/Chicago:20210331T160000
DTEND;TZID=America/Chicago:20210331T160000
DTSTAMP:20260422T012827
CREATED:20210101T214640Z
LAST-MODIFIED:20210331T181603Z
UID:10004446-1617206400-1617206400@www.iwcc.edu
SUMMARY:(Softball) Southwestern Community College vs. Iowa Western
DESCRIPTION:(Softball) Southwestern Community College vs. Iowa Western\, Reiver Sports Complex | Council Bluffs\, IA
URL:https://www.iwcc.edu/event/softball-southwestern-community-college-vs-iowa-western-2/
CATEGORIES:Athletics,Softball
END:VEVENT
END:VCALENDAR