BEGIN:VCALENDAR
VERSION:2.0
PRODID:-//Iowa Western Community College - ECPv6.15.20//NONSGML v1.0//EN
CALSCALE:GREGORIAN
METHOD:PUBLISH
X-WR-CALNAME:Iowa Western Community College
X-ORIGINAL-URL:https://www.iwcc.edu
X-WR-CALDESC:Events for Iowa Western Community College
REFRESH-INTERVAL;VALUE=DURATION:PT1H
X-Robots-Tag:noindex
X-PUBLISHED-TTL:PT1H
BEGIN:VTIMEZONE
TZID:America/Chicago
BEGIN:DAYLIGHT
TZOFFSETFROM:-0600
TZOFFSETTO:-0500
TZNAME:CDT
DTSTART:20250309T080000
END:DAYLIGHT
BEGIN:STANDARD
TZOFFSETFROM:-0500
TZOFFSETTO:-0600
TZNAME:CST
DTSTART:20251102T070000
END:STANDARD
BEGIN:DAYLIGHT
TZOFFSETFROM:-0600
TZOFFSETTO:-0500
TZNAME:CDT
DTSTART:20260308T080000
END:DAYLIGHT
BEGIN:STANDARD
TZOFFSETFROM:-0500
TZOFFSETTO:-0600
TZNAME:CST
DTSTART:20261101T070000
END:STANDARD
BEGIN:DAYLIGHT
TZOFFSETFROM:-0600
TZOFFSETTO:-0500
TZNAME:CDT
DTSTART:20270314T080000
END:DAYLIGHT
BEGIN:STANDARD
TZOFFSETFROM:-0500
TZOFFSETTO:-0600
TZNAME:CST
DTSTART:20271107T070000
END:STANDARD
END:VTIMEZONE
BEGIN:VEVENT
DTSTART;TZID=America/Chicago:20260103T130000
DTEND;TZID=America/Chicago:20260103T130000
DTSTAMP:20260421T083339
CREATED:20251114T153619Z
LAST-MODIFIED:20260103T160109Z
UID:10009375-1767445200-1767445200@www.iwcc.edu
SUMMARY:(Women's Basketball) Iowa Western at Iowa Central Community College
DESCRIPTION:(Women’s Basketball) Iowa Western at Iowa Central Community College\, Hodges Fieldhouse | Fort Dodge\, IA
URL:https://www.iwcc.edu/event/womens-basketball-iowa-western-at-iowa-central-community-college-6/
CATEGORIES:Athletics,Women's Basketball
END:VEVENT
BEGIN:VEVENT
DTSTART;TZID=America/Chicago:20260107T173000
DTEND;TZID=America/Chicago:20260107T173000
DTSTAMP:20260421T083339
CREATED:20251114T153620Z
LAST-MODIFIED:20260107T170226Z
UID:10009377-1767807000-1767807000@www.iwcc.edu
SUMMARY:(Women's Basketball) Central Community College vs. Iowa Western
DESCRIPTION:(Women’s Basketball) Central Community College vs. Iowa Western\, Reiver Arena | Council Bluffs\, IA
URL:https://www.iwcc.edu/event/womens-basketball-central-community-college-vs-iowa-western/
CATEGORIES:Athletics,Women's Basketball
END:VEVENT
BEGIN:VEVENT
DTSTART;TZID=America/Chicago:20260110T130000
DTEND;TZID=America/Chicago:20260110T130000
DTSTAMP:20260421T083339
CREATED:20251114T153624Z
LAST-MODIFIED:20260110T173247Z
UID:10009381-1768050000-1768050000@www.iwcc.edu
SUMMARY:(Women's Basketball) Iowa Western at Southeastern Community College
DESCRIPTION:(Women’s Basketball) Iowa Western at Southeastern Community College\, Loren Walker Arena | West Burlington\, IA
URL:https://www.iwcc.edu/event/womens-basketball-iowa-western-at-southeastern-community-college-5/
CATEGORIES:Athletics,Women's Basketball
END:VEVENT
BEGIN:VEVENT
DTSTART;TZID=America/Chicago:20260114T173000
DTEND;TZID=America/Chicago:20260114T173000
DTSTAMP:20260421T083339
CREATED:20251114T153627Z
LAST-MODIFIED:20260114T182937Z
UID:10009385-1768411800-1768411800@www.iwcc.edu
SUMMARY:(Women's Basketball) Des Moines Area Community College vs. Iowa Western
DESCRIPTION:(Women’s Basketball) Des Moines Area Community College vs. Iowa Western\, Reiver Arena | Council Bluffs\, IA
URL:https://www.iwcc.edu/event/womens-basketball-des-moines-area-community-college-vs-iowa-western-6/
CATEGORIES:Athletics,Women's Basketball
END:VEVENT
BEGIN:VEVENT
DTSTART;TZID=America/Chicago:20260117T130000
DTEND;TZID=America/Chicago:20260117T130000
DTSTAMP:20260421T083339
CREATED:20251114T153634Z
LAST-MODIFIED:20260116T184819Z
UID:10009392-1768654800-1768654800@www.iwcc.edu
SUMMARY:(Women's Basketball) Ellsworth Community College vs. Iowa Western
DESCRIPTION:(Women’s Basketball) Ellsworth Community College vs. Iowa Western\, Reiver Arena | Council Bluffs\, IA
URL:https://www.iwcc.edu/event/womens-basketball-ellsworth-community-college-vs-iowa-western-6/
CATEGORIES:Athletics,Women's Basketball
END:VEVENT
BEGIN:VEVENT
DTSTART;TZID=America/Chicago:20260121T173000
DTEND;TZID=America/Chicago:20260121T173000
DTSTAMP:20260421T083339
CREATED:20251114T153637Z
LAST-MODIFIED:20260121T200114Z
UID:10009396-1769016600-1769016600@www.iwcc.edu
SUMMARY:(Women's Basketball) Iowa Western at Central Community College
DESCRIPTION:(Women’s Basketball) Iowa Western at Central Community College\, Columbus\, NE
URL:https://www.iwcc.edu/event/womens-basketball-iowa-western-at-central-community-college-columbus-5/
CATEGORIES:Athletics,Women's Basketball
END:VEVENT
BEGIN:VEVENT
DTSTART;TZID=America/Chicago:20260124T130000
DTEND;TZID=America/Chicago:20260124T130000
DTSTAMP:20260421T083339
CREATED:20251114T153644Z
LAST-MODIFIED:20260123T203431Z
UID:10009404-1769259600-1769259600@www.iwcc.edu
SUMMARY:(Women's Basketball) Iowa Central Community College vs. Iowa Western
DESCRIPTION:(Women’s Basketball) Iowa Central Community College vs. Iowa Western\, Reiver Arena | Council Bluffs\, IA
URL:https://www.iwcc.edu/event/womens-basketball-iowa-central-community-college-vs-iowa-western-7/
CATEGORIES:Athletics,Women's Basketball
END:VEVENT
BEGIN:VEVENT
DTSTART;TZID=America/Chicago:20260128T173000
DTEND;TZID=America/Chicago:20260128T173000
DTSTAMP:20260421T083339
CREATED:20251114T153647Z
LAST-MODIFIED:20260128T214701Z
UID:10009408-1769621400-1769621400@www.iwcc.edu
SUMMARY:(Women's Basketball) Iowa Western at Marshalltown CC
DESCRIPTION:(Women’s Basketball) Iowa Western at Marshalltown CC\, Marshalltown\, IA
URL:https://www.iwcc.edu/event/womens-basketball-iowa-western-at-marshalltown-cc-6/
CATEGORIES:Athletics,Women's Basketball
END:VEVENT
BEGIN:VEVENT
DTSTART;TZID=America/Chicago:20260131T130000
DTEND;TZID=America/Chicago:20260131T130000
DTSTAMP:20260421T083339
CREATED:20251114T153656Z
LAST-MODIFIED:20260130T221716Z
UID:10009417-1769864400-1769864400@www.iwcc.edu
SUMMARY:(Women's Basketball) Southeastern Community College vs. Iowa Western
DESCRIPTION:(Women’s Basketball) Southeastern Community College vs. Iowa Western\, Reiver Arena | Council Bluffs\, IA
URL:https://www.iwcc.edu/event/womens-basketball-southeastern-community-college-vs-iowa-western-6/
CATEGORIES:Athletics,Women's Basketball
END:VEVENT
END:VCALENDAR