BEGIN:VCALENDAR
VERSION:2.0
PRODID:-//Iowa Western Community College - ECPv6.15.20//NONSGML v1.0//EN
CALSCALE:GREGORIAN
METHOD:PUBLISH
X-ORIGINAL-URL:https://www.iwcc.edu
X-WR-CALDESC:Events for Iowa Western Community College
REFRESH-INTERVAL;VALUE=DURATION:PT1H
X-Robots-Tag:noindex
X-PUBLISHED-TTL:PT1H
BEGIN:VTIMEZONE
TZID:America/Chicago
BEGIN:DAYLIGHT
TZOFFSETFROM:-0600
TZOFFSETTO:-0500
TZNAME:CDT
DTSTART:20250309T080000
END:DAYLIGHT
BEGIN:STANDARD
TZOFFSETFROM:-0500
TZOFFSETTO:-0600
TZNAME:CST
DTSTART:20251102T070000
END:STANDARD
BEGIN:DAYLIGHT
TZOFFSETFROM:-0600
TZOFFSETTO:-0500
TZNAME:CDT
DTSTART:20260308T080000
END:DAYLIGHT
BEGIN:STANDARD
TZOFFSETFROM:-0500
TZOFFSETTO:-0600
TZNAME:CST
DTSTART:20261101T070000
END:STANDARD
BEGIN:DAYLIGHT
TZOFFSETFROM:-0600
TZOFFSETTO:-0500
TZNAME:CDT
DTSTART:20270314T080000
END:DAYLIGHT
BEGIN:STANDARD
TZOFFSETFROM:-0500
TZOFFSETTO:-0600
TZNAME:CST
DTSTART:20271107T070000
END:STANDARD
BEGIN:DAYLIGHT
TZOFFSETFROM:-0600
TZOFFSETTO:-0500
TZNAME:CDT
DTSTART:20280312T080000
END:DAYLIGHT
BEGIN:STANDARD
TZOFFSETFROM:-0500
TZOFFSETTO:-0600
TZNAME:CST
DTSTART:20281105T070000
END:STANDARD
BEGIN:DAYLIGHT
TZOFFSETFROM:-0600
TZOFFSETTO:-0500
TZNAME:CDT
DTSTART:20290311T080000
END:DAYLIGHT
BEGIN:STANDARD
TZOFFSETFROM:-0500
TZOFFSETTO:-0600
TZNAME:CST
DTSTART:20291104T070000
END:STANDARD
END:VTIMEZONE
BEGIN:VEVENT
DTSTART;VALUE=DATE:20261015
DTEND;VALUE=DATE:20261016
DTSTAMP:20260420T091102
CREATED:20220208T192520Z
LAST-MODIFIED:20220208T192520Z
UID:10005556-1792022400-1792108799@www.iwcc.edu
SUMMARY:Campus-wide Professional Development - No Classes
DESCRIPTION:
URL:https://www.iwcc.edu/event/campus-wide-professional-development-no-classes-2/
CATEGORIES:Campus Wide Professional Development
END:VEVENT
BEGIN:VEVENT
DTSTART;VALUE=DATE:20270226
DTEND;VALUE=DATE:20270227
DTSTAMP:20260420T091102
CREATED:20220208T194358Z
LAST-MODIFIED:20220208T194358Z
UID:10005565-1803600000-1803686399@www.iwcc.edu
SUMMARY:Campus-wide Professional Development - No Classes
DESCRIPTION:
URL:https://www.iwcc.edu/event/campus-wide-professional-development-no-classes-3/
CATEGORIES:Campus Wide Professional Development
END:VEVENT
BEGIN:VEVENT
DTSTART;VALUE=DATE:20271014
DTEND;VALUE=DATE:20271015
DTSTAMP:20260420T091102
CREATED:20250207T194031Z
LAST-MODIFIED:20250207T194031Z
UID:10009158-1823472000-1823558399@www.iwcc.edu
SUMMARY:Campus-Wide Professional Development Day (No Classes)
DESCRIPTION:
URL:https://www.iwcc.edu/event/campus-wide-professional-development-day-no-classes/
CATEGORIES:Campus Wide Professional Development
ORGANIZER;CN="Board Secretary":MAILTO:emckee@iwcc.edu
END:VEVENT
BEGIN:VEVENT
DTSTART;VALUE=DATE:20280225
DTEND;VALUE=DATE:20280226
DTSTAMP:20260420T091102
CREATED:20250207T213057Z
LAST-MODIFIED:20250207T213057Z
UID:10009176-1835049600-1835135999@www.iwcc.edu
SUMMARY:Campus-Wide Professional Development Day (No Classes)
DESCRIPTION:
URL:https://www.iwcc.edu/event/campus-wide-professional-development-day-no-classes-2/
CATEGORIES:Campus Wide Professional Development
ORGANIZER;CN="Board Secretary":MAILTO:emckee@iwcc.edu
END:VEVENT
END:VCALENDAR