BEGIN:VCALENDAR
VERSION:2.0
PRODID:-//Iowa Western Community College - ECPv6.15.20//NONSGML v1.0//EN
CALSCALE:GREGORIAN
METHOD:PUBLISH
X-ORIGINAL-URL:https://www.iwcc.edu
X-WR-CALDESC:Events for Iowa Western Community College
REFRESH-INTERVAL;VALUE=DURATION:PT1H
X-Robots-Tag:noindex
X-PUBLISHED-TTL:PT1H
BEGIN:VTIMEZONE
TZID:America/Chicago
BEGIN:DAYLIGHT
TZOFFSETFROM:-0600
TZOFFSETTO:-0500
TZNAME:CDT
DTSTART:20250309T080000
END:DAYLIGHT
BEGIN:STANDARD
TZOFFSETFROM:-0500
TZOFFSETTO:-0600
TZNAME:CST
DTSTART:20251102T070000
END:STANDARD
BEGIN:DAYLIGHT
TZOFFSETFROM:-0600
TZOFFSETTO:-0500
TZNAME:CDT
DTSTART:20260308T080000
END:DAYLIGHT
BEGIN:STANDARD
TZOFFSETFROM:-0500
TZOFFSETTO:-0600
TZNAME:CST
DTSTART:20261101T070000
END:STANDARD
BEGIN:DAYLIGHT
TZOFFSETFROM:-0600
TZOFFSETTO:-0500
TZNAME:CDT
DTSTART:20270314T080000
END:DAYLIGHT
BEGIN:STANDARD
TZOFFSETFROM:-0500
TZOFFSETTO:-0600
TZNAME:CST
DTSTART:20271107T070000
END:STANDARD
END:VTIMEZONE
BEGIN:VEVENT
DTSTART;TZID=America/Chicago:20260217T180000
DTEND;TZID=America/Chicago:20260217T180000
DTSTAMP:20260421T101828
CREATED:20260217T181723Z
LAST-MODIFIED:20260217T181723Z
UID:10010243-1771351200-1771351200@www.iwcc.edu
SUMMARY:(eSports) Iowa Western at Pratt Community College
DESCRIPTION:(eSports) Iowa Western at Pratt Community College\, NJCAAE DI Rocket League Regular Season
URL:https://www.iwcc.edu/event/esports-iowa-western-at-pratt-community-college/
CATEGORIES:Athletics,eSports
END:VEVENT
BEGIN:VEVENT
DTSTART;TZID=America/Chicago:20260227T180000
DTEND;TZID=America/Chicago:20260227T180000
DTSTAMP:20260421T101828
CREATED:20260219T184837Z
LAST-MODIFIED:20260227T205124Z
UID:10010245-1772215200-1772215200@www.iwcc.edu
SUMMARY:(eSports) Iowa Western at Dallas College North Lake
DESCRIPTION:(eSports) Iowa Western at Dallas College North Lake\, Warzone Regular Season
URL:https://www.iwcc.edu/event/esports-iowa-western-at-dallas-college-north-lake/
CATEGORIES:Athletics,eSports
END:VEVENT
END:VCALENDAR