BEGIN:VCALENDAR
VERSION:2.0
PRODID:-//Iowa Western Community College - ECPv6.15.20//NONSGML v1.0//EN
CALSCALE:GREGORIAN
METHOD:PUBLISH
X-ORIGINAL-URL:https://www.iwcc.edu
X-WR-CALDESC:Events for Iowa Western Community College
REFRESH-INTERVAL;VALUE=DURATION:PT1H
X-Robots-Tag:noindex
X-PUBLISHED-TTL:PT1H
BEGIN:VTIMEZONE
TZID:America/Chicago
BEGIN:DAYLIGHT
TZOFFSETFROM:-0600
TZOFFSETTO:-0500
TZNAME:CDT
DTSTART:20240310T080000
END:DAYLIGHT
BEGIN:STANDARD
TZOFFSETFROM:-0500
TZOFFSETTO:-0600
TZNAME:CST
DTSTART:20241103T070000
END:STANDARD
BEGIN:DAYLIGHT
TZOFFSETFROM:-0600
TZOFFSETTO:-0500
TZNAME:CDT
DTSTART:20250309T080000
END:DAYLIGHT
BEGIN:STANDARD
TZOFFSETFROM:-0500
TZOFFSETTO:-0600
TZNAME:CST
DTSTART:20251102T070000
END:STANDARD
BEGIN:DAYLIGHT
TZOFFSETFROM:-0600
TZOFFSETTO:-0500
TZNAME:CDT
DTSTART:20260308T080000
END:DAYLIGHT
BEGIN:STANDARD
TZOFFSETFROM:-0500
TZOFFSETTO:-0600
TZNAME:CST
DTSTART:20261101T070000
END:STANDARD
BEGIN:DAYLIGHT
TZOFFSETFROM:-0600
TZOFFSETTO:-0500
TZNAME:CDT
DTSTART:20270314T080000
END:DAYLIGHT
BEGIN:STANDARD
TZOFFSETFROM:-0500
TZOFFSETTO:-0600
TZNAME:CST
DTSTART:20271107T070000
END:STANDARD
END:VTIMEZONE
BEGIN:VEVENT
DTSTART;VALUE=DATE:20260306
DTEND;VALUE=DATE:20260308
DTSTAMP:20260422T061523
CREATED:20251207T193256Z
LAST-MODIFIED:20260306T220208Z
UID:10009462-1772820000-1772906399@www.iwcc.edu
SUMMARY:(Men's Swimming & Diving) NJCAA National Championships
DESCRIPTION:(Men’s Swimming & Diving) NJCAA National Championships\, Fort Pierce\, FL
URL:https://www.iwcc.edu/event/mens-swimming-diving-njcaa-national-championships-4/
CATEGORIES:Athletics,Men's Swimming & Diving
END:VEVENT
BEGIN:VEVENT
DTSTART;VALUE=DATE:20260305
DTEND;VALUE=DATE:20260307
DTSTAMP:20260422T061523
CREATED:20251206T193149Z
LAST-MODIFIED:20260305T214628Z
UID:10009456-1772733600-1772819999@www.iwcc.edu
SUMMARY:(Men's Swimming & Diving) NJCAA National Championships
DESCRIPTION:(Men’s Swimming & Diving) NJCAA National Championships\, Fort Pierce\, FL
URL:https://www.iwcc.edu/event/mens-swimming-diving-njcaa-national-championships-3/
CATEGORIES:Athletics,Men's Swimming & Diving
END:VEVENT
BEGIN:VEVENT
DTSTART;VALUE=DATE:20260304
DTEND;VALUE=DATE:20260306
DTSTAMP:20260422T061523
CREATED:20251205T193435Z
LAST-MODIFIED:20260304T214513Z
UID:10009452-1772647200-1772733599@www.iwcc.edu
SUMMARY:(Men's Swimming & Diving) NJCAA National Championships
DESCRIPTION:(Men’s Swimming & Diving) NJCAA National Championships\, Fort Pierce\, FL
URL:https://www.iwcc.edu/event/mens-swimming-diving-njcaa-national-championships-2/
CATEGORIES:Athletics,Men's Swimming & Diving
END:VEVENT
BEGIN:VEVENT
DTSTART;VALUE=DATE:20260303
DTEND;VALUE=DATE:20260305
DTSTAMP:20260422T061523
CREATED:20251204T191733Z
LAST-MODIFIED:20260303T213107Z
UID:10009448-1772560800-1772647199@www.iwcc.edu
SUMMARY:(Men's Swimming & Diving) NJCAA National Championships
DESCRIPTION:(Men’s Swimming & Diving) NJCAA National Championships\, Fort Pierce\, FL
URL:https://www.iwcc.edu/event/mens-swimming-diving-njcaa-national-championships/
CATEGORIES:Athletics,Men's Swimming & Diving
END:VEVENT
BEGIN:VEVENT
DTSTART;TZID=America/Chicago:20260207T130000
DTEND;TZID=America/Chicago:20260207T130000
DTSTAMP:20260422T061523
CREATED:20251114T153707Z
LAST-MODIFIED:20260207T154914Z
UID:10009429-1770469200-1770469200@www.iwcc.edu
SUMMARY:(Men's Swimming & Diving) Grinnell Last Chance Invite
DESCRIPTION:(Men’s Swimming & Diving) Grinnell Last Chance Invite\, Grinnell\, IA
URL:https://www.iwcc.edu/event/mens-swimming-diving-grinnell-last-chance-invite/
CATEGORIES:Athletics,Men's Swimming & Diving
END:VEVENT
BEGIN:VEVENT
DTSTART;TZID=America/Chicago:20260124T120000
DTEND;TZID=America/Chicago:20260124T120000
DTSTAMP:20260422T061523
CREATED:20251114T153643Z
LAST-MODIFIED:20260123T203430Z
UID:10009403-1769256000-1769256000@www.iwcc.edu
SUMMARY:(Men's Swimming & Diving) Midland Dual
DESCRIPTION:(Men’s Swimming & Diving) Midland Dual\, Fremont\, NE
URL:https://www.iwcc.edu/event/mens-swimming-diving-midland-dual/
CATEGORIES:Athletics,Men's Swimming & Diving
END:VEVENT
BEGIN:VEVENT
DTSTART;TZID=America/Chicago:20260117T120000
DTEND;TZID=America/Chicago:20260117T120000
DTSTAMP:20260422T061523
CREATED:20251114T153633Z
LAST-MODIFIED:20260116T184818Z
UID:10009391-1768651200-1768651200@www.iwcc.edu
SUMMARY:(Men's Swimming & Diving) Community College Quad
DESCRIPTION:(Men’s Swimming & Diving) Community College Quad\, Titan Hill Pool | Council Bluffs\, IA
URL:https://www.iwcc.edu/event/mens-swimming-diving-community-college-quad/
CATEGORIES:Athletics,Men's Swimming & Diving
END:VEVENT
BEGIN:VEVENT
DTSTART;VALUE=DATE:20260109
DTEND;VALUE=DATE:20260111
DTSTAMP:20260422T061523
CREATED:20251114T153622Z
LAST-MODIFIED:20260109T171822Z
UID:10009379-1767981600-1768067999@www.iwcc.edu
SUMMARY:(Men's Swimming & Diving) NWU / CSM / IWCC Triangular
DESCRIPTION:(Men’s Swimming & Diving) NWU / CSM / IWCC Triangular\, Lincoln\, NE
URL:https://www.iwcc.edu/event/mens-swimming-diving-nwu-csm-iwcc-triangular/
CATEGORIES:Athletics,Men's Swimming & Diving
END:VEVENT
BEGIN:VEVENT
DTSTART;TZID=America/Chicago:20251206T090000
DTEND;TZID=America/Chicago:20251206T090000
DTSTAMP:20260422T061523
CREATED:20251114T153606Z
LAST-MODIFIED:20251205T193320Z
UID:10009360-1765011600-1765011600@www.iwcc.edu
SUMMARY:(Men's Swimming & Diving) Warrior Invite
DESCRIPTION:(Men’s Swimming & Diving) Warrior Invite\, Fremont\, NE
URL:https://www.iwcc.edu/event/mens-swimming-diving-warrior-invite-3/
CATEGORIES:Athletics,Men's Swimming & Diving
END:VEVENT
BEGIN:VEVENT
DTSTART;TZID=America/Chicago:20251205T090000
DTEND;TZID=America/Chicago:20251205T090000
DTSTAMP:20260422T061523
CREATED:20251114T153601Z
LAST-MODIFIED:20251204T191604Z
UID:10009355-1764925200-1764925200@www.iwcc.edu
SUMMARY:(Men's Swimming & Diving) Warrior Invite
DESCRIPTION:(Men’s Swimming & Diving) Warrior Invite\, Fremont\, NE
URL:https://www.iwcc.edu/event/mens-swimming-diving-warrior-invite-2/
CATEGORIES:Athletics,Men's Swimming & Diving
END:VEVENT
BEGIN:VEVENT
DTSTART;TZID=America/Chicago:20251204T090000
DTEND;TZID=America/Chicago:20251204T090000
DTSTAMP:20260422T061523
CREATED:20251114T153558Z
LAST-MODIFIED:20251203T191731Z
UID:10009351-1764838800-1764838800@www.iwcc.edu
SUMMARY:(Men's Swimming & Diving) Warrior Invite
DESCRIPTION:(Men’s Swimming & Diving) Warrior Invite\, Fremont\, NE
URL:https://www.iwcc.edu/event/mens-swimming-diving-warrior-invite/
CATEGORIES:Athletics,Men's Swimming & Diving
END:VEVENT
END:VCALENDAR