BEGIN:VCALENDAR
VERSION:2.0
PRODID:-//Iowa Western Community College - ECPv6.15.20//NONSGML v1.0//EN
CALSCALE:GREGORIAN
METHOD:PUBLISH
X-ORIGINAL-URL:https://www.iwcc.edu
X-WR-CALDESC:Events for Iowa Western Community College
REFRESH-INTERVAL;VALUE=DURATION:PT1H
X-Robots-Tag:noindex
X-PUBLISHED-TTL:PT1H
BEGIN:VTIMEZONE
TZID:America/Chicago
BEGIN:DAYLIGHT
TZOFFSETFROM:-0600
TZOFFSETTO:-0500
TZNAME:CDT
DTSTART:20240310T080000
END:DAYLIGHT
BEGIN:STANDARD
TZOFFSETFROM:-0500
TZOFFSETTO:-0600
TZNAME:CST
DTSTART:20241103T070000
END:STANDARD
BEGIN:DAYLIGHT
TZOFFSETFROM:-0600
TZOFFSETTO:-0500
TZNAME:CDT
DTSTART:20250309T080000
END:DAYLIGHT
BEGIN:STANDARD
TZOFFSETFROM:-0500
TZOFFSETTO:-0600
TZNAME:CST
DTSTART:20251102T070000
END:STANDARD
BEGIN:DAYLIGHT
TZOFFSETFROM:-0600
TZOFFSETTO:-0500
TZNAME:CDT
DTSTART:20260308T080000
END:DAYLIGHT
BEGIN:STANDARD
TZOFFSETFROM:-0500
TZOFFSETTO:-0600
TZNAME:CST
DTSTART:20261101T070000
END:STANDARD
END:VTIMEZONE
BEGIN:VEVENT
DTSTART;TZID=America/Chicago:20250506T100000
DTEND;TZID=America/Chicago:20250506T140000
DTSTAMP:20260422T160336
CREATED:20250422T205726Z
LAST-MODIFIED:20250422T205726Z
UID:10009264-1746525600-1746540000@www.iwcc.edu
SUMMARY:Sign language Street Signs
DESCRIPTION:Take a break and get creative during De-Stress Week! Make your own custom street sign and add a personal touch to your space!\nTime: 10 AM – 2 PM \nLocation: Reiver Room
URL:https://www.iwcc.edu/event/sign-language-street-signs/
LOCATION:Reiver Room of Student Center\, Council Bluffs Campus\, 2700 College Road\, Council Bluffs\, IA\, 51503
CATEGORIES:Student Activities
ORGANIZER;CN="Campus Life":MAILTO:campuslife@iwcc.edu
END:VEVENT
END:VCALENDAR