BEGIN:VCALENDAR
VERSION:2.0
PRODID:-//Iowa Western Community College - ECPv6.15.20//NONSGML v1.0//EN
CALSCALE:GREGORIAN
METHOD:PUBLISH
X-WR-CALNAME:Iowa Western Community College
X-ORIGINAL-URL:https://www.iwcc.edu
X-WR-CALDESC:Events for Iowa Western Community College
REFRESH-INTERVAL;VALUE=DURATION:PT1H
X-Robots-Tag:noindex
X-PUBLISHED-TTL:PT1H
BEGIN:VTIMEZONE
TZID:America/Chicago
BEGIN:DAYLIGHT
TZOFFSETFROM:-0600
TZOFFSETTO:-0500
TZNAME:CDT
DTSTART:20230312T080000
END:DAYLIGHT
BEGIN:STANDARD
TZOFFSETFROM:-0500
TZOFFSETTO:-0600
TZNAME:CST
DTSTART:20231105T070000
END:STANDARD
BEGIN:DAYLIGHT
TZOFFSETFROM:-0600
TZOFFSETTO:-0500
TZNAME:CDT
DTSTART:20240310T080000
END:DAYLIGHT
BEGIN:STANDARD
TZOFFSETFROM:-0500
TZOFFSETTO:-0600
TZNAME:CST
DTSTART:20241103T070000
END:STANDARD
BEGIN:DAYLIGHT
TZOFFSETFROM:-0600
TZOFFSETTO:-0500
TZNAME:CDT
DTSTART:20250309T080000
END:DAYLIGHT
BEGIN:STANDARD
TZOFFSETFROM:-0500
TZOFFSETTO:-0600
TZNAME:CST
DTSTART:20251102T070000
END:STANDARD
END:VTIMEZONE
BEGIN:VEVENT
DTSTART;TZID=America/Chicago:20241105T193000
DTEND;TZID=America/Chicago:20241105T193000
DTSTAMP:20260421T055427
CREATED:20240904T235008Z
LAST-MODIFIED:20241105T194742Z
UID:10008514-1730835000-1730835000@www.iwcc.edu
SUMMARY:(Men's Basketball) Iowa Western at Central Community College-Columbus
DESCRIPTION:(Men’s Basketball) Iowa Western at Central Community College-Columbus\, Columbus\, NE
URL:https://www.iwcc.edu/event/mens-basketball-iowa-western-at-central-community-college-columbus-4/
CATEGORIES:Athletics,Men's Basketball
END:VEVENT
BEGIN:VEVENT
DTSTART;TZID=America/Chicago:20241105T173000
DTEND;TZID=America/Chicago:20241105T173000
DTSTAMP:20260421T055427
CREATED:20240904T235005Z
LAST-MODIFIED:20241105T194741Z
UID:10008513-1730827800-1730827800@www.iwcc.edu
SUMMARY:(Women's Basketball) Iowa Western at Central Community College-Columbus
DESCRIPTION:(Women’s Basketball) Iowa Western at Central Community College-Columbus\, Columbus\, NE
URL:https://www.iwcc.edu/event/womens-basketball-iowa-western-at-central-community-college-columbus-4/
CATEGORIES:Athletics,Women's Basketball
END:VEVENT
BEGIN:VEVENT
DTSTART;TZID=America/Chicago:20241104T200000
DTEND;TZID=America/Chicago:20241104T210000
DTSTAMP:20260421T055427
CREATED:20241011T141414Z
LAST-MODIFIED:20241011T141414Z
UID:10008619-1730750400-1730754000@www.iwcc.edu
SUMMARY:FCA Club Meeting
DESCRIPTION:Join fellow athletes/students for weekly meetings to discover and deepen a relationship with Jesus Christ.
URL:https://www.iwcc.edu/event/fca-club-meeting/2024-11-04/
LOCATION:Aux Gym
CATEGORIES:Student Activities
ORGANIZER;CN="Campus Life":MAILTO:campuslife@iwcc.edu
END:VEVENT
BEGIN:VEVENT
DTSTART;TZID=America/Chicago:20241104T183000
DTEND;TZID=America/Chicago:20241104T200000
DTSTAMP:20260421T055427
CREATED:20240904T200645Z
LAST-MODIFIED:20240904T200645Z
UID:10008497-1730745000-1730750400@www.iwcc.edu
SUMMARY:Citylight U Club Meeting
DESCRIPTION:Join fellow students at Citylight U in Council Bluffs for weekly meetings regarding fellowship\, socialization and more!
URL:https://www.iwcc.edu/event/citylight-u-club-meeting-3/2024-11-04/
LOCATION:Citylight Council Bluffs\, 2109 Railroad Hwy\, Council Bluffs\, IA\, 51503\, United States
CATEGORIES:Student Activities
ORGANIZER;CN="Campus Life":MAILTO:campuslife@iwcc.edu
END:VEVENT
BEGIN:VEVENT
DTSTART;TZID=America/Chicago:20241104T160000
DTEND;TZID=America/Chicago:20241104T210000
DTSTAMP:20260421T055427
CREATED:20240819T173048Z
LAST-MODIFIED:20240819T173514Z
UID:10008403-1730736000-1730754000@www.iwcc.edu
SUMMARY:Dungeons & Dragons Club Meeting
DESCRIPTION:What is Dungeons and Dragons you might ask? Also known as D&D\, this is a role-playing game where the participants take on roles of different characters in a story. Players then gather around a table to embark on the collective story! \nIf this sounds like something you might be interested in\, stop by STC 2008 every Monday starting at 4:00 pm and dive into the realms of D&D.
URL:https://www.iwcc.edu/event/dungeons-dragons-club-meeting-2/2024-11-04/
LOCATION:STC 2008 of Student Center\, 2700 College Rd\, Council Bluffs\, IA\, 51503\, United States
CATEGORIES:Student Activities
ORGANIZER;CN="Campus Life":MAILTO:campuslife@iwcc.edu
END:VEVENT
BEGIN:VEVENT
DTSTART;VALUE=DATE:20241102
DTEND;VALUE=DATE:20241104
DTSTAMP:20260421T055427
CREATED:20241028T180132Z
LAST-MODIFIED:20241102T191857Z
UID:10008690-1730574000-1730656799@www.iwcc.edu
SUMMARY:(Women's Bowling) Bronco Open
DESCRIPTION:(Women’s Bowling) Bronco Open\, Hastings\, NE
URL:https://www.iwcc.edu/event/womens-bowling-bronco-open-8/
CATEGORIES:Athletics,Women's Bowling
END:VEVENT
BEGIN:VEVENT
DTSTART;VALUE=DATE:20241102
DTEND;VALUE=DATE:20241104
DTSTAMP:20260421T055427
CREATED:20241028T180131Z
LAST-MODIFIED:20241102T191856Z
UID:10008689-1730574000-1730656799@www.iwcc.edu
SUMMARY:(Men's Bowling) Bronco Open
DESCRIPTION:(Men’s Bowling) Bronco Open\, Hastings\, NE
URL:https://www.iwcc.edu/event/mens-bowling-bronco-open-8/
CATEGORIES:Athletics,Men's Bowling
END:VEVENT
BEGIN:VEVENT
DTSTART;VALUE=DATE:20241102
DTEND;VALUE=DATE:20241104
DTSTAMP:20260421T055427
CREATED:20240930T211833Z
LAST-MODIFIED:20241028T180133Z
UID:10008575-1730574000-1730656799@www.iwcc.edu
SUMMARY:(Women's Soccer) TBA vs. Iowa Western
DESCRIPTION:(Women’s Soccer) TBA vs. Iowa Western\, Third Round –  Central District Tournament
URL:https://www.iwcc.edu/event/womens-soccer-tba-vs-iowa-western-13/
CATEGORIES:Athletics,Women's Soccer
END:VEVENT
BEGIN:VEVENT
DTSTART;TZID=America/Chicago:20241102T130000
DTEND;TZID=America/Chicago:20241102T130000
DTSTAMP:20260421T055427
CREATED:20240804T155123Z
LAST-MODIFIED:20241101T190355Z
UID:10008353-1730552400-1730552400@www.iwcc.edu
SUMMARY:(Football) Butler Community College vs. Iowa Western
DESCRIPTION:(Football) Butler Community College vs. Iowa Western\, Titan Stadium | Council Bluffs\, IA
URL:https://www.iwcc.edu/event/football-butler-community-college-vs-iowa-western-2/
CATEGORIES:Athletics,Football
END:VEVENT
BEGIN:VEVENT
DTSTART;TZID=America/Chicago:20241102T130000
DTEND;TZID=America/Chicago:20241102T130000
DTSTAMP:20260421T055427
CREATED:20240804T155122Z
LAST-MODIFIED:20241101T190354Z
UID:10008352-1730552400-1730552400@www.iwcc.edu
SUMMARY:(Women's Volleyball) Iowa Western at Iowa Central Community College
DESCRIPTION:(Women’s Volleyball) Iowa Western at Iowa Central Community College\, Fort Dodge\, IA
URL:https://www.iwcc.edu/event/womens-volleyball-iowa-western-at-iowa-central-community-college-2/
CATEGORIES:Athletics,Women's Volleyball
END:VEVENT
BEGIN:VEVENT
DTSTART;TZID=America/Chicago:20241102T090000
DTEND;TZID=America/Chicago:20241102T090000
DTSTAMP:20260421T055427
CREATED:20241007T224718Z
LAST-MODIFIED:20241101T190352Z
UID:10008607-1730538000-1730538000@www.iwcc.edu
SUMMARY:(Wrestling) Luther Hill Invite
DESCRIPTION:(Wrestling) Luther Hill Invite\, Indianola\, IA
URL:https://www.iwcc.edu/event/wrestling-luther-hill-invite/
CATEGORIES:Athletics,Wrestling
END:VEVENT
BEGIN:VEVENT
DTSTART;TZID=America/Chicago:20241102T090000
DTEND;TZID=America/Chicago:20241102T090000
DTSTAMP:20260421T055427
CREATED:20240925T203251Z
LAST-MODIFIED:20241101T190353Z
UID:10008565-1730538000-1730538000@www.iwcc.edu
SUMMARY:(Women's Wrestling) Simpson Invite
DESCRIPTION:(Women’s Wrestling) Simpson Invite\, Indianola\, IA
URL:https://www.iwcc.edu/event/womens-wrestling-simpson-invite-2/
CATEGORIES:Athletics,Women's Wrestling
END:VEVENT
BEGIN:VEVENT
DTSTART;VALUE=DATE:20241101
DTEND;VALUE=DATE:20241103
DTSTAMP:20260421T055427
CREATED:20241028T180124Z
LAST-MODIFIED:20241101T190351Z
UID:10008687-1730487600-1730573999@www.iwcc.edu
SUMMARY:(Women's Bowling) Bronco Open
DESCRIPTION:(Women’s Bowling) Bronco Open\, Hastings\, NE
URL:https://www.iwcc.edu/event/womens-bowling-bronco-open-7/
CATEGORIES:Athletics,Women's Bowling
END:VEVENT
BEGIN:VEVENT
DTSTART;VALUE=DATE:20241101
DTEND;VALUE=DATE:20241103
DTSTAMP:20260421T055427
CREATED:20241028T180123Z
LAST-MODIFIED:20241101T190350Z
UID:10008686-1730487600-1730573999@www.iwcc.edu
SUMMARY:(Men's Bowling) Bronco Open
DESCRIPTION:(Men’s Bowling) Bronco Open\, Hastings\, NE
URL:https://www.iwcc.edu/event/mens-bowling-bronco-open-7/
CATEGORIES:Athletics,Men's Bowling
END:VEVENT
BEGIN:VEVENT
DTSTART;VALUE=DATE:20241101
DTEND;VALUE=DATE:20241103
DTSTAMP:20260421T055427
CREATED:20240804T155121Z
LAST-MODIFIED:20241101T190349Z
UID:10008351-1730487600-1730573999@www.iwcc.edu
SUMMARY:Quad vs Maryville\, Sterling\, and University of Saint Mary
DESCRIPTION:Quad vs Maryville\, Sterling\, and University of Saint Mary\, Lansing High School
URL:https://www.iwcc.edu/event/quad-vs-maryville-sterling-and-university-of-saint-mary/
LOCATION:University of Saint Mary
CATEGORIES:Athletics
END:VEVENT
BEGIN:VEVENT
DTSTART;TZID=America/Chicago:20241101T173000
DTEND;TZID=America/Chicago:20241101T173000
DTSTAMP:20260421T055427
CREATED:20240904T234955Z
LAST-MODIFIED:20241101T190347Z
UID:10008512-1730482200-1730482200@www.iwcc.edu
SUMMARY:(Women's Basketball) Grand View University JV vs. Iowa Western
DESCRIPTION:(Women’s Basketball) Grand View University JV vs. Iowa Western\, Reiver Arena | Council Bluffs\, IA
URL:https://www.iwcc.edu/event/womens-basketball-grand-view-university-jv-vs-iowa-western-3/
CATEGORIES:Athletics,Women's Basketball
END:VEVENT
BEGIN:VEVENT
DTSTART;TZID=America/Chicago:20241101T140000
DTEND;TZID=America/Chicago:20241101T140000
DTSTAMP:20260421T055427
CREATED:20241028T180129Z
LAST-MODIFIED:20241101T190344Z
UID:10008688-1730469600-1730469600@www.iwcc.edu
SUMMARY:(Women's Soccer) Lewis & Clark Community College vs. Iowa Western
DESCRIPTION:(Women’s Soccer) Lewis & Clark Community College vs. Iowa Western\, NJCAA Midwest District Tournament\, 1st half – 45:00
URL:https://www.iwcc.edu/event/womens-soccer-lewis-clark-community-college-vs-iowa-western-2/
CATEGORIES:Athletics,Women's Soccer
END:VEVENT
BEGIN:VEVENT
DTSTART;TZID=America/Chicago:20241101T140000
DTEND;TZID=America/Chicago:20241101T140000
DTSTAMP:20260421T055427
CREATED:20241024T170127Z
LAST-MODIFIED:20241101T190346Z
UID:10008675-1730469600-1730469600@www.iwcc.edu
SUMMARY:(Men's Soccer) Iowa Western vs. Indian Hills Community College
DESCRIPTION:(Men’s Soccer) Iowa Western vs. Indian Hills Community College\, West Des Moines\, IA
URL:https://www.iwcc.edu/event/mens-soccer-iowa-western-vs-indian-hills-community-college/
LOCATION:Mid American Rec Plex
CATEGORIES:Athletics,Men's Soccer
END:VEVENT
BEGIN:VEVENT
DTSTART;TZID=America/Chicago:20241101T140000
DTEND;TZID=America/Chicago:20241101T140000
DTSTAMP:20260421T055427
CREATED:20240826T213522Z
LAST-MODIFIED:20241023T164520Z
UID:10008487-1730469600-1730469600@www.iwcc.edu
SUMMARY:(Men's Soccer) Indian Hills Community College vs. Iowa Western
DESCRIPTION:(Men’s Soccer) Indian Hills Community College vs. Iowa Western\, Des Moines\, IA
URL:https://www.iwcc.edu/event/mens-soccer-indian-hills-community-college-vs-iowa-western-10/
LOCATION:Des Moines\, IA
CATEGORIES:Athletics,Men's Soccer
END:VEVENT
BEGIN:VEVENT
DTSTART;TZID=America/Chicago:20241031T163000
DTEND;TZID=America/Chicago:20241031T183000
DTSTAMP:20260421T055427
CREATED:20241002T163039Z
LAST-MODIFIED:20241002T163039Z
UID:10008595-1730392200-1730399400@www.iwcc.edu
SUMMARY:Smashing Academic Fears
DESCRIPTION:Join Campus Life and TRIO for a smashing good time with pumpkin smashing\, carving and painting. Let’s squash those academic fears together!\nDate: October 31\, 2024 \nTime: 4:30-6:30 PM \nLocation: Outside the Student Center
URL:https://www.iwcc.edu/event/smashing-academic-fears/
LOCATION:Student Center\, 1900 Madison Ave.\, Council Bluffs\, 51503\, United States
CATEGORIES:Student Activities
ORGANIZER;CN="Campus Life":MAILTO:campuslife@iwcc.edu
END:VEVENT
BEGIN:VEVENT
DTSTART;TZID=America/Chicago:20241031T160000
DTEND;TZID=America/Chicago:20241031T210000
DTSTAMP:20260421T055427
CREATED:20240826T161541Z
LAST-MODIFIED:20240826T161541Z
UID:10008426-1730390400-1730408400@www.iwcc.edu
SUMMARY:Dungeons & Dragons Club Meeting
DESCRIPTION:What is Dungeons and Dragons you might ask? Also known as D&D\, this is a role-playing game where the participants take on roles of different characters in a story. Players then gather around a table to embark on the collective story! \nIf this sounds like something you might be interested in\, stop by STC 2008 every Monday and Thursday starting at 4:00 pm and dive into the realms of D&D.
URL:https://www.iwcc.edu/event/dungeons-dragons-club-meeting-3/2024-10-31/
LOCATION:STC 2008 of Student Center\, 2700 College Rd\, Council Bluffs\, IA\, 51503\, United States
CATEGORIES:Student Activities
ORGANIZER;CN="Campus Life":MAILTO:campuslife@iwcc.edu
END:VEVENT
BEGIN:VEVENT
DTSTART;TZID=America/Chicago:20241030T160000
DTEND;TZID=America/Chicago:20241030T170000
DTSTAMP:20260421T055427
CREATED:20240819T180134Z
LAST-MODIFIED:20240819T180134Z
UID:10008412-1730304000-1730307600@www.iwcc.edu
SUMMARY:Arty Party
DESCRIPTION:Get into the Halloween spirit with a Spooky Boo Bead Bracelet making Arty Party!\nJoin us for a hauntingly good time and craft some eerie-sistible bracelets! \n\nWhere: Suites 2 Lobby\nTime: 4 – 5 PM
URL:https://www.iwcc.edu/event/arty-party-3/
LOCATION:Suites 2 Lobby\, 2400 College Rd\, Council Bluffs\, 51503\, United States
CATEGORIES:Student Activities
ORGANIZER;CN="Campus Life":MAILTO:campuslife@iwcc.edu
END:VEVENT
BEGIN:VEVENT
DTSTART;TZID=America/Chicago:20241029T180000
DTEND;TZID=America/Chicago:20241029T180000
DTSTAMP:20260421T055427
CREATED:20240904T234952Z
LAST-MODIFIED:20241029T181913Z
UID:10008511-1730224800-1730224800@www.iwcc.edu
SUMMARY:(Men's Basketball) Iowa Western at Johnson County Community College
DESCRIPTION:(Men’s Basketball) Iowa Western at Johnson County Community College\, Overland Park\, KS
URL:https://www.iwcc.edu/event/mens-basketball-iowa-western-at-johnson-county-community-college-2/
CATEGORIES:Athletics,Men's Basketball
END:VEVENT
BEGIN:VEVENT
DTSTART;TZID=America/Chicago:20241029T170000
DTEND;TZID=America/Chicago:20241029T170000
DTSTAMP:20260421T055427
CREATED:20240731T231816Z
LAST-MODIFIED:20241029T181911Z
UID:10008348-1730221200-1730221200@www.iwcc.edu
SUMMARY:(Men's Soccer) Dodge City Community College vs. Iowa Western
DESCRIPTION:(Men’s Soccer) Dodge City Community College vs. Iowa Western\, Council Bluffs\, IA
URL:https://www.iwcc.edu/event/mens-soccer-dodge-city-community-college-vs-iowa-western/
CATEGORIES:Athletics,Men's Soccer
END:VEVENT
BEGIN:VEVENT
DTSTART;TZID=America/Chicago:20241028T200000
DTEND;TZID=America/Chicago:20241028T210000
DTSTAMP:20260421T055427
CREATED:20241011T141414Z
LAST-MODIFIED:20241011T141414Z
UID:10008618-1730145600-1730149200@www.iwcc.edu
SUMMARY:FCA Club Meeting
DESCRIPTION:Join fellow athletes/students for weekly meetings to discover and deepen a relationship with Jesus Christ.
URL:https://www.iwcc.edu/event/fca-club-meeting/2024-10-28/
LOCATION:Aux Gym
CATEGORIES:Student Activities
ORGANIZER;CN="Campus Life":MAILTO:campuslife@iwcc.edu
END:VEVENT
BEGIN:VEVENT
DTSTART;TZID=America/Chicago:20241028T190000
DTEND;TZID=America/Chicago:20241028T190000
DTSTAMP:20260421T055427
CREATED:20240731T231815Z
LAST-MODIFIED:20241028T180115Z
UID:10008347-1730142000-1730142000@www.iwcc.edu
SUMMARY:(Women's Volleyball) Western Iowa Tech CC vs. Iowa Western
DESCRIPTION:(Women’s Volleyball) Western Iowa Tech CC vs. Iowa Western\, Reiver Arena | Council Bluffs\, IA
URL:https://www.iwcc.edu/event/womens-volleyball-western-iowa-tech-cc-vs-iowa-western-2/
CATEGORIES:Athletics,Women's Volleyball
END:VEVENT
BEGIN:VEVENT
DTSTART;TZID=America/Chicago:20241028T183000
DTEND;TZID=America/Chicago:20241028T200000
DTSTAMP:20260421T055427
CREATED:20240904T200645Z
LAST-MODIFIED:20240904T200645Z
UID:10008496-1730140200-1730145600@www.iwcc.edu
SUMMARY:Citylight U Club Meeting
DESCRIPTION:Join fellow students at Citylight U in Council Bluffs for weekly meetings regarding fellowship\, socialization and more!
URL:https://www.iwcc.edu/event/citylight-u-club-meeting-3/2024-10-28/
LOCATION:Citylight Council Bluffs\, 2109 Railroad Hwy\, Council Bluffs\, IA\, 51503\, United States
CATEGORIES:Student Activities
ORGANIZER;CN="Campus Life":MAILTO:campuslife@iwcc.edu
END:VEVENT
BEGIN:VEVENT
DTSTART;TZID=America/Chicago:20241028T170000
DTEND;TZID=America/Chicago:20241028T170000
DTSTAMP:20260421T055427
CREATED:20241002T213514Z
LAST-MODIFIED:20241028T180114Z
UID:10008599-1730134800-1730134800@www.iwcc.edu
SUMMARY:(Women's Volleyball) Western Iowa Tech JV vs. Iowa Western
DESCRIPTION:(Women’s Volleyball) Western Iowa Tech JV vs. Iowa Western\, Reiver Arena | Council Bluffs\, IA
URL:https://www.iwcc.edu/event/womens-volleyball-western-iowa-tech-jv-vs-iowa-western/
CATEGORIES:Athletics,Women's Volleyball
END:VEVENT
BEGIN:VEVENT
DTSTART;TZID=America/Chicago:20241028T160000
DTEND;TZID=America/Chicago:20241028T210000
DTSTAMP:20260421T055427
CREATED:20240819T173048Z
LAST-MODIFIED:20240819T173514Z
UID:10008402-1730131200-1730149200@www.iwcc.edu
SUMMARY:Dungeons & Dragons Club Meeting
DESCRIPTION:What is Dungeons and Dragons you might ask? Also known as D&D\, this is a role-playing game where the participants take on roles of different characters in a story. Players then gather around a table to embark on the collective story! \nIf this sounds like something you might be interested in\, stop by STC 2008 every Monday starting at 4:00 pm and dive into the realms of D&D.
URL:https://www.iwcc.edu/event/dungeons-dragons-club-meeting-2/2024-10-28/
LOCATION:STC 2008 of Student Center\, 2700 College Rd\, Council Bluffs\, IA\, 51503\, United States
CATEGORIES:Student Activities
ORGANIZER;CN="Campus Life":MAILTO:campuslife@iwcc.edu
END:VEVENT
BEGIN:VEVENT
DTSTART;VALUE=DATE:20241027
DTEND;VALUE=DATE:20241029
DTSTAMP:20260421T055427
CREATED:20240904T234950Z
LAST-MODIFIED:20241027T174454Z
UID:10008510-1730055600-1730141999@www.iwcc.edu
SUMMARY:(Women's Basketball) Iowa Western at Dordt University
DESCRIPTION:(Women’s Basketball) Iowa Western at Dordt University
URL:https://www.iwcc.edu/event/womens-basketball-iowa-western-at-dordt-university/
CATEGORIES:Athletics,Women's Basketball
END:VEVENT
END:VCALENDAR