BEGIN:VCALENDAR
VERSION:2.0
PRODID:-//Iowa Western Community College - ECPv6.15.20//NONSGML v1.0//EN
CALSCALE:GREGORIAN
METHOD:PUBLISH
X-WR-CALNAME:Iowa Western Community College
X-ORIGINAL-URL:https://www.iwcc.edu
X-WR-CALDESC:Events for Iowa Western Community College
REFRESH-INTERVAL;VALUE=DURATION:PT1H
X-Robots-Tag:noindex
X-PUBLISHED-TTL:PT1H
BEGIN:VTIMEZONE
TZID:America/Chicago
BEGIN:DAYLIGHT
TZOFFSETFROM:-0600
TZOFFSETTO:-0500
TZNAME:CDT
DTSTART:20260308T080000
END:DAYLIGHT
BEGIN:STANDARD
TZOFFSETFROM:-0500
TZOFFSETTO:-0600
TZNAME:CST
DTSTART:20261101T070000
END:STANDARD
BEGIN:DAYLIGHT
TZOFFSETFROM:-0600
TZOFFSETTO:-0500
TZNAME:CDT
DTSTART:20270314T080000
END:DAYLIGHT
BEGIN:STANDARD
TZOFFSETFROM:-0500
TZOFFSETTO:-0600
TZNAME:CST
DTSTART:20271107T070000
END:STANDARD
BEGIN:DAYLIGHT
TZOFFSETFROM:-0600
TZOFFSETTO:-0500
TZNAME:CDT
DTSTART:20280312T080000
END:DAYLIGHT
BEGIN:STANDARD
TZOFFSETFROM:-0500
TZOFFSETTO:-0600
TZNAME:CST
DTSTART:20281105T070000
END:STANDARD
END:VTIMEZONE
BEGIN:VEVENT
DTSTART;VALUE=DATE:20271008
DTEND;VALUE=DATE:20271009
DTSTAMP:20260422T010525
CREATED:20250131T151628Z
LAST-MODIFIED:20250131T151628Z
UID:10009079-1822953600-1823039999@www.iwcc.edu
SUMMARY:Spring 2028 Priority Registration for Current Students
DESCRIPTION:
URL:https://www.iwcc.edu/event/spring-2028-priority-registration-for-current-students/2027-10-08/
CATEGORIES:Term Registration Dates
ORGANIZER;CN="Registrar Office":MAILTO:registrar@iwcc.edu
END:VEVENT
BEGIN:VEVENT
DTSTART;VALUE=DATE:20271008
DTEND;VALUE=DATE:20271009
DTSTAMP:20260422T010525
CREATED:20251216T162709Z
LAST-MODIFIED:20251216T162709Z
UID:10009510-1822953600-1823039999@www.iwcc.edu
SUMMARY:Fall Accelerated 4 Week Session II Ends
DESCRIPTION:
URL:https://www.iwcc.edu/event/fall-accelerated-4-week-session-ii-ends-2/
CATEGORIES:Term Start & End Dates
END:VEVENT
BEGIN:VEVENT
DTSTART;VALUE=DATE:20271009
DTEND;VALUE=DATE:20271010
DTSTAMP:20260422T010525
CREATED:20250131T151628Z
LAST-MODIFIED:20250131T151628Z
UID:10009080-1823040000-1823126399@www.iwcc.edu
SUMMARY:Spring 2028 Priority Registration for Current Students
DESCRIPTION:
URL:https://www.iwcc.edu/event/spring-2028-priority-registration-for-current-students/2027-10-09/
CATEGORIES:Term Registration Dates
ORGANIZER;CN="Registrar Office":MAILTO:registrar@iwcc.edu
END:VEVENT
BEGIN:VEVENT
DTSTART;VALUE=DATE:20271010
DTEND;VALUE=DATE:20271011
DTSTAMP:20260422T010525
CREATED:20250131T151628Z
LAST-MODIFIED:20250131T151628Z
UID:10009081-1823126400-1823212799@www.iwcc.edu
SUMMARY:Spring 2028 Priority Registration for Current Students
DESCRIPTION:
URL:https://www.iwcc.edu/event/spring-2028-priority-registration-for-current-students/2027-10-10/
CATEGORIES:Term Registration Dates
ORGANIZER;CN="Registrar Office":MAILTO:registrar@iwcc.edu
END:VEVENT
BEGIN:VEVENT
DTSTART;VALUE=DATE:20271011
DTEND;VALUE=DATE:20271012
DTSTAMP:20260422T010525
CREATED:20250131T151628Z
LAST-MODIFIED:20250131T151628Z
UID:10009082-1823212800-1823299199@www.iwcc.edu
SUMMARY:Spring 2028 Priority Registration for Current Students
DESCRIPTION:
URL:https://www.iwcc.edu/event/spring-2028-priority-registration-for-current-students/2027-10-11/
CATEGORIES:Term Registration Dates
ORGANIZER;CN="Registrar Office":MAILTO:registrar@iwcc.edu
END:VEVENT
BEGIN:VEVENT
DTSTART;VALUE=DATE:20271012
DTEND;VALUE=DATE:20271013
DTSTAMP:20260422T010525
CREATED:20250131T151628Z
LAST-MODIFIED:20250131T151628Z
UID:10009083-1823299200-1823385599@www.iwcc.edu
SUMMARY:Spring 2028 Priority Registration for Current Students
DESCRIPTION:
URL:https://www.iwcc.edu/event/spring-2028-priority-registration-for-current-students/2027-10-12/
CATEGORIES:Term Registration Dates
ORGANIZER;CN="Registrar Office":MAILTO:registrar@iwcc.edu
END:VEVENT
BEGIN:VEVENT
DTSTART;VALUE=DATE:20271012
DTEND;VALUE=DATE:20271013
DTSTAMP:20260422T010525
CREATED:20250207T175156Z
LAST-MODIFIED:20251216T162920Z
UID:10009157-1823299200-1823385599@www.iwcc.edu
SUMMARY:Fall Accelerated 8 Week Session I Ends
DESCRIPTION:
URL:https://www.iwcc.edu/event/fall-accelerated-session-i-ends-5/
CATEGORIES:Term Start & End Dates
ORGANIZER;CN="Board Secretary":MAILTO:emckee@iwcc.edu
END:VEVENT
BEGIN:VEVENT
DTSTART;VALUE=DATE:20271013
DTEND;VALUE=DATE:20271014
DTSTAMP:20260422T010525
CREATED:20250131T151913Z
LAST-MODIFIED:20250131T151913Z
UID:10009086-1823385600-1823471999@www.iwcc.edu
SUMMARY:Spring 2028 Open Registration Begins
DESCRIPTION:
URL:https://www.iwcc.edu/event/spring-2028-open-registration-begins/
CATEGORIES:Term Registration Dates
ORGANIZER;CN="Registrar Office":MAILTO:registrar@iwcc.edu
END:VEVENT
BEGIN:VEVENT
DTSTART;VALUE=DATE:20271013
DTEND;VALUE=DATE:20271014
DTSTAMP:20260422T010525
CREATED:20250131T151959Z
LAST-MODIFIED:20250131T151959Z
UID:10009087-1823385600-1823471999@www.iwcc.edu
SUMMARY:Summer 2028 Open Registration Begins
DESCRIPTION:
URL:https://www.iwcc.edu/event/summer-2028-open-registration-begins/
CATEGORIES:Term Registration Dates
ORGANIZER;CN="Registrar Office":MAILTO:registrar@iwcc.edu
END:VEVENT
BEGIN:VEVENT
DTSTART;VALUE=DATE:20271014
DTEND;VALUE=DATE:20271015
DTSTAMP:20260422T010525
CREATED:20250207T194031Z
LAST-MODIFIED:20250207T194031Z
UID:10009158-1823472000-1823558399@www.iwcc.edu
SUMMARY:Campus-Wide Professional Development Day (No Classes)
DESCRIPTION:
URL:https://www.iwcc.edu/event/campus-wide-professional-development-day-no-classes/
CATEGORIES:Campus Wide Professional Development
ORGANIZER;CN="Board Secretary":MAILTO:emckee@iwcc.edu
END:VEVENT
BEGIN:VEVENT
DTSTART;VALUE=DATE:20271015
DTEND;VALUE=DATE:20271016
DTSTAMP:20260422T010525
CREATED:20250207T195826Z
LAST-MODIFIED:20250207T195826Z
UID:10009159-1823558400-1823644799@www.iwcc.edu
SUMMARY:Faculty Development Day (No Classes)
DESCRIPTION:
URL:https://www.iwcc.edu/event/faculty-development-day-no-classes-7/
CATEGORIES:Faculty Events
ORGANIZER;CN="Board Secretary":MAILTO:emckee@iwcc.edu
END:VEVENT
BEGIN:VEVENT
DTSTART;VALUE=DATE:20271018
DTEND;VALUE=DATE:20271019
DTSTAMP:20260422T010525
CREATED:20250207T200023Z
LAST-MODIFIED:20251216T163037Z
UID:10009160-1823817600-1823903999@www.iwcc.edu
SUMMARY:Fall Accelerated 8 Week Session II Begins
DESCRIPTION:
URL:https://www.iwcc.edu/event/fall-accelerated-session-ii-begins-5/
CATEGORIES:Term Start & End Dates
ORGANIZER;CN="Board Secretary":MAILTO:emckee@iwcc.edu
END:VEVENT
BEGIN:VEVENT
DTSTART;VALUE=DATE:20271018
DTEND;VALUE=DATE:20271019
DTSTAMP:20260422T010525
CREATED:20251216T162850Z
LAST-MODIFIED:20251216T162850Z
UID:10009511-1823817600-1823903999@www.iwcc.edu
SUMMARY:Fall Accelerated 4 Week Session III Begins
DESCRIPTION:
URL:https://www.iwcc.edu/event/fall-accelerated-4-week-session-iii-begins-2/
CATEGORIES:Term Start & End Dates
END:VEVENT
BEGIN:VEVENT
DTSTART;VALUE=DATE:20271018
DTEND;VALUE=DATE:20271019
DTSTAMP:20260422T010525
CREATED:20260128T202340Z
LAST-MODIFIED:20260128T202340Z
UID:10010176-1823817600-1823903999@www.iwcc.edu
SUMMARY:Last Day to Add Accelerated 4-Week Session III Classes
DESCRIPTION:
URL:https://www.iwcc.edu/event/last-day-to-add-accelerated-4-week-session-iii-classes-3/
CATEGORIES:Term Registration Dates
END:VEVENT
BEGIN:VEVENT
DTSTART;VALUE=DATE:20271018
DTEND;VALUE=DATE:20271019
DTSTAMP:20260422T010525
CREATED:20260128T202421Z
LAST-MODIFIED:20260128T202421Z
UID:10010177-1823817600-1823903999@www.iwcc.edu
SUMMARY:Last Day 100% Refund Accelerated 4-Week Session III Classes
DESCRIPTION:
URL:https://www.iwcc.edu/event/last-day-100-refund-accelerated-4-week-session-iii-classes/
CATEGORIES:Payment & Refund
END:VEVENT
BEGIN:VEVENT
DTSTART;VALUE=DATE:20271019
DTEND;VALUE=DATE:20271020
DTSTAMP:20260422T010525
CREATED:20260128T202456Z
LAST-MODIFIED:20260128T202456Z
UID:10010178-1823904000-1823990399@www.iwcc.edu
SUMMARY:Last Day 50% Refund Accelerated 4-Week Session III Classes
DESCRIPTION:
URL:https://www.iwcc.edu/event/last-day-50-refund-accelerated-4-week-session-iii-classes/
CATEGORIES:Payment & Refund
END:VEVENT
BEGIN:VEVENT
DTSTART;VALUE=DATE:20271020
DTEND;VALUE=DATE:20271021
DTSTAMP:20260422T010525
CREATED:20250131T152051Z
LAST-MODIFIED:20250131T152051Z
UID:10009088-1823990400-1824076799@www.iwcc.edu
SUMMARY:Last Day to Add Accelerated Session II (2nd 8-week) Classes
DESCRIPTION:
URL:https://www.iwcc.edu/event/last-day-to-add-accelerated-session-ii-2nd-8-week-classes/
CATEGORIES:Term Registration Dates
ORGANIZER;CN="Registrar Office":MAILTO:registrar@iwcc.edu
END:VEVENT
BEGIN:VEVENT
DTSTART;VALUE=DATE:20271020
DTEND;VALUE=DATE:20271021
DTSTAMP:20260422T010525
CREATED:20250131T152139Z
LAST-MODIFIED:20250131T152139Z
UID:10009089-1823990400-1824076799@www.iwcc.edu
SUMMARY:Last Day 100% Refund for Accelerated Session II (2nd 8-week ) Classes
DESCRIPTION:
URL:https://www.iwcc.edu/event/last-day-100-refund-for-accelerated-session-ii-2nd-8-week-classes/
CATEGORIES:Payment & Refund
ORGANIZER;CN="Registrar Office":MAILTO:registrar@iwcc.edu
END:VEVENT
BEGIN:VEVENT
DTSTART;VALUE=DATE:20271022
DTEND;VALUE=DATE:20271023
DTSTAMP:20260422T010525
CREATED:20250131T152239Z
LAST-MODIFIED:20250131T152239Z
UID:10009090-1824163200-1824249599@www.iwcc.edu
SUMMARY:Last Day 50% Refund for Accelerated Session II (2nd 8-week) Classes
DESCRIPTION:
URL:https://www.iwcc.edu/event/last-day-50-refund-for-accelerated-session-ii-2nd-8-week-classes/
CATEGORIES:Payment & Refund
ORGANIZER;CN="Registrar Office":MAILTO:registrar@iwcc.edu
END:VEVENT
BEGIN:VEVENT
DTSTART;VALUE=DATE:20271108
DTEND;VALUE=DATE:20271109
DTSTAMP:20260422T010525
CREATED:20250131T152332Z
LAST-MODIFIED:20250131T152332Z
UID:10009091-1825632000-1825718399@www.iwcc.edu
SUMMARY:Last Day to Drop Regular Term (16-week) Classes
DESCRIPTION:
URL:https://www.iwcc.edu/event/last-day-to-drop-regular-term-16-week-classes-2/
CATEGORIES:Payment & Refund
ORGANIZER;CN="Registrar Office":MAILTO:registrar@iwcc.edu
END:VEVENT
BEGIN:VEVENT
DTSTART;VALUE=DATE:20271108
DTEND;VALUE=DATE:20271109
DTSTAMP:20260422T010525
CREATED:20260128T202554Z
LAST-MODIFIED:20260128T202554Z
UID:10010179-1825632000-1825718399@www.iwcc.edu
SUMMARY:Last Day to Drop Accelerated 4-Week Session III Classes
DESCRIPTION:
URL:https://www.iwcc.edu/event/last-day-to-drop-accelerated-4-week-session-iii-classes-3/
CATEGORIES:Term Registration Dates
END:VEVENT
BEGIN:VEVENT
DTSTART;VALUE=DATE:20271112
DTEND;VALUE=DATE:20271113
DTSTAMP:20260422T010525
CREATED:20251216T163147Z
LAST-MODIFIED:20251216T163147Z
UID:10009512-1825977600-1826063999@www.iwcc.edu
SUMMARY:Fall Accelerated 4 Week Session III Ends
DESCRIPTION:
URL:https://www.iwcc.edu/event/fall-accelerated-4-week-session-iii-ends-2/
CATEGORIES:Term Start & End Dates
END:VEVENT
BEGIN:VEVENT
DTSTART;VALUE=DATE:20271115
DTEND;VALUE=DATE:20271116
DTSTAMP:20260422T010525
CREATED:20251216T163219Z
LAST-MODIFIED:20251216T163219Z
UID:10009513-1826236800-1826323199@www.iwcc.edu
SUMMARY:Fall Accelerated 4 Week Session IV Begins
DESCRIPTION:
URL:https://www.iwcc.edu/event/fall-accelerated-4-week-session-iv-begins-2/
CATEGORIES:Term Start & End Dates
END:VEVENT
BEGIN:VEVENT
DTSTART;VALUE=DATE:20271115
DTEND;VALUE=DATE:20271116
DTSTAMP:20260422T010525
CREATED:20260128T202641Z
LAST-MODIFIED:20260128T202641Z
UID:10010180-1826236800-1826323199@www.iwcc.edu
SUMMARY:Last Day to Add Accelerated 4-Week Session IV Classes
DESCRIPTION:
URL:https://www.iwcc.edu/event/last-day-to-add-accelerated-4-week-session-iv-classes-3/
CATEGORIES:Term Registration Dates
END:VEVENT
BEGIN:VEVENT
DTSTART;VALUE=DATE:20271115
DTEND;VALUE=DATE:20271116
DTSTAMP:20260422T010525
CREATED:20260128T202720Z
LAST-MODIFIED:20260128T202720Z
UID:10010181-1826236800-1826323199@www.iwcc.edu
SUMMARY:Last Day 100% Refund Accelerated 4-Week Session IV Classes
DESCRIPTION:
URL:https://www.iwcc.edu/event/last-day-100-refund-accelerated-4-week-session-iv-classes/
CATEGORIES:Payment & Refund
END:VEVENT
BEGIN:VEVENT
DTSTART;VALUE=DATE:20271116
DTEND;VALUE=DATE:20271117
DTSTAMP:20260422T010525
CREATED:20260128T202825Z
LAST-MODIFIED:20260128T202825Z
UID:10010182-1826323200-1826409599@www.iwcc.edu
SUMMARY:Last Day 50% Refund Accelerated 4-Week Session IV Classes
DESCRIPTION:
URL:https://www.iwcc.edu/event/last-day-50-refund-accelerated-4-week-session-iv-classes/
CATEGORIES:Payment & Refund
END:VEVENT
BEGIN:VEVENT
DTSTART;VALUE=DATE:20271125
DTEND;VALUE=DATE:20271126
DTSTAMP:20260422T010525
CREATED:20250207T200859Z
LAST-MODIFIED:20250207T200859Z
UID:10009163-1827100800-1827187199@www.iwcc.edu
SUMMARY:Holiday - College Offices Closed
DESCRIPTION:
URL:https://www.iwcc.edu/event/holiday-college-offices-closed-49/
CATEGORIES:Holiday/Recess Days
ORGANIZER;CN="Board Secretary":MAILTO:emckee@iwcc.edu
END:VEVENT
BEGIN:VEVENT
DTSTART;VALUE=DATE:20271126
DTEND;VALUE=DATE:20271127
DTSTAMP:20260422T010525
CREATED:20250207T200550Z
LAST-MODIFIED:20250207T200550Z
UID:10009162-1827187200-1827273599@www.iwcc.edu
SUMMARY:Holiday - College Offices Closed
DESCRIPTION:
URL:https://www.iwcc.edu/event/holiday-college-offices-closed-48/
CATEGORIES:Holiday/Recess Days
ORGANIZER;CN="Board Secretary":MAILTO:emckee@iwcc.edu
END:VEVENT
BEGIN:VEVENT
DTSTART;VALUE=DATE:20271129
DTEND;VALUE=DATE:20271130
DTSTAMP:20260422T010525
CREATED:20250131T152425Z
LAST-MODIFIED:20250131T152425Z
UID:10009092-1827446400-1827532799@www.iwcc.edu
SUMMARY:Last Day to Drop Accelerated Session II (2nd 8-week) Classes
DESCRIPTION:
URL:https://www.iwcc.edu/event/last-day-to-drop-accelerated-session-ii-2nd-8-week-classes/
CATEGORIES:Term Registration Dates
ORGANIZER;CN="Registrar Office":MAILTO:registrar@iwcc.edu
END:VEVENT
BEGIN:VEVENT
DTSTART;VALUE=DATE:20271206
DTEND;VALUE=DATE:20271207
DTSTAMP:20260422T010525
CREATED:20260128T202948Z
LAST-MODIFIED:20260128T202948Z
UID:10010183-1828051200-1828137599@www.iwcc.edu
SUMMARY:Last Day to Drop Accelerated 4-Week Session IV Classes
DESCRIPTION:
URL:https://www.iwcc.edu/event/last-day-to-drop-accelerated-4-week-session-iv-classes-3/
CATEGORIES:Term Registration Dates
END:VEVENT
END:VCALENDAR