BEGIN:VCALENDAR
VERSION:2.0
PRODID:-//Iowa Western Community College - ECPv6.15.20//NONSGML v1.0//EN
CALSCALE:GREGORIAN
METHOD:PUBLISH
X-WR-CALNAME:Iowa Western Community College
X-ORIGINAL-URL:https://www.iwcc.edu
X-WR-CALDESC:Events for Iowa Western Community College
REFRESH-INTERVAL;VALUE=DURATION:PT1H
X-Robots-Tag:noindex
X-PUBLISHED-TTL:PT1H
BEGIN:VTIMEZONE
TZID:America/Chicago
BEGIN:DAYLIGHT
TZOFFSETFROM:-0600
TZOFFSETTO:-0500
TZNAME:CDT
DTSTART:20250309T080000
END:DAYLIGHT
BEGIN:STANDARD
TZOFFSETFROM:-0500
TZOFFSETTO:-0600
TZNAME:CST
DTSTART:20251102T070000
END:STANDARD
BEGIN:DAYLIGHT
TZOFFSETFROM:-0600
TZOFFSETTO:-0500
TZNAME:CDT
DTSTART:20260308T080000
END:DAYLIGHT
BEGIN:STANDARD
TZOFFSETFROM:-0500
TZOFFSETTO:-0600
TZNAME:CST
DTSTART:20261101T070000
END:STANDARD
BEGIN:DAYLIGHT
TZOFFSETFROM:-0600
TZOFFSETTO:-0500
TZNAME:CDT
DTSTART:20270314T080000
END:DAYLIGHT
BEGIN:STANDARD
TZOFFSETFROM:-0500
TZOFFSETTO:-0600
TZNAME:CST
DTSTART:20271107T070000
END:STANDARD
END:VTIMEZONE
BEGIN:VEVENT
DTSTART;VALUE=DATE:20260302
DTEND;VALUE=DATE:20260303
DTSTAMP:20260420T073348
CREATED:20230223T215415Z
LAST-MODIFIED:20240312T182014Z
UID:10008192-1772409600-1772495999@www.iwcc.edu
SUMMARY:Fall 2026 Priority Registration Week
DESCRIPTION:
URL:https://www.iwcc.edu/event/fall-2026-priority-registration-week/2026-03-02/
ORGANIZER;CN="Registrar Office":MAILTO:registrar@iwcc.edu
END:VEVENT
BEGIN:VEVENT
DTSTART;TZID=America/Chicago:20260302T110000
DTEND;TZID=America/Chicago:20260302T130000
DTSTAMP:20260420T073348
CREATED:20260306T175515Z
LAST-MODIFIED:20260306T175515Z
UID:10010261-1772449200-1772456400@www.iwcc.edu
SUMMARY:Mario Kart Sobriety Showdown
DESCRIPTION:Race Mario Kart while wearing drunk goggles to experience how alcohol affects your reaction time. Learn about the dangers of impaired driving in a fun and safe way! 
URL:https://www.iwcc.edu/event/mario-kart-sobriety-showdown-2/
LOCATION:Reiver Room of Student Center\, Council Bluffs Campus\, 2700 College Road\, Council Bluffs\, IA\, 51503
CATEGORIES:Student Activities
ORGANIZER;CN="Campus Life":MAILTO:campuslife@iwcc.edu
END:VEVENT
BEGIN:VEVENT
DTSTART;VALUE=DATE:20260303
DTEND;VALUE=DATE:20260304
DTSTAMP:20260420T073348
CREATED:20230223T215415Z
LAST-MODIFIED:20240312T182014Z
UID:10008193-1772496000-1772582399@www.iwcc.edu
SUMMARY:Fall 2026 Priority Registration Week
DESCRIPTION:
URL:https://www.iwcc.edu/event/fall-2026-priority-registration-week/2026-03-03/
ORGANIZER;CN="Registrar Office":MAILTO:registrar@iwcc.edu
END:VEVENT
BEGIN:VEVENT
DTSTART;TZID=America/Chicago:20260303T110000
DTEND;TZID=America/Chicago:20260303T130000
DTSTAMP:20260420T073348
CREATED:20260306T175806Z
LAST-MODIFIED:20260306T175806Z
UID:10010262-1772535600-1772542800@www.iwcc.edu
SUMMARY:Luck of the Draw
DESCRIPTION:Try your Luck of the Draw! Tell us an event idea\, a prize idea\, or where you’d like a gift card from for future Campus Life events. Then test your luck—draw a coin at the kiosk and see if you win a prize!
URL:https://www.iwcc.edu/event/luck-of-the-draw/
LOCATION:STC Kiosk
CATEGORIES:Student Activities
ORGANIZER;CN="Campus Life":MAILTO:campuslife@iwcc.edu
END:VEVENT
BEGIN:VEVENT
DTSTART;VALUE=DATE:20260303
DTEND;VALUE=DATE:20260305
DTSTAMP:20260420T073348
CREATED:20251204T191732Z
LAST-MODIFIED:20260303T213106Z
UID:10009447-1772560800-1772647199@www.iwcc.edu
SUMMARY:(Women's Swimming & Diving) NJCAA National Championships
DESCRIPTION:(Women’s Swimming & Diving) NJCAA National Championships\, Fort Pierce\, FL
URL:https://www.iwcc.edu/event/womens-swimming-diving-njcaa-national-championships/
CATEGORIES:Athletics,Women's Swimming & Diving
END:VEVENT
BEGIN:VEVENT
DTSTART;VALUE=DATE:20260303
DTEND;VALUE=DATE:20260305
DTSTAMP:20260420T073348
CREATED:20251204T191733Z
LAST-MODIFIED:20260303T213107Z
UID:10009448-1772560800-1772647199@www.iwcc.edu
SUMMARY:(Men's Swimming & Diving) NJCAA National Championships
DESCRIPTION:(Men’s Swimming & Diving) NJCAA National Championships\, Fort Pierce\, FL
URL:https://www.iwcc.edu/event/mens-swimming-diving-njcaa-national-championships/
CATEGORIES:Athletics,Men's Swimming & Diving
END:VEVENT
BEGIN:VEVENT
DTSTART;TZID=America/Chicago:20260303T190000
DTEND;TZID=America/Chicago:20260303T190000
DTSTAMP:20260420T073348
CREATED:20260217T181807Z
LAST-MODIFIED:20260303T213109Z
UID:10010244-1772564400-1772564400@www.iwcc.edu
SUMMARY:(eSports) Central Community College vs. Iowa Western
DESCRIPTION:(eSports) Central Community College vs. Iowa Western\, NJCAAE DI Rocket League Regular Season
URL:https://www.iwcc.edu/event/esports-central-community-college-vs-iowa-western-2/
CATEGORIES:Athletics,eSports
END:VEVENT
BEGIN:VEVENT
DTSTART;TZID=America/Chicago:20260303T190000
DTEND;TZID=America/Chicago:20260303T190000
DTSTAMP:20260420T073348
CREATED:20260301T211549Z
LAST-MODIFIED:20260303T213108Z
UID:10010260-1772564400-1772564400@www.iwcc.edu
SUMMARY:(Men's Basketball) Iowa Western at Des Moines Area Community College
DESCRIPTION:(Men’s Basketball) Iowa Western at Des Moines Area Community College\, Region 11-A Championship | Boone\, Iowa
URL:https://www.iwcc.edu/event/mens-basketball-iowa-western-at-des-moines-area-community-college-7/
CATEGORIES:Athletics,Men's Basketball
END:VEVENT
BEGIN:VEVENT
DTSTART;VALUE=DATE:20260304
DTEND;VALUE=DATE:20260305
DTSTAMP:20260420T073348
CREATED:20230223T215522Z
LAST-MODIFIED:20240301T221649Z
UID:10006933-1772582400-1772668799@www.iwcc.edu
SUMMARY:Fall Open Registration Begins
DESCRIPTION:
URL:https://www.iwcc.edu/event/fall-open-registration-begins-2/
ORGANIZER;CN="Registrar Office":MAILTO:registrar@iwcc.edu
END:VEVENT
BEGIN:VEVENT
DTSTART;TZID=America/Chicago:20260304T080000
DTEND;TZID=America/Chicago:20260304T170000
DTSTAMP:20260420T073348
CREATED:20230223T215653Z
LAST-MODIFIED:20230223T215653Z
UID:10006936-1772611200-1772643600@www.iwcc.edu
SUMMARY:Midterm
DESCRIPTION:
URL:https://www.iwcc.edu/event/midterm-10/
ORGANIZER;CN="Registrar Office":MAILTO:registrar@iwcc.edu
END:VEVENT
BEGIN:VEVENT
DTSTART;TZID=America/Chicago:20260304T080000
DTEND;TZID=America/Chicago:20260315T170000
DTSTAMP:20260420T073348
CREATED:20260306T180219Z
LAST-MODIFIED:20260306T180219Z
UID:10010263-1772611200-1773594000@www.iwcc.edu
SUMMARY:Oscars Pick 'Em
DESCRIPTION:It’s time to drop your Oscar predictions HERE and see who’s got award-winning instincts!
URL:https://www.iwcc.edu/event/oscars-pick-em/
CATEGORIES:Student Activities
ORGANIZER;CN="Campus Life":MAILTO:campuslife@iwcc.edu
END:VEVENT
BEGIN:VEVENT
DTSTART;VALUE=DATE:20260304
DTEND;VALUE=DATE:20260306
DTSTAMP:20260420T073348
CREATED:20251205T193432Z
LAST-MODIFIED:20260304T214514Z
UID:10009449-1772647200-1772733599@www.iwcc.edu
SUMMARY:(Men's Bowling) NJCAA National Championships
DESCRIPTION:(Men’s Bowling) NJCAA National Championships\, Lansing\, MI
URL:https://www.iwcc.edu/event/mens-bowling-njcaa-national-championships/
CATEGORIES:Athletics,Men's Bowling
END:VEVENT
BEGIN:VEVENT
DTSTART;VALUE=DATE:20260304
DTEND;VALUE=DATE:20260306
DTSTAMP:20260420T073348
CREATED:20251205T193433Z
LAST-MODIFIED:20260304T214509Z
UID:10009450-1772647200-1772733599@www.iwcc.edu
SUMMARY:(Women's Bowling) NJCAA National Championships
DESCRIPTION:(Women’s Bowling) NJCAA National Championships\, Lansing\, MI
URL:https://www.iwcc.edu/event/womens-bowling-njcaa-national-championships/
CATEGORIES:Athletics,Women's Bowling
END:VEVENT
BEGIN:VEVENT
DTSTART;VALUE=DATE:20260304
DTEND;VALUE=DATE:20260306
DTSTAMP:20260420T073348
CREATED:20251205T193434Z
LAST-MODIFIED:20260304T214512Z
UID:10009451-1772647200-1772733599@www.iwcc.edu
SUMMARY:(Women's Swimming & Diving) NJCAA National Championships
DESCRIPTION:(Women’s Swimming & Diving) NJCAA National Championships\, Fort Pierce\, FL
URL:https://www.iwcc.edu/event/womens-swimming-diving-njcaa-national-championships-2/
CATEGORIES:Athletics,Women's Swimming & Diving
END:VEVENT
BEGIN:VEVENT
DTSTART;VALUE=DATE:20260304
DTEND;VALUE=DATE:20260306
DTSTAMP:20260420T073348
CREATED:20251205T193435Z
LAST-MODIFIED:20260304T214513Z
UID:10009452-1772647200-1772733599@www.iwcc.edu
SUMMARY:(Men's Swimming & Diving) NJCAA National Championships
DESCRIPTION:(Men’s Swimming & Diving) NJCAA National Championships\, Fort Pierce\, FL
URL:https://www.iwcc.edu/event/mens-swimming-diving-njcaa-national-championships-2/
CATEGORIES:Athletics,Men's Swimming & Diving
END:VEVENT
BEGIN:VEVENT
DTSTART;TZID=America/Chicago:20260305T130000
DTEND;TZID=America/Chicago:20260305T130000
DTSTAMP:20260420T073348
CREATED:20260122T202009Z
LAST-MODIFIED:20260304T214516Z
UID:10009720-1772715600-1772715600@www.iwcc.edu
SUMMARY:(Softball) Iowa Western vs. North Iowa Area Community College
DESCRIPTION:(Softball) Iowa Western vs. North Iowa Area Community College\, Grand Slam Tournament
URL:https://www.iwcc.edu/event/softball-iowa-western-vs-elgin-community-college/
LOCATION:Branson\, Mo.
CATEGORIES:Athletics,Softball
END:VEVENT
BEGIN:VEVENT
DTSTART;TZID=America/Chicago:20260305T150000
DTEND;TZID=America/Chicago:20260305T150000
DTSTAMP:20260420T073348
CREATED:20260127T213440Z
LAST-MODIFIED:20260304T214518Z
UID:10009751-1772722800-1772722800@www.iwcc.edu
SUMMARY:(Softball) Iowa Western vs. Missouri State University - West Plains
DESCRIPTION:(Softball) Iowa Western vs. Missouri State University – West Plains\, Branson\, MO
URL:https://www.iwcc.edu/event/softball-iowa-western-vs-missouri-state-university-west-plains/
LOCATION:Branson Grand Slam Tournament
CATEGORIES:Athletics,Softball
END:VEVENT
BEGIN:VEVENT
DTSTART;VALUE=DATE:20260305
DTEND;VALUE=DATE:20260307
DTSTAMP:20260420T073348
CREATED:20251206T193147Z
LAST-MODIFIED:20260305T214629Z
UID:10009453-1772733600-1772819999@www.iwcc.edu
SUMMARY:(Men's Bowling) NJCAA National Championships
DESCRIPTION:(Men’s Bowling) NJCAA National Championships\, Lansing\, MI
URL:https://www.iwcc.edu/event/mens-bowling-njcaa-national-championships-2/
CATEGORIES:Athletics,Men's Bowling
END:VEVENT
BEGIN:VEVENT
DTSTART;VALUE=DATE:20260305
DTEND;VALUE=DATE:20260307
DTSTAMP:20260420T073348
CREATED:20251206T193148Z
LAST-MODIFIED:20260305T214616Z
UID:10009454-1772733600-1772819999@www.iwcc.edu
SUMMARY:(Women's Bowling) NJCAA National Championships
DESCRIPTION:(Women’s Bowling) NJCAA National Championships\, Lansing\, MI
URL:https://www.iwcc.edu/event/womens-bowling-njcaa-national-championships-2/
CATEGORIES:Athletics,Women's Bowling
END:VEVENT
BEGIN:VEVENT
DTSTART;VALUE=DATE:20260305
DTEND;VALUE=DATE:20260307
DTSTAMP:20260420T073348
CREATED:20251206T193148Z
LAST-MODIFIED:20260305T214618Z
UID:10009455-1772733600-1772819999@www.iwcc.edu
SUMMARY:(Women's Swimming & Diving) NJCAA National Championships
DESCRIPTION:(Women’s Swimming & Diving) NJCAA National Championships\, Fort Pierce\, FL
URL:https://www.iwcc.edu/event/womens-swimming-diving-njcaa-national-championships-3/
CATEGORIES:Athletics,Women's Swimming & Diving
END:VEVENT
BEGIN:VEVENT
DTSTART;VALUE=DATE:20260305
DTEND;VALUE=DATE:20260307
DTSTAMP:20260420T073348
CREATED:20251206T193149Z
LAST-MODIFIED:20260305T214628Z
UID:10009456-1772733600-1772819999@www.iwcc.edu
SUMMARY:(Men's Swimming & Diving) NJCAA National Championships
DESCRIPTION:(Men’s Swimming & Diving) NJCAA National Championships\, Fort Pierce\, FL
URL:https://www.iwcc.edu/event/mens-swimming-diving-njcaa-national-championships-3/
CATEGORIES:Athletics,Men's Swimming & Diving
END:VEVENT
BEGIN:VEVENT
DTSTART;VALUE=DATE:20260305
DTEND;VALUE=DATE:20260307
DTSTAMP:20260420T073348
CREATED:20260109T172023Z
LAST-MODIFIED:20260305T214619Z
UID:10009620-1772733600-1772819999@www.iwcc.edu
SUMMARY:(Women's Track & Field) NJCAA Indoor Championships
DESCRIPTION:(Women’s Track & Field) NJCAA Indoor Championships\, Topeka\, KS
URL:https://www.iwcc.edu/event/womens-track-field-njcaa-indoor-championships/
CATEGORIES:Athletics,Women's Track & Field
END:VEVENT
BEGIN:VEVENT
DTSTART;VALUE=DATE:20260305
DTEND;VALUE=DATE:20260307
DTSTAMP:20260420T073348
CREATED:20260109T172024Z
LAST-MODIFIED:20260305T214621Z
UID:10009621-1772733600-1772819999@www.iwcc.edu
SUMMARY:(Men's Track & Field) NJCAA Indoor Championships
DESCRIPTION:(Men’s Track & Field) NJCAA Indoor Championships\, Topeka\, KS
URL:https://www.iwcc.edu/event/mens-track-field-njcaa-indoor-championships/
CATEGORIES:Athletics,Men's Track & Field
END:VEVENT
BEGIN:VEVENT
DTSTART;TZID=America/Chicago:20260306T080000
DTEND;TZID=America/Chicago:20260306T110000
DTSTAMP:20260420T073348
CREATED:20260306T180338Z
LAST-MODIFIED:20260306T180338Z
UID:10010264-1772784000-1772794800@www.iwcc.edu
SUMMARY:Morning Munch
DESCRIPTION:Start your day with a sweet treat in the housing facilities and on the 2nd floor of the Student Center! We’re grateful to have you as a part of the Iowa Western Family.
URL:https://www.iwcc.edu/event/morning-munch-8/
CATEGORIES:Student Activities
ORGANIZER;CN="Campus Life":MAILTO:campuslife@iwcc.edu
END:VEVENT
BEGIN:VEVENT
DTSTART;TZID=America/Chicago:20260306T090000
DTEND;TZID=America/Chicago:20260306T090000
DTSTAMP:20260420T073348
CREATED:20251206T193150Z
LAST-MODIFIED:20260305T214631Z
UID:10009457-1772787600-1772787600@www.iwcc.edu
SUMMARY:(Wrestling) NJCAA National Championships
DESCRIPTION:(Wrestling) NJCAA National Championships\, Mid-America Center | Council Bluffs\, IA
URL:https://www.iwcc.edu/event/wrestling-njcaa-national-championships-9/
CATEGORIES:Athletics,Wrestling
END:VEVENT
BEGIN:VEVENT
DTSTART;TZID=America/Chicago:20260306T090000
DTEND;TZID=America/Chicago:20260306T090000
DTSTAMP:20260420T073348
CREATED:20251206T193151Z
LAST-MODIFIED:20260305T214637Z
UID:10009458-1772787600-1772787600@www.iwcc.edu
SUMMARY:(Women's Wrestling) NJCAA National Championships
DESCRIPTION:(Women’s Wrestling) NJCAA National Championships\, Mid-America Center | Council Bluffs\, IA
URL:https://www.iwcc.edu/event/womens-wrestling-njcaa-national-championships-3/
CATEGORIES:Athletics,Women's Wrestling
END:VEVENT
BEGIN:VEVENT
DTSTART;TZID=America/Chicago:20260306T163000
DTEND;TZID=America/Chicago:20260306T163000
DTSTAMP:20260420T073348
CREATED:20260123T203619Z
LAST-MODIFIED:20260306T220203Z
UID:10009722-1772814600-1772814600@www.iwcc.edu
SUMMARY:(Softball) Iowa Western vs. Northern Oklahoma College-Enid
DESCRIPTION:(Softball) Iowa Western vs. Northern Oklahoma College-Enid
URL:https://www.iwcc.edu/event/softball-northern-oklahoma-college-enid-vs-iowa-western-2/
LOCATION:Famous Dave’s Field
CATEGORIES:Athletics,Softball
END:VEVENT
BEGIN:VEVENT
DTSTART;TZID=America/Chicago:20260306T180000
DTEND;TZID=America/Chicago:20260306T180000
DTSTAMP:20260420T073348
CREATED:20260219T184909Z
LAST-MODIFIED:20260306T220204Z
UID:10010246-1772820000-1772820000@www.iwcc.edu
SUMMARY:(eSports) Central Community College vs. Iowa Western
DESCRIPTION:(eSports) Central Community College vs. Iowa Western\, Call of Duty Warzone D1
URL:https://www.iwcc.edu/event/esports-central-community-college-vs-iowa-western-3/
CATEGORIES:Athletics,eSports
END:VEVENT
BEGIN:VEVENT
DTSTART;VALUE=DATE:20260306
DTEND;VALUE=DATE:20260308
DTSTAMP:20260420T073348
CREATED:20251207T193253Z
LAST-MODIFIED:20260306T220205Z
UID:10009459-1772820000-1772906399@www.iwcc.edu
SUMMARY:(Men's Bowling) NJCAA National Championships
DESCRIPTION:(Men’s Bowling) NJCAA National Championships\, Lansing\, MI
URL:https://www.iwcc.edu/event/mens-bowling-njcaa-national-championships-3/
CATEGORIES:Athletics,Men's Bowling
END:VEVENT
BEGIN:VEVENT
DTSTART;VALUE=DATE:20260306
DTEND;VALUE=DATE:20260308
DTSTAMP:20260420T073348
CREATED:20251207T193254Z
LAST-MODIFIED:20260306T220205Z
UID:10009460-1772820000-1772906399@www.iwcc.edu
SUMMARY:(Women's Bowling) NJCAA National Championships
DESCRIPTION:(Women’s Bowling) NJCAA National Championships\, Waterloo\, IA
URL:https://www.iwcc.edu/event/womens-bowling-njcaa-national-championships-3/
CATEGORIES:Athletics,Women's Bowling
END:VEVENT
END:VCALENDAR