BEGIN:VCALENDAR
VERSION:2.0
PRODID:-//Iowa Western Community College - ECPv6.15.20//NONSGML v1.0//EN
CALSCALE:GREGORIAN
METHOD:PUBLISH
X-WR-CALNAME:Iowa Western Community College
X-ORIGINAL-URL:https://www.iwcc.edu
X-WR-CALDESC:Events for Iowa Western Community College
REFRESH-INTERVAL;VALUE=DURATION:PT1H
X-Robots-Tag:noindex
X-PUBLISHED-TTL:PT1H
BEGIN:VTIMEZONE
TZID:America/Chicago
BEGIN:DAYLIGHT
TZOFFSETFROM:-0600
TZOFFSETTO:-0500
TZNAME:CDT
DTSTART:20240310T080000
END:DAYLIGHT
BEGIN:STANDARD
TZOFFSETFROM:-0500
TZOFFSETTO:-0600
TZNAME:CST
DTSTART:20241103T070000
END:STANDARD
BEGIN:DAYLIGHT
TZOFFSETFROM:-0600
TZOFFSETTO:-0500
TZNAME:CDT
DTSTART:20250309T080000
END:DAYLIGHT
BEGIN:STANDARD
TZOFFSETFROM:-0500
TZOFFSETTO:-0600
TZNAME:CST
DTSTART:20251102T070000
END:STANDARD
BEGIN:DAYLIGHT
TZOFFSETFROM:-0600
TZOFFSETTO:-0500
TZNAME:CDT
DTSTART:20260308T080000
END:DAYLIGHT
BEGIN:STANDARD
TZOFFSETFROM:-0500
TZOFFSETTO:-0600
TZNAME:CST
DTSTART:20261101T070000
END:STANDARD
END:VTIMEZONE
BEGIN:VEVENT
DTSTART;VALUE=DATE:20250305
DTEND;VALUE=DATE:20250307
DTSTAMP:20260420T081810
CREATED:20241206T174611Z
LAST-MODIFIED:20250305T200245Z
UID:10008771-1741197600-1741283999@www.iwcc.edu
SUMMARY:NJCAA National Meet
DESCRIPTION:NJCAA National Meet\, Buffalo\, NY
URL:https://www.iwcc.edu/event/njcaa-national-meet-2/
LOCATION:Burt Flickenger Athletic Center
CATEGORIES:Athletics
END:VEVENT
BEGIN:VEVENT
DTSTART;VALUE=DATE:20250305
DTEND;VALUE=DATE:20250306
DTSTAMP:20260420T081810
CREATED:20241212T172435Z
LAST-MODIFIED:20241212T172435Z
UID:10008822-1741132800-1741219199@www.iwcc.edu
SUMMARY:Monthly Trivia
DESCRIPTION:Test your knowledge with monthly Campus Life Trivia! Each Month brings a new theme\, with questions posted on our Instagram story and available for 24 hours. the student who answers the most questions correctly first wins! Must show your IWCC ID to claim your prize! Follow us @iwcc_campuslife on Instagram to stay in the loop!
URL:https://www.iwcc.edu/event/monthly-trivia-3/
LOCATION:IA
CATEGORIES:Student Activities
ORGANIZER;CN="Campus Life":MAILTO:campuslife@iwcc.edu
END:VEVENT
BEGIN:VEVENT
DTSTART;VALUE=DATE:20250305
DTEND;VALUE=DATE:20250306
DTSTAMP:20260420T081810
CREATED:20220401T184607Z
LAST-MODIFIED:20240301T215310Z
UID:10005710-1741132800-1741219199@www.iwcc.edu
SUMMARY:Fall Open Registration Begins
DESCRIPTION:
URL:https://www.iwcc.edu/event/open-registration-for-fall-2025-begins/
LOCATION:IA
CATEGORIES:Term Registration Dates
END:VEVENT
BEGIN:VEVENT
DTSTART;VALUE=DATE:20250305
DTEND;VALUE=DATE:20250306
DTSTAMP:20260420T081810
CREATED:20220401T183926Z
LAST-MODIFIED:20220401T183926Z
UID:10005698-1741132800-1741219199@www.iwcc.edu
SUMMARY:Midterm
DESCRIPTION:
URL:https://www.iwcc.edu/event/midterm-9/
LOCATION:IA
CATEGORIES:Term Start & End Dates
END:VEVENT
BEGIN:VEVENT
DTSTART;VALUE=DATE:20250305
DTEND;VALUE=DATE:20250306
DTSTAMP:20260420T081810
CREATED:20220401T183837Z
LAST-MODIFIED:20240301T215222Z
UID:10005697-1741132800-1741219199@www.iwcc.edu
SUMMARY:Summer Open Registration Begins
DESCRIPTION:
URL:https://www.iwcc.edu/event/summer-open-registration-begins-4/
LOCATION:IA
CATEGORIES:Term Registration Dates
END:VEVENT
BEGIN:VEVENT
DTSTART;TZID=America/Chicago:20250304T210000
DTEND;TZID=America/Chicago:20250304T210000
DTSTAMP:20260420T081810
CREATED:20250221T170104Z
LAST-MODIFIED:20250304T194654Z
UID:10009219-1741122000-1741122000@www.iwcc.edu
SUMMARY:(eSports) Iowa Western at Central Community College
DESCRIPTION:(eSports) Iowa Western at Central Community College\, NJCAAe Tier 1 SSBU
URL:https://www.iwcc.edu/event/esports-iowa-western-at-central-community-college-2/
LOCATION:IA
CATEGORIES:Athletics,eSports
END:VEVENT
BEGIN:VEVENT
DTSTART;VALUE=DATE:20250304
DTEND;VALUE=DATE:20250306
DTSTAMP:20260420T081810
CREATED:20241205T173344Z
LAST-MODIFIED:20250304T194653Z
UID:10008770-1741111200-1741197599@www.iwcc.edu
SUMMARY:NJCAA National Meet
DESCRIPTION:NJCAA National Meet\, Buffalo\, NY
URL:https://www.iwcc.edu/event/njcaa-national-meet/
LOCATION:Burt Flickenger Athletic Center
CATEGORIES:Athletics
END:VEVENT
BEGIN:VEVENT
DTSTART;VALUE=DATE:20250304
DTEND;VALUE=DATE:20250305
DTSTAMP:20260420T081810
CREATED:20220401T184420Z
LAST-MODIFIED:20240312T161807Z
UID:10007790-1741046400-1741132799@www.iwcc.edu
SUMMARY:Fall 2025 Priority Registration Week for Current Students
DESCRIPTION:
URL:https://www.iwcc.edu/event/fall-2025-priority-registration-week-for-current-students/2025-03-04/
LOCATION:IA
CATEGORIES:Term Registration Dates
END:VEVENT
BEGIN:VEVENT
DTSTART;VALUE=DATE:20250304
DTEND;VALUE=DATE:20250305
DTSTAMP:20260420T081810
CREATED:20220401T183747Z
LAST-MODIFIED:20240304T215213Z
UID:10007800-1741046400-1741132799@www.iwcc.edu
SUMMARY:Summer Registration for Current Students
DESCRIPTION:
URL:https://www.iwcc.edu/event/summer-registration-begins-for-current-students-2/2025-03-04/
LOCATION:IA
CATEGORIES:Term Registration Dates
END:VEVENT
BEGIN:VEVENT
DTSTART;TZID=America/Chicago:20250303T200000
DTEND;TZID=America/Chicago:20250303T210000
DTSTAMP:20260420T081810
CREATED:20241011T141414Z
LAST-MODIFIED:20241011T141414Z
UID:10008631-1741032000-1741035600@www.iwcc.edu
SUMMARY:FCA Club Meeting
DESCRIPTION:Join fellow athletes/students for weekly meetings to discover and deepen a relationship with Jesus Christ.
URL:https://www.iwcc.edu/event/fca-club-meeting/2025-03-03/
LOCATION:Aux Gym
CATEGORIES:Student Activities
ORGANIZER;CN="Campus Life":MAILTO:campuslife@iwcc.edu
END:VEVENT
BEGIN:VEVENT
DTSTART;TZID=America/Chicago:20250303T183000
DTEND;TZID=America/Chicago:20250303T200000
DTSTAMP:20260420T081810
CREATED:20241011T141949Z
LAST-MODIFIED:20241011T141949Z
UID:10008647-1741026600-1741032000@www.iwcc.edu
SUMMARY:Citylight U Club Meeting
DESCRIPTION:Join fellow students at Citylight U in Council Bluffs for weekly meetings regarding fellowship\, socialization and more!
URL:https://www.iwcc.edu/event/citylight-u-club-meeting-4/2025-03-03/
LOCATION:Citylight Council Bluffs\, 2109 Railroad Hwy\, Council Bluffs\, IA\, 51503\, United States
CATEGORIES:Student Activities
ORGANIZER;CN="Campus Life":MAILTO:campuslife@iwcc.edu
END:VEVENT
BEGIN:VEVENT
DTSTART;VALUE=DATE:20250303
DTEND;VALUE=DATE:20250304
DTSTAMP:20260420T081810
CREATED:20220401T184420Z
LAST-MODIFIED:20240312T161807Z
UID:10007789-1740960000-1741046399@www.iwcc.edu
SUMMARY:Fall 2025 Priority Registration Week for Current Students
DESCRIPTION:
URL:https://www.iwcc.edu/event/fall-2025-priority-registration-week-for-current-students/2025-03-03/
LOCATION:IA
CATEGORIES:Term Registration Dates
END:VEVENT
BEGIN:VEVENT
DTSTART;VALUE=DATE:20250303
DTEND;VALUE=DATE:20250304
DTSTAMP:20260420T081810
CREATED:20220401T183747Z
LAST-MODIFIED:20240304T215213Z
UID:10007799-1740960000-1741046399@www.iwcc.edu
SUMMARY:Summer Registration for Current Students
DESCRIPTION:
URL:https://www.iwcc.edu/event/summer-registration-begins-for-current-students-2/2025-03-03/
LOCATION:IA
CATEGORIES:Term Registration Dates
END:VEVENT
BEGIN:VEVENT
DTSTART;VALUE=DATE:20250302
DTEND;VALUE=DATE:20250304
DTSTAMP:20260420T081810
CREATED:20241203T170656Z
LAST-MODIFIED:20250301T190443Z
UID:10008769-1740938400-1741024799@www.iwcc.edu
SUMMARY:(Women's Basketball) Region 11 Finals vs. Iowa Western
DESCRIPTION:(Women’s Basketball) Region 11 Finals vs. Iowa Western\, at Higher Seed
URL:https://www.iwcc.edu/event/womens-basketball-region-11-finals-vs-iowa-western/
LOCATION:IA
CATEGORIES:Athletics,Basketball,Women's Basketball
END:VEVENT
BEGIN:VEVENT
DTSTART;TZID=America/Chicago:20250302T160000
DTEND;TZID=America/Chicago:20250302T160000
DTSTAMP:20260420T081810
CREATED:20250109T000525Z
LAST-MODIFIED:20250302T191743Z
UID:10008897-1740931200-1740931200@www.iwcc.edu
SUMMARY:(Baseball) Iowa Western at Johnson County Community College
DESCRIPTION:(Baseball) Iowa Western at Johnson County Community College\, Overland Park\, KS
URL:https://www.iwcc.edu/event/baseball-iowa-western-at-johnson-county-community-college-2/
LOCATION:IA
CATEGORIES:Athletics,Baseball
END:VEVENT
BEGIN:VEVENT
DTSTART;TZID=America/Chicago:20250302T130000
DTEND;TZID=America/Chicago:20250302T130000
DTSTAMP:20260420T081810
CREATED:20250109T000524Z
LAST-MODIFIED:20250301T190441Z
UID:10008896-1740920400-1740920400@www.iwcc.edu
SUMMARY:(Baseball) Iowa Western at Johnson County Community College
DESCRIPTION:(Baseball) Iowa Western at Johnson County Community College\, Overland Park\, KS
URL:https://www.iwcc.edu/event/baseball-iowa-western-at-johnson-county-community-college/
LOCATION:IA
CATEGORIES:Athletics,Baseball
END:VEVENT
BEGIN:VEVENT
DTSTART;VALUE=DATE:20250302
DTEND;VALUE=DATE:20250303
DTSTAMP:20260420T081810
CREATED:20220401T184420Z
LAST-MODIFIED:20240312T161807Z
UID:10007788-1740873600-1740959999@www.iwcc.edu
SUMMARY:Fall 2025 Priority Registration Week for Current Students
DESCRIPTION:
URL:https://www.iwcc.edu/event/fall-2025-priority-registration-week-for-current-students/2025-03-02/
LOCATION:IA
CATEGORIES:Term Registration Dates
END:VEVENT
BEGIN:VEVENT
DTSTART;VALUE=DATE:20250302
DTEND;VALUE=DATE:20250303
DTSTAMP:20260420T081810
CREATED:20220401T183747Z
LAST-MODIFIED:20240304T215213Z
UID:10007798-1740873600-1740959999@www.iwcc.edu
SUMMARY:Summer Registration for Current Students
DESCRIPTION:
URL:https://www.iwcc.edu/event/summer-registration-begins-for-current-students-2/2025-03-02/
LOCATION:IA
CATEGORIES:Term Registration Dates
END:VEVENT
BEGIN:VEVENT
DTSTART;VALUE=DATE:20250301
DTEND;VALUE=DATE:20250303
DTSTAMP:20260420T081810
CREATED:20241202T164648Z
LAST-MODIFIED:20250301T190440Z
UID:10008768-1740852000-1740938399@www.iwcc.edu
SUMMARY:(Women's Bowling) NJCAA Championships
DESCRIPTION:(Women’s Bowling) NJCAA Championships\, Cheektowaga\, NY
URL:https://www.iwcc.edu/event/womens-bowling-njcaa-championships-12/
LOCATION:IA
CATEGORIES:Athletics,Women's Bowling
END:VEVENT
BEGIN:VEVENT
DTSTART;VALUE=DATE:20250301
DTEND;VALUE=DATE:20250303
DTSTAMP:20260420T081810
CREATED:20241202T164647Z
LAST-MODIFIED:20250301T190441Z
UID:10008767-1740852000-1740938399@www.iwcc.edu
SUMMARY:(Men's Bowling) NJCAA Championships
DESCRIPTION:(Men’s Bowling) NJCAA Championships\, Cheektowaga\, NY
URL:https://www.iwcc.edu/event/mens-bowling-njcaa-championships-11/
LOCATION:IA
CATEGORIES:Athletics,Men's Bowling
END:VEVENT
BEGIN:VEVENT
DTSTART;TZID=America/Chicago:20250301T150000
DTEND;TZID=America/Chicago:20250301T150000
DTSTAMP:20260420T081810
CREATED:20250227T183353Z
LAST-MODIFIED:20250301T190439Z
UID:10009228-1740841200-1740841200@www.iwcc.edu
SUMMARY:(Men's Basketball) Ellsworth Community College vs. Iowa Western
DESCRIPTION:(Men’s Basketball) Ellsworth Community College vs. Iowa Western\, Region 11 Quarterfinals | Council Bluffs\, IA
URL:https://www.iwcc.edu/event/mens-basketball-ellsworth-community-college-vs-iowa-western-7/
LOCATION:IA
CATEGORIES:Athletics,Men's Basketball
END:VEVENT
BEGIN:VEVENT
DTSTART;TZID=America/Chicago:20250301T130000
DTEND;TZID=America/Chicago:20250301T130000
DTSTAMP:20260420T081810
CREATED:20250227T183352Z
LAST-MODIFIED:20250301T190438Z
UID:10009227-1740834000-1740834000@www.iwcc.edu
SUMMARY:(Women's Basketball) Iowa Western at North Iowa Area Community College
DESCRIPTION:(Women’s Basketball) Iowa Western at North Iowa Area Community College\, NJCAA Region 11-B Semifinals | Mason City\, Iowa
URL:https://www.iwcc.edu/event/womens-basketball-iowa-western-at-north-iowa-area-community-college-6/
LOCATION:IA
CATEGORIES:Athletics,Women's Basketball
END:VEVENT
BEGIN:VEVENT
DTSTART;VALUE=DATE:20250301
DTEND;VALUE=DATE:20250302
DTSTAMP:20260420T081810
CREATED:20220401T184420Z
LAST-MODIFIED:20240312T161807Z
UID:10007787-1740787200-1740873599@www.iwcc.edu
SUMMARY:Fall 2025 Priority Registration Week for Current Students
DESCRIPTION:
URL:https://www.iwcc.edu/event/fall-2025-priority-registration-week-for-current-students/2025-03-01/
LOCATION:IA
CATEGORIES:Term Registration Dates
END:VEVENT
BEGIN:VEVENT
DTSTART;VALUE=DATE:20250301
DTEND;VALUE=DATE:20250302
DTSTAMP:20260420T081810
CREATED:20220401T183747Z
LAST-MODIFIED:20240304T215213Z
UID:10007797-1740787200-1740873599@www.iwcc.edu
SUMMARY:Summer Registration for Current Students
DESCRIPTION:
URL:https://www.iwcc.edu/event/summer-registration-begins-for-current-students-2/2025-03-01/
LOCATION:IA
CATEGORIES:Term Registration Dates
END:VEVENT
BEGIN:VEVENT
DTSTART;VALUE=DATE:20250228
DTEND;VALUE=DATE:20250302
DTSTAMP:20260420T081810
CREATED:20250128T200544Z
LAST-MODIFIED:20250228T184605Z
UID:10008976-1740765600-1740851999@www.iwcc.edu
SUMMARY:Concordia Sporting Open
DESCRIPTION:Concordia Sporting Open\, Brainard\, NE
URL:https://www.iwcc.edu/event/concordia-sporting-open-2/
LOCATION:IA
CATEGORIES:Athletics
END:VEVENT
BEGIN:VEVENT
DTSTART;VALUE=DATE:20250228
DTEND;VALUE=DATE:20250302
DTSTAMP:20260420T081810
CREATED:20241201T164624Z
LAST-MODIFIED:20250227T183350Z
UID:10008766-1740765600-1740851999@www.iwcc.edu
SUMMARY:(Women's Basketball) Region 11 Semifinals vs. Iowa Western
DESCRIPTION:(Women’s Basketball) Region 11 Semifinals vs. Iowa Western\, at Higher Seed
URL:https://www.iwcc.edu/event/womens-basketball-region-11-semifinals-vs-iowa-western/
LOCATION:IA
CATEGORIES:Athletics,Basketball,Women's Basketball
END:VEVENT
BEGIN:VEVENT
DTSTART;VALUE=DATE:20250228
DTEND;VALUE=DATE:20250302
DTSTAMP:20260420T081810
CREATED:20241201T164623Z
LAST-MODIFIED:20250228T184606Z
UID:10008765-1740765600-1740851999@www.iwcc.edu
SUMMARY:(Women's Bowling) NJCAA Championships
DESCRIPTION:(Women’s Bowling) NJCAA Championships\, Cheektowaga\, NY
URL:https://www.iwcc.edu/event/womens-bowling-njcaa-championships-11/
LOCATION:IA
CATEGORIES:Athletics,Women's Bowling
END:VEVENT
BEGIN:VEVENT
DTSTART;VALUE=DATE:20250228
DTEND;VALUE=DATE:20250302
DTSTAMP:20260420T081810
CREATED:20241201T164622Z
LAST-MODIFIED:20250228T184607Z
UID:10008764-1740765600-1740851999@www.iwcc.edu
SUMMARY:(Men's Bowling) NJCAA Championships
DESCRIPTION:(Men’s Bowling) NJCAA Championships\, Cheektowaga\, NY
URL:https://www.iwcc.edu/event/mens-bowling-njcaa-championships-10/
LOCATION:IA
CATEGORIES:Athletics,Men's Bowling
END:VEVENT
BEGIN:VEVENT
DTSTART;VALUE=DATE:20250228
DTEND;VALUE=DATE:20250302
DTSTAMP:20260420T081810
CREATED:20241201T164621Z
LAST-MODIFIED:20250227T183349Z
UID:10008763-1740765600-1740851999@www.iwcc.edu
SUMMARY:(Men's Basketball) TBD vs. Iowa Western
DESCRIPTION:(Men’s Basketball) TBD vs. Iowa Western\, Region 11 Quarterfinals
URL:https://www.iwcc.edu/event/mens-basketball-tbd-vs-iowa-western/
LOCATION:IA
CATEGORIES:Athletics,Basketball,Men's Basketball
END:VEVENT
BEGIN:VEVENT
DTSTART;TZID=America/Chicago:20250228T160000
DTEND;TZID=America/Chicago:20250228T160000
DTSTAMP:20260420T081810
CREATED:20250219T163238Z
LAST-MODIFIED:20250228T184604Z
UID:10009214-1740758400-1740758400@www.iwcc.edu
SUMMARY:(Softball) Iowa Western at Northeast Community College
DESCRIPTION:(Softball) Iowa Western at Northeast Community College\, Norfolk\, NE
URL:https://www.iwcc.edu/event/softball-iowa-western-at-northeast-community-college-4/
LOCATION:IA
CATEGORIES:Athletics,Softball
END:VEVENT
END:VCALENDAR