BEGIN:VCALENDAR
VERSION:2.0
PRODID:-//Iowa Western Community College - ECPv6.15.20//NONSGML v1.0//EN
CALSCALE:GREGORIAN
METHOD:PUBLISH
X-ORIGINAL-URL:https://www.iwcc.edu
X-WR-CALDESC:Events for Iowa Western Community College
REFRESH-INTERVAL;VALUE=DURATION:PT1H
X-Robots-Tag:noindex
X-PUBLISHED-TTL:PT1H
BEGIN:VTIMEZONE
TZID:America/Chicago
BEGIN:DAYLIGHT
TZOFFSETFROM:-0600
TZOFFSETTO:-0500
TZNAME:CDT
DTSTART:20210314T080000
END:DAYLIGHT
BEGIN:STANDARD
TZOFFSETFROM:-0500
TZOFFSETTO:-0600
TZNAME:CST
DTSTART:20211107T070000
END:STANDARD
BEGIN:DAYLIGHT
TZOFFSETFROM:-0600
TZOFFSETTO:-0500
TZNAME:CDT
DTSTART:20220313T080000
END:DAYLIGHT
BEGIN:STANDARD
TZOFFSETFROM:-0500
TZOFFSETTO:-0600
TZNAME:CST
DTSTART:20221106T070000
END:STANDARD
BEGIN:DAYLIGHT
TZOFFSETFROM:-0600
TZOFFSETTO:-0500
TZNAME:CDT
DTSTART:20230312T080000
END:DAYLIGHT
BEGIN:STANDARD
TZOFFSETFROM:-0500
TZOFFSETTO:-0600
TZNAME:CST
DTSTART:20231105T070000
END:STANDARD
END:VTIMEZONE
BEGIN:VEVENT
DTSTART;TZID=America/Chicago:20220219T170000
DTEND;TZID=America/Chicago:20220219T170000
DTSTAMP:20260422T063409
CREATED:20220214T112937Z
LAST-MODIFIED:20220219T114451Z
UID:10004998-1645290000-1645290000@www.iwcc.edu
SUMMARY:(Softball) Iowa Western at Tyler Junior College
DESCRIPTION:(Softball) Iowa Western at Tyler Junior College
URL:https://www.iwcc.edu/event/softball-iowa-western-at-tyler-junior-college/
CATEGORIES:Softball
END:VEVENT
BEGIN:VEVENT
DTSTART;TZID=America/Chicago:20220220T110000
DTEND;TZID=America/Chicago:20220220T110000
DTSTAMP:20260422T063409
CREATED:20220107T081453Z
LAST-MODIFIED:20220220T114425Z
UID:10004740-1645354800-1645354800@www.iwcc.edu
SUMMARY:(Women's Track & Field) ICCAC Region XI Indoor Championship
DESCRIPTION:(Women’s Track & Field) ICCAC Region XI Indoor Championship
URL:https://www.iwcc.edu/event/womens-track-field-iccac-region-xi-indoor-championship-3/
LOCATION:Storm Lake\, IA
CATEGORIES:Women's Track & Field
END:VEVENT
BEGIN:VEVENT
DTSTART;TZID=America/Chicago:20220220T110000
DTEND;TZID=America/Chicago:20220220T110000
DTSTAMP:20260422T063409
CREATED:20220107T081453Z
LAST-MODIFIED:20220220T114425Z
UID:10004741-1645354800-1645354800@www.iwcc.edu
SUMMARY:(Men's Track & Field) ICCAC Region XI Indoor Championship
DESCRIPTION:(Men’s Track & Field) ICCAC Region XI Indoor Championship
URL:https://www.iwcc.edu/event/mens-track-field-iccac-region-xi-indoor-championship-3/
LOCATION:Storm Lake\, IA
CATEGORIES:Men's Track & Field
END:VEVENT
BEGIN:VEVENT
DTSTART;TZID=America/Chicago:20220220T110000
DTEND;TZID=America/Chicago:20220220T110000
DTSTAMP:20260422T063409
CREATED:20220119T084457Z
LAST-MODIFIED:20220220T114425Z
UID:10005392-1645354800-1645354800@www.iwcc.edu
SUMMARY:(Softball) Iowa Western at Trinity Valley Community College
DESCRIPTION:(Softball) Iowa Western at Trinity Valley Community College
URL:https://www.iwcc.edu/event/softball-iowa-western-at-trinity-valley-community-college/
CATEGORIES:Softball
END:VEVENT
BEGIN:VEVENT
DTSTART;TZID=America/Chicago:20220220T130000
DTEND;TZID=America/Chicago:20220220T130000
DTSTAMP:20260422T063409
CREATED:20220119T084457Z
LAST-MODIFIED:20220220T114425Z
UID:10005393-1645362000-1645362000@www.iwcc.edu
SUMMARY:(Softball) Iowa Western at San Jacinto College-South
DESCRIPTION:(Softball) Iowa Western at San Jacinto College-South
URL:https://www.iwcc.edu/event/softball-iowa-western-at-trinity-valley-community-college-2/
CATEGORIES:Softball
END:VEVENT
BEGIN:VEVENT
DTSTART;TZID=America/Chicago:20220220T150000
DTEND;TZID=America/Chicago:20220220T150000
DTSTAMP:20260422T063409
CREATED:20220111T081531Z
LAST-MODIFIED:20220220T114425Z
UID:10005348-1645369200-1645369200@www.iwcc.edu
SUMMARY:(Baseball) Iowa Western at Crowder College
DESCRIPTION:(Baseball) Iowa Western at Crowder College\, Neosho\, MO
URL:https://www.iwcc.edu/event/baseball-iowa-western-at-crowder-college-5/
CATEGORIES:Baseball
END:VEVENT
BEGIN:VEVENT
DTSTART;TZID=America/Chicago:20220220T180000
DTEND;TZID=America/Chicago:20220220T180000
DTSTAMP:20260422T063409
CREATED:20220111T081531Z
LAST-MODIFIED:20220220T114425Z
UID:10005350-1645380000-1645380000@www.iwcc.edu
SUMMARY:(Baseball) Iowa Western at Crowder College
DESCRIPTION:(Baseball) Iowa Western at Crowder College\, Neosho\, MO
URL:https://www.iwcc.edu/event/baseball-iowa-western-at-crowder-college-6/
CATEGORIES:Baseball
END:VEVENT
BEGIN:VEVENT
DTSTART;VALUE=DATE:20220221
DTEND;VALUE=DATE:20220222
DTSTAMP:20260422T063409
CREATED:20201111T001338Z
LAST-MODIFIED:20210527T191505Z
UID:10004190-1645401600-1645487999@www.iwcc.edu
SUMMARY:Last Day to Drop Accelerated Session I Classes
DESCRIPTION:Accelerated Session I classes began January 10\, 2022 and will end March 9\, 2022.  Accelerated Session I classes dropped by this date will remain on the student’s record with a grade of “W”.  No refund is issued.
URL:https://www.iwcc.edu/event/last-day-to-drop-accelerated-session-i-classes-4/
CATEGORIES:Term Registration Dates
ORGANIZER;CN="Registrar Office":MAILTO:registrar@iwcc.edu
END:VEVENT
BEGIN:VEVENT
DTSTART;VALUE=DATE:20220221
DTEND;VALUE=DATE:20220222
DTSTAMP:20260422T063409
CREATED:20201111T001600Z
LAST-MODIFIED:20210527T191512Z
UID:10004191-1645401600-1645487999@www.iwcc.edu
SUMMARY:Last Day to Apply for Spring 2022 Graduation
DESCRIPTION:If you are completing your degree requirements this spring\, be sure to complete the online application on ROC  (Self Service -> Students -> Academic Planning). \nQuestions? Contact Records & Registration at 712-325-3285 or registrar@iwcc.edu.
URL:https://www.iwcc.edu/event/last-day-to-apply-for-spring-2022-graduation/
CATEGORIES:Commencement & Graduation
ORGANIZER;CN="Registrar Office":MAILTO:registrar@iwcc.edu
END:VEVENT
BEGIN:VEVENT
DTSTART;TZID=America/Chicago:20220221T120000
DTEND;TZID=America/Chicago:20220221T120000
DTSTAMP:20260422T063409
CREATED:20220111T081531Z
LAST-MODIFIED:20220221T114439Z
UID:10005349-1645444800-1645444800@www.iwcc.edu
SUMMARY:(Baseball) Iowa Western at Crowder College
DESCRIPTION:(Baseball) Iowa Western at Crowder College\, Neosho\, MO
URL:https://www.iwcc.edu/event/baseball-iowa-western-at-crowder-college-7/
CATEGORIES:Baseball
END:VEVENT
BEGIN:VEVENT
DTSTART;TZID=America/Chicago:20220221T130000
DTEND;TZID=America/Chicago:20220221T130000
DTSTAMP:20260422T063409
CREATED:20220119T084457Z
LAST-MODIFIED:20220221T114439Z
UID:10005390-1645448400-1645448400@www.iwcc.edu
SUMMARY:(Softball) Iowa Western at Paris Junior College
DESCRIPTION:(Softball) Iowa Western at Paris Junior College
URL:https://www.iwcc.edu/event/softball-iowa-western-at-paris-junior-college/
CATEGORIES:Softball
END:VEVENT
BEGIN:VEVENT
DTSTART;TZID=America/Chicago:20220221T150000
DTEND;TZID=America/Chicago:20220221T150000
DTSTAMP:20260422T063409
CREATED:20220111T081531Z
LAST-MODIFIED:20220221T114439Z
UID:10005352-1645455600-1645455600@www.iwcc.edu
SUMMARY:(Baseball) Iowa Western at Crowder College
DESCRIPTION:(Baseball) Iowa Western at Crowder College\, Neosho\, MO
URL:https://www.iwcc.edu/event/baseball-iowa-western-at-crowder-college-8/
CATEGORIES:Baseball
END:VEVENT
BEGIN:VEVENT
DTSTART;TZID=America/Chicago:20220221T150000
DTEND;TZID=America/Chicago:20220221T150000
DTSTAMP:20260422T063409
CREATED:20220119T084457Z
LAST-MODIFIED:20220221T114439Z
UID:10005391-1645455600-1645455600@www.iwcc.edu
SUMMARY:(Softball) Iowa Western at Paris Junior College
DESCRIPTION:(Softball) Iowa Western at Paris Junior College
URL:https://www.iwcc.edu/event/softball-iowa-western-at-paris-junior-college-2/
CATEGORIES:Softball
END:VEVENT
BEGIN:VEVENT
DTSTART;TZID=America/Chicago:20220222T193000
DTEND;TZID=America/Chicago:20220222T193000
DTSTAMP:20260422T063409
CREATED:20211125T061448Z
LAST-MODIFIED:20220222T114519Z
UID:10004695-1645558200-1645558200@www.iwcc.edu
SUMMARY:(Men's Basketball) Iowa Western at Central Community College-Columbus
DESCRIPTION:(Men’s Basketball) Iowa Western at Central Community College-Columbus
URL:https://www.iwcc.edu/event/mens-basketball-iowa-western-at-central-community-college-columbus/
CATEGORIES:Men's Basketball
END:VEVENT
BEGIN:VEVENT
DTSTART;VALUE=DATE:20220223
DTEND;VALUE=DATE:20220224
DTSTAMP:20260422T063409
CREATED:20201111T001800Z
LAST-MODIFIED:20210527T191523Z
UID:10004202-1645574400-1645660799@www.iwcc.edu
SUMMARY:Summer 2022 Online Registration Begin
DESCRIPTION:This registration is for currently enrolled students.  Summer 2022 Open Registration begins on March 2.
URL:https://www.iwcc.edu/event/summer-2022-online-registration-begin/
CATEGORIES:Term Registration Dates
ORGANIZER;CN="Registrar Office":MAILTO:registrar@iwcc.edu
END:VEVENT
BEGIN:VEVENT
DTSTART;TZID=America/Chicago:20220223T173000
DTEND;TZID=America/Chicago:20220223T173000
DTSTAMP:20260422T063409
CREATED:20211125T061448Z
LAST-MODIFIED:20220223T114447Z
UID:10004696-1645637400-1645637400@www.iwcc.edu
SUMMARY:(Women's Basketball) Southeastern Community College vs. Iowa Western
DESCRIPTION:(Women’s Basketball) Southeastern Community College vs. Iowa Western\, Council Bluffs\, IA
URL:https://www.iwcc.edu/event/womens-basketball-southeastern-community-college-vs-iowa-western-2/
CATEGORIES:Women's Basketball
END:VEVENT
BEGIN:VEVENT
DTSTART;VALUE=DATE:20220224
DTEND;VALUE=DATE:20220226
DTSTAMP:20260422T063409
CREATED:20211127T063019Z
LAST-MODIFIED:20220224T114436Z
UID:10004697-1645725600-1645811999@www.iwcc.edu
SUMMARY:(Iowa Western Shotgun Sports ) Lindenwood Invitational
DESCRIPTION:(Iowa Western Shotgun Sports ) Lindenwood Invitational\, Regional\, 9am
URL:https://www.iwcc.edu/event/iowa-western-shotgun-sports-lindenwood-invitational/
LOCATION:St. Louis
CATEGORIES:Iowa Western Shotgun Sports
END:VEVENT
BEGIN:VEVENT
DTSTART;VALUE=DATE:20220225
DTEND;VALUE=DATE:20220226
DTSTAMP:20260422T063409
CREATED:20210830T164828Z
LAST-MODIFIED:20210830T164828Z
UID:10005000-1645747200-1645833599@www.iwcc.edu
SUMMARY:Employee Development Day - No Classes
DESCRIPTION:
URL:https://www.iwcc.edu/event/employee-development-day-no-classes-2/
LOCATION:Iowa Western Community College\, 2700 College Rd.\, Council Bluffs\, IA\, 51503\, United States
CATEGORIES:Holiday/Recess Days
END:VEVENT
BEGIN:VEVENT
DTSTART;TZID=America/Chicago:20220226T130000
DTEND;TZID=America/Chicago:20220226T130000
DTSTAMP:20260422T063409
CREATED:20220119T084500Z
LAST-MODIFIED:20220226T115940Z
UID:10005396-1645880400-1645880400@www.iwcc.edu
SUMMARY:(Softball) Iowa Western at Central Community College-Columbus
DESCRIPTION:(Softball) Iowa Western at Central Community College-Columbus
URL:https://www.iwcc.edu/event/softball-central-community-college-columbus-vs-iowa-western-5/
CATEGORIES:Softball
END:VEVENT
BEGIN:VEVENT
DTSTART;TZID=America/Chicago:20220226T140000
DTEND;TZID=America/Chicago:20220226T140000
DTSTAMP:20260422T063409
CREATED:20220111T081532Z
LAST-MODIFIED:20220226T115940Z
UID:10005351-1645884000-1645884000@www.iwcc.edu
SUMMARY:(Baseball) Iowa Western at Neosho County Community College
DESCRIPTION:(Baseball) Iowa Western at Neosho County Community College\, Chanute\, KS
URL:https://www.iwcc.edu/event/baseball-iowa-western-at-neosho-county-community-college/
CATEGORIES:Baseball
END:VEVENT
BEGIN:VEVENT
DTSTART;TZID=America/Chicago:20220226T150000
DTEND;TZID=America/Chicago:20220226T150000
DTSTAMP:20260422T063409
CREATED:20220119T084500Z
LAST-MODIFIED:20220226T115940Z
UID:10005397-1645887600-1645887600@www.iwcc.edu
SUMMARY:(Softball) Iowa Western at Central Community College-Columbus
DESCRIPTION:(Softball) Iowa Western at Central Community College-Columbus
URL:https://www.iwcc.edu/event/softball-central-community-college-columbus-vs-iowa-western-6/
CATEGORIES:Softball
END:VEVENT
BEGIN:VEVENT
DTSTART;TZID=America/Chicago:20220226T160000
DTEND;TZID=America/Chicago:20220226T160000
DTSTAMP:20260422T063409
CREATED:20220111T081532Z
LAST-MODIFIED:20220226T115940Z
UID:10005353-1645891200-1645891200@www.iwcc.edu
SUMMARY:(Baseball) Iowa Western at Neosho County Community College
DESCRIPTION:(Baseball) Iowa Western at Neosho County Community College\, Chanute\, KS
URL:https://www.iwcc.edu/event/baseball-iowa-western-at-neosho-county-community-college-2/
CATEGORIES:Baseball
END:VEVENT
BEGIN:VEVENT
DTSTART;TZID=America/Chicago:20220226T190000
DTEND;TZID=America/Chicago:20220226T190000
DTSTAMP:20260422T063409
CREATED:20220224T114436Z
LAST-MODIFIED:20220226T115940Z
UID:10005582-1645902000-1645902000@www.iwcc.edu
SUMMARY:(Men's Basketball) Iowa Western at North Iowa Area Community College
DESCRIPTION:(Men’s Basketball) Iowa Western at North Iowa Area Community College\, At Mason City\, Iowa – NJCAA Region XI quarterfinals
URL:https://www.iwcc.edu/event/mens-basketball-iowa-western-at-north-iowa-area-community-college-3/
CATEGORIES:Men's Basketball
END:VEVENT
BEGIN:VEVENT
DTSTART;TZID=America/Chicago:20220226T193000
DTEND;TZID=America/Chicago:20220226T210000
DTSTAMP:20260422T063409
CREATED:20211129T191434Z
LAST-MODIFIED:20220526T203641Z
UID:10004698-1645903800-1645909200@www.iwcc.edu
SUMMARY:Brian Owens & The Deacons of Soul
DESCRIPTION:Brian Owens first came to worldwide attention as the lead singer with the U.S. Air Force Band Sidewinder\, whose YouTube videos garnered more than 2.5 million views and led to the band’s appearances on Entertainment Tonight and The Ellen DeGeneres Show\, and at the White House and the World Series. While the pandemic and recent racial tensions weighed on our nation\, Brian put his heart and soul into the development of new projects with his collaborators from Life Creative Group. Brian’s performance will span a variety of artists\, including Otis Redding\, Stevie Wonder\, Marvin Gaye\, Michael McDonald\, Johnny Cash\, and Sam Cooke. Brian takes all of these influences and delivers his own interpretation of the classic R&B sound. \nTickets available at https://iwcctickets.universitytickets.com 
URL:https://www.iwcc.edu/event/brian-owens-the-deacons-of-soul/
LOCATION:Arts Center at Iowa Western\, 2700 College Road Arts Center\, Council Bluffs\, IA 51503\, USA
END:VEVENT
BEGIN:VEVENT
DTSTART;TZID=America/Chicago:20220227T120000
DTEND;TZID=America/Chicago:20220227T120000
DTSTAMP:20260422T063409
CREATED:20220111T081532Z
LAST-MODIFIED:20220227T115949Z
UID:10005354-1645963200-1645963200@www.iwcc.edu
SUMMARY:(Baseball) Iowa Western at Neosho County Community College
DESCRIPTION:(Baseball) Iowa Western at Neosho County Community College\, Chanute\, KS
URL:https://www.iwcc.edu/event/baseball-iowa-western-at-neosho-county-community-college-3/
CATEGORIES:Baseball
END:VEVENT
BEGIN:VEVENT
DTSTART;TZID=America/Chicago:20220227T130000
DTEND;TZID=America/Chicago:20220227T130000
DTSTAMP:20260422T063409
CREATED:20220224T114436Z
LAST-MODIFIED:20220227T115949Z
UID:10005583-1645966800-1645966800@www.iwcc.edu
SUMMARY:(Softball) North Central Missouri College vs. Iowa Western
DESCRIPTION:(Softball) North Central Missouri College vs. Iowa Western
URL:https://www.iwcc.edu/event/softball-north-central-missouri-college-vs-iowa-western/
CATEGORIES:Softball
END:VEVENT
BEGIN:VEVENT
DTSTART;TZID=America/Chicago:20220227T140000
DTEND;TZID=America/Chicago:20220227T140000
DTSTAMP:20260422T063409
CREATED:20220111T081532Z
LAST-MODIFIED:20220227T115949Z
UID:10005355-1645970400-1645970400@www.iwcc.edu
SUMMARY:(Baseball) Iowa Western at Neosho County Community College
DESCRIPTION:(Baseball) Iowa Western at Neosho County Community College\, Chanute\, KS
URL:https://www.iwcc.edu/event/baseball-iowa-western-at-neosho-county-community-college-4/
CATEGORIES:Baseball
END:VEVENT
BEGIN:VEVENT
DTSTART;TZID=America/Chicago:20220227T140000
DTEND;TZID=America/Chicago:20220227T140000
DTSTAMP:20260422T063409
CREATED:20220119T084500Z
LAST-MODIFIED:20220223T114448Z
UID:10004785-1645970400-1645970400@www.iwcc.edu
SUMMARY:(Softball) North Platte Community College vs. Iowa Western
DESCRIPTION:(Softball) North Platte Community College vs. Iowa Western\, Council Bluffs\, Iowa
URL:https://www.iwcc.edu/event/softball-north-platte-community-college-vs-iowa-western-3/
CATEGORIES:Softball
END:VEVENT
BEGIN:VEVENT
DTSTART;TZID=America/Chicago:20220227T150000
DTEND;TZID=America/Chicago:20220227T150000
DTSTAMP:20260422T063409
CREATED:20220224T114437Z
LAST-MODIFIED:20220227T115949Z
UID:10005584-1645974000-1645974000@www.iwcc.edu
SUMMARY:(Softball) North Central Missouri College vs. Iowa Western
DESCRIPTION:(Softball) North Central Missouri College vs. Iowa Western
URL:https://www.iwcc.edu/event/softball-north-central-missouri-college-vs-iowa-western-2/
CATEGORIES:Softball
END:VEVENT
BEGIN:VEVENT
DTSTART;TZID=America/Chicago:20220227T160000
DTEND;TZID=America/Chicago:20220227T160000
DTSTAMP:20260422T063409
CREATED:20220119T084500Z
LAST-MODIFIED:20220223T114448Z
UID:10004786-1645977600-1645977600@www.iwcc.edu
SUMMARY:(Softball) North Platte Community College vs. Iowa Western
DESCRIPTION:(Softball) North Platte Community College vs. Iowa Western\, Council Bluffs\, Iowa
URL:https://www.iwcc.edu/event/softball-north-platte-community-college-vs-iowa-western-4/
CATEGORIES:Softball
END:VEVENT
END:VCALENDAR