BEGIN:VCALENDAR
VERSION:2.0
PRODID:-//Iowa Western Community College - ECPv6.15.20//NONSGML v1.0//EN
CALSCALE:GREGORIAN
METHOD:PUBLISH
X-ORIGINAL-URL:https://www.iwcc.edu
X-WR-CALDESC:Events for Iowa Western Community College
REFRESH-INTERVAL;VALUE=DURATION:PT1H
X-Robots-Tag:noindex
X-PUBLISHED-TTL:PT1H
BEGIN:VTIMEZONE
TZID:America/Chicago
BEGIN:DAYLIGHT
TZOFFSETFROM:-0600
TZOFFSETTO:-0500
TZNAME:CDT
DTSTART:20220313T080000
END:DAYLIGHT
BEGIN:STANDARD
TZOFFSETFROM:-0500
TZOFFSETTO:-0600
TZNAME:CST
DTSTART:20221106T070000
END:STANDARD
BEGIN:DAYLIGHT
TZOFFSETFROM:-0600
TZOFFSETTO:-0500
TZNAME:CDT
DTSTART:20230312T080000
END:DAYLIGHT
BEGIN:STANDARD
TZOFFSETFROM:-0500
TZOFFSETTO:-0600
TZNAME:CST
DTSTART:20231105T070000
END:STANDARD
BEGIN:DAYLIGHT
TZOFFSETFROM:-0600
TZOFFSETTO:-0500
TZNAME:CDT
DTSTART:20240310T080000
END:DAYLIGHT
BEGIN:STANDARD
TZOFFSETFROM:-0500
TZOFFSETTO:-0600
TZNAME:CST
DTSTART:20241103T070000
END:STANDARD
BEGIN:DAYLIGHT
TZOFFSETFROM:-0600
TZOFFSETTO:-0500
TZNAME:CDT
DTSTART:20250309T080000
END:DAYLIGHT
BEGIN:STANDARD
TZOFFSETFROM:-0500
TZOFFSETTO:-0600
TZNAME:CST
DTSTART:20251102T070000
END:STANDARD
BEGIN:DAYLIGHT
TZOFFSETFROM:-0600
TZOFFSETTO:-0500
TZNAME:CDT
DTSTART:20260308T080000
END:DAYLIGHT
BEGIN:STANDARD
TZOFFSETFROM:-0500
TZOFFSETTO:-0600
TZNAME:CST
DTSTART:20261101T070000
END:STANDARD
END:VTIMEZONE
BEGIN:VEVENT
DTSTART;TZID=America/Chicago:20251205T180000
DTEND;TZID=America/Chicago:20251205T180000
DTSTAMP:20260419T191353
CREATED:20251125T173148Z
LAST-MODIFIED:20251205T193316Z
UID:10009444-1764957600-1764957600@www.iwcc.edu
SUMMARY:(Football) Tyler Junior College vs. Iowa Western
DESCRIPTION:(Football) Tyler Junior College vs. Iowa Western\, 2025 NJCAA DI Football Playoffs – Semifinal
URL:https://www.iwcc.edu/event/football-tyler-junior-college-vs-iowa-western/
LOCATION:Iowa Western Community College\, 2700 College Rd.\, Council Bluffs\, IA\, 51503\, United States
CATEGORIES:Athletics,Football
END:VEVENT
BEGIN:VEVENT
DTSTART;TZID=America/Chicago:20231105T130000
DTEND;TZID=America/Chicago:20231105T130000
DTSTAMP:20260419T191353
CREATED:20231030T172944Z
LAST-MODIFIED:20231105T183237Z
UID:10007477-1699189200-1699189200@www.iwcc.edu
SUMMARY:(Women's Volleyball) John A. Logan College vs. Iowa Western
DESCRIPTION:(Women’s Volleyball) John A. Logan College vs. Iowa Western\, Midwest B District Semifinal
URL:https://www.iwcc.edu/event/womens-volleyball-john-a-logan-college-vs-iowa-western-2/
LOCATION:Iowa Western Community College\, 2700 College Rd.\, Council Bluffs\, IA\, 51503\, United States
CATEGORIES:Athletics,Women's Volleyball
END:VEVENT
BEGIN:VEVENT
DTSTART;VALUE=DATE:20230728
DTEND;VALUE=DATE:20230729
DTSTAMP:20260419T191353
CREATED:20210830T202205Z
LAST-MODIFIED:20210830T202205Z
UID:10005142-1690502400-1690588799@www.iwcc.edu
SUMMARY:Accelerated Sessions II and III Ends
DESCRIPTION:
URL:https://www.iwcc.edu/event/accelerated-sessions-ii-and-iii-ends/
LOCATION:Iowa Western Community College\, 2700 College Rd.\, Council Bluffs\, IA\, 51503\, United States
CATEGORIES:Term Start & End Dates
END:VEVENT
BEGIN:VEVENT
DTSTART;VALUE=DATE:20230724
DTEND;VALUE=DATE:20230725
DTSTAMP:20260419T191353
CREATED:20210830T202122Z
LAST-MODIFIED:20210830T202122Z
UID:10005140-1690156800-1690243199@www.iwcc.edu
SUMMARY:Last Day to Drop Accelerated Session III (4-wk) Classes (no refund)
DESCRIPTION:
URL:https://www.iwcc.edu/event/last-day-to-drop-accelerated-session-iii-4-wk-classes-no-refund/
LOCATION:Iowa Western Community College\, 2700 College Rd.\, Council Bluffs\, IA\, 51503\, United States
CATEGORIES:Term Registration Dates
END:VEVENT
BEGIN:VEVENT
DTSTART;VALUE=DATE:20230717
DTEND;VALUE=DATE:20230718
DTSTAMP:20260419T191353
CREATED:20210830T202038Z
LAST-MODIFIED:20210830T202038Z
UID:10005138-1689552000-1689638399@www.iwcc.edu
SUMMARY:Last Day to Drop Accelerated Session II (8-wk) Classes (no refund)
DESCRIPTION:
URL:https://www.iwcc.edu/event/last-day-to-drop-accelerated-session-ii-8-wk-classes-no-refund/
LOCATION:Iowa Western Community College\, 2700 College Rd.\, Council Bluffs\, IA\, 51503\, United States
CATEGORIES:Term Registration Dates
END:VEVENT
BEGIN:VEVENT
DTSTART;VALUE=DATE:20230706
DTEND;VALUE=DATE:20230707
DTSTAMP:20260419T191353
CREATED:20210830T201954Z
LAST-MODIFIED:20210830T201954Z
UID:10005136-1688601600-1688687999@www.iwcc.edu
SUMMARY:Last Day 50% Refund for Accelerated Session III (4-wk) Classes
DESCRIPTION:
URL:https://www.iwcc.edu/event/last-day-50-refund-for-accelerated-session-iii-4-wk-classes/
LOCATION:Iowa Western Community College\, 2700 College Rd.\, Council Bluffs\, IA\, 51503\, United States
CATEGORIES:Payment & Refund
END:VEVENT
BEGIN:VEVENT
DTSTART;VALUE=DATE:20230705
DTEND;VALUE=DATE:20230706
DTSTAMP:20260419T191353
CREATED:20210830T201903Z
LAST-MODIFIED:20210830T201903Z
UID:10005135-1688515200-1688601599@www.iwcc.edu
SUMMARY:Last Day 100% Refund for Accelerated Session III (4-wk) Classes
DESCRIPTION:
URL:https://www.iwcc.edu/event/last-day-100-refund-for-accelerated-session-iii-4-wk-classes/
LOCATION:Iowa Western Community College\, 2700 College Rd.\, Council Bluffs\, IA\, 51503\, United States
CATEGORIES:Payment & Refund
END:VEVENT
BEGIN:VEVENT
DTSTART;VALUE=DATE:20230705
DTEND;VALUE=DATE:20230706
DTSTAMP:20260419T191353
CREATED:20210830T201817Z
LAST-MODIFIED:20210830T201817Z
UID:10005134-1688515200-1688601599@www.iwcc.edu
SUMMARY:Last Day to Add Accelerated Session III (4-wk) Classes
DESCRIPTION:
URL:https://www.iwcc.edu/event/last-day-to-add-accelerated-session-iii-4-wk-classes-2/
LOCATION:Iowa Western Community College\, 2700 College Rd.\, Council Bluffs\, IA\, 51503\, United States
CATEGORIES:Term Registration Dates
END:VEVENT
BEGIN:VEVENT
DTSTART;VALUE=DATE:20230704
DTEND;VALUE=DATE:20230705
DTSTAMP:20260419T191353
CREATED:20210830T201631Z
LAST-MODIFIED:20210830T201631Z
UID:10005132-1688428800-1688515199@www.iwcc.edu
SUMMARY:Holiday - College Offices Closed
DESCRIPTION:
URL:https://www.iwcc.edu/event/holiday-college-offices-closed-11/2023-07-04/
LOCATION:Iowa Western Community College\, 2700 College Rd.\, Council Bluffs\, IA\, 51503\, United States
CATEGORIES:Holiday/Recess Days
END:VEVENT
BEGIN:VEVENT
DTSTART;VALUE=DATE:20230703
DTEND;VALUE=DATE:20230704
DTSTAMP:20260419T191353
CREATED:20210830T201631Z
LAST-MODIFIED:20210830T201631Z
UID:10005131-1688342400-1688428799@www.iwcc.edu
SUMMARY:Holiday - College Offices Closed
DESCRIPTION:
URL:https://www.iwcc.edu/event/holiday-college-offices-closed-11/2023-07-03/
LOCATION:Iowa Western Community College\, 2700 College Rd.\, Council Bluffs\, IA\, 51503\, United States
CATEGORIES:Holiday/Recess Days
END:VEVENT
BEGIN:VEVENT
DTSTART;VALUE=DATE:20230630
DTEND;VALUE=DATE:20230701
DTSTAMP:20260419T191353
CREATED:20210830T201534Z
LAST-MODIFIED:20210830T201534Z
UID:10005130-1688083200-1688169599@www.iwcc.edu
SUMMARY:Accelerated Session I (4-wk) Ends
DESCRIPTION:
URL:https://www.iwcc.edu/event/accelerated-session-i-4-wk-ends-2/
LOCATION:Iowa Western Community College\, 2700 College Rd.\, Council Bluffs\, IA\, 51503\, United States
CATEGORIES:Term Start & End Dates
END:VEVENT
BEGIN:VEVENT
DTSTART;VALUE=DATE:20230626
DTEND;VALUE=DATE:20230627
DTSTAMP:20260419T191353
CREATED:20210830T201450Z
LAST-MODIFIED:20210830T201450Z
UID:10005129-1687737600-1687823999@www.iwcc.edu
SUMMARY:Last Day to Apply for Summer Graduation
DESCRIPTION:
URL:https://www.iwcc.edu/event/last-day-to-apply-for-summer-graduation-3/
LOCATION:Iowa Western Community College\, 2700 College Rd.\, Council Bluffs\, IA\, 51503\, United States
CATEGORIES:Commencement & Graduation
END:VEVENT
BEGIN:VEVENT
DTSTART;VALUE=DATE:20230626
DTEND;VALUE=DATE:20230627
DTSTAMP:20260419T191353
CREATED:20210830T201411Z
LAST-MODIFIED:20210830T201411Z
UID:10005128-1687737600-1687823999@www.iwcc.edu
SUMMARY:Last Day to Drop Accelerated Session I (4-wk) Classes (no refund)
DESCRIPTION:
URL:https://www.iwcc.edu/event/last-day-to-drop-accelerated-session-i-4-wk-classes-no-refund/
LOCATION:Iowa Western Community College\, 2700 College Rd.\, Council Bluffs\, IA\, 51503\, United States
CATEGORIES:Term Registration Dates
END:VEVENT
BEGIN:VEVENT
DTSTART;VALUE=DATE:20230619
DTEND;VALUE=DATE:20230620
DTSTAMP:20260419T191353
CREATED:20210830T201319Z
LAST-MODIFIED:20210830T201319Z
UID:10005127-1687132800-1687219199@www.iwcc.edu
SUMMARY:Holiday - College Offices Closed
DESCRIPTION:
URL:https://www.iwcc.edu/event/holiday-college-offices-closed-10/
LOCATION:Iowa Western Community College\, 2700 College Rd.\, Council Bluffs\, IA\, 51503\, United States
CATEGORIES:Holiday/Recess Days
END:VEVENT
BEGIN:VEVENT
DTSTART;VALUE=DATE:20230612
DTEND;VALUE=DATE:20230613
DTSTAMP:20260419T191353
CREATED:20210830T210702Z
LAST-MODIFIED:20210830T210702Z
UID:10004603-1686528000-1686614399@www.iwcc.edu
SUMMARY:Summer Payment Deadline
DESCRIPTION:
URL:https://www.iwcc.edu/event/summer-payment-deadline-2/
LOCATION:Iowa Western Community College\, 2700 College Rd.\, Council Bluffs\, IA\, 51503\, United States
CATEGORIES:Payment & Refund
END:VEVENT
BEGIN:VEVENT
DTSTART;VALUE=DATE:20230609
DTEND;VALUE=DATE:20230610
DTSTAMP:20260419T191353
CREATED:20210830T201216Z
LAST-MODIFIED:20210830T201216Z
UID:10005118-1686268800-1686355199@www.iwcc.edu
SUMMARY:Last Day 50% Refund for Accelerated Session II (8-wk) Classes
DESCRIPTION:
URL:https://www.iwcc.edu/event/last-day-50-refund-for-accelerated-session-ii-8-wk-classes-2/
LOCATION:Iowa Western Community College\, 2700 College Rd.\, Council Bluffs\, IA\, 51503\, United States
CATEGORIES:Payment & Refund
END:VEVENT
BEGIN:VEVENT
DTSTART;VALUE=DATE:20230607
DTEND;VALUE=DATE:20230608
DTSTAMP:20260419T191353
CREATED:20210830T201129Z
LAST-MODIFIED:20210830T201129Z
UID:10005116-1686096000-1686182399@www.iwcc.edu
SUMMARY:Last Day 100% Refund for Accelerated Session II (8-wk) Classes
DESCRIPTION:
URL:https://www.iwcc.edu/event/last-day-100-refund-for-accelerated-session-ii-8-wk-classes-2/
LOCATION:Iowa Western Community College\, 2700 College Rd.\, Council Bluffs\, IA\, 51503\, United States
CATEGORIES:Payment & Refund
END:VEVENT
BEGIN:VEVENT
DTSTART;VALUE=DATE:20230607
DTEND;VALUE=DATE:20230608
DTSTAMP:20260419T191353
CREATED:20210830T201042Z
LAST-MODIFIED:20210830T201042Z
UID:10005114-1686096000-1686182399@www.iwcc.edu
SUMMARY:Last Day to Add Accelerated Session II (8-wk) Classes
DESCRIPTION:
URL:https://www.iwcc.edu/event/last-day-to-add-accelerated-session-ii-8-wk-classes-3/
LOCATION:Iowa Western Community College\, 2700 College Rd.\, Council Bluffs\, IA\, 51503\, United States
CATEGORIES:Term Registration Dates
END:VEVENT
BEGIN:VEVENT
DTSTART;VALUE=DATE:20230606
DTEND;VALUE=DATE:20230607
DTSTAMP:20260419T191353
CREATED:20210830T200957Z
LAST-MODIFIED:20210830T200957Z
UID:10005113-1686009600-1686095999@www.iwcc.edu
SUMMARY:Last Day 50% Refund for Accelerated Session I (4-wk) Classes
DESCRIPTION:
URL:https://www.iwcc.edu/event/last-day-50-refund-for-accelerated-session-i-4-wk-classes/
LOCATION:Iowa Western Community College\, 2700 College Rd.\, Council Bluffs\, IA\, 51503\, United States
CATEGORIES:Payment & Refund
END:VEVENT
BEGIN:VEVENT
DTSTART;VALUE=DATE:20230605
DTEND;VALUE=DATE:20230606
DTSTAMP:20260419T191353
CREATED:20210830T200905Z
LAST-MODIFIED:20210830T200905Z
UID:10005112-1685923200-1686009599@www.iwcc.edu
SUMMARY:Accelerated Session II (8-wk) Classes Begin
DESCRIPTION:
URL:https://www.iwcc.edu/event/accelerated-session-ii-8-wk-classes-begin-3/
LOCATION:Iowa Western Community College\, 2700 College Rd.\, Council Bluffs\, IA\, 51503\, United States
CATEGORIES:Term Start & End Dates
END:VEVENT
BEGIN:VEVENT
DTSTART;VALUE=DATE:20230605
DTEND;VALUE=DATE:20230606
DTSTAMP:20260419T191353
CREATED:20210830T200808Z
LAST-MODIFIED:20210830T200808Z
UID:10005111-1685923200-1686009599@www.iwcc.edu
SUMMARY:Last Day 100% Refund for Accelerated Session I (4-wk) Classes
DESCRIPTION:
URL:https://www.iwcc.edu/event/last-day-100-refund-for-accelerated-session-i-4-wk-classes/
LOCATION:Iowa Western Community College\, 2700 College Rd.\, Council Bluffs\, IA\, 51503\, United States
CATEGORIES:Payment & Refund
END:VEVENT
BEGIN:VEVENT
DTSTART;VALUE=DATE:20230605
DTEND;VALUE=DATE:20230606
DTSTAMP:20260419T191353
CREATED:20210830T200715Z
LAST-MODIFIED:20210830T200715Z
UID:10005110-1685923200-1686009599@www.iwcc.edu
SUMMARY:Last Day to Add Accelerated Session ( 4-wk) Classes
DESCRIPTION:
URL:https://www.iwcc.edu/event/last-day-to-add-accelerated-session-4-wk-classes/
LOCATION:Iowa Western Community College\, 2700 College Rd.\, Council Bluffs\, IA\, 51503\, United States
CATEGORIES:Term Registration Dates
END:VEVENT
BEGIN:VEVENT
DTSTART;VALUE=DATE:20230605
DTEND;VALUE=DATE:20230606
DTSTAMP:20260419T191353
CREATED:20210830T200621Z
LAST-MODIFIED:20210830T200621Z
UID:10005109-1685923200-1686009599@www.iwcc.edu
SUMMARY:Accelerated Session (4-wk) Classes Begin
DESCRIPTION:
URL:https://www.iwcc.edu/event/accelerated-session-4-wk-classes-begin/
LOCATION:Iowa Western Community College\, 2700 College Rd.\, Council Bluffs\, IA\, 51503\, United States
CATEGORIES:Term Start & End Dates
END:VEVENT
BEGIN:VEVENT
DTSTART;VALUE=DATE:20230529
DTEND;VALUE=DATE:20230530
DTSTAMP:20260419T191353
CREATED:20210830T200531Z
LAST-MODIFIED:20210830T200531Z
UID:10005108-1685318400-1685404799@www.iwcc.edu
SUMMARY:Holiday - College Offices Closed
DESCRIPTION:
URL:https://www.iwcc.edu/event/holiday-college-offices-closed-9/
LOCATION:Iowa Western Community College\, 2700 College Rd.\, Council Bluffs\, IA\, 51503\, United States
CATEGORIES:Holiday/Recess Days
END:VEVENT
BEGIN:VEVENT
DTSTART;VALUE=DATE:20230526
DTEND;VALUE=DATE:20230527
DTSTAMP:20260419T191353
CREATED:20210830T200452Z
LAST-MODIFIED:20210830T200452Z
UID:10005107-1685059200-1685145599@www.iwcc.edu
SUMMARY:Sumer Interim Session Ends
DESCRIPTION:
URL:https://www.iwcc.edu/event/sumer-interim-session-ends/
LOCATION:Iowa Western Community College\, 2700 College Rd.\, Council Bluffs\, IA\, 51503\, United States
CATEGORIES:Term Start & End Dates
END:VEVENT
BEGIN:VEVENT
DTSTART;VALUE=DATE:20230524
DTEND;VALUE=DATE:20230525
DTSTAMP:20260419T191353
CREATED:20210830T200413Z
LAST-MODIFIED:20210830T200413Z
UID:10005105-1684886400-1684972799@www.iwcc.edu
SUMMARY:Last Day to Drop Summer Interim Classes (no refund)
DESCRIPTION:
URL:https://www.iwcc.edu/event/last-day-to-drop-summer-interim-classes-no-refund/
LOCATION:Iowa Western Community College\, 2700 College Rd.\, Council Bluffs\, IA\, 51503\, United States
CATEGORIES:Term Registration Dates
END:VEVENT
BEGIN:VEVENT
DTSTART;VALUE=DATE:20230516
DTEND;VALUE=DATE:20230517
DTSTAMP:20260419T191353
CREATED:20210830T200333Z
LAST-MODIFIED:20210830T200333Z
UID:10005103-1684195200-1684281599@www.iwcc.edu
SUMMARY:Last Day 50% Refund for Summer Interim Classes
DESCRIPTION:
URL:https://www.iwcc.edu/event/last-day-50-refund-for-summer-interim-classes/
LOCATION:Iowa Western Community College\, 2700 College Rd.\, Council Bluffs\, IA\, 51503\, United States
CATEGORIES:Payment & Refund
END:VEVENT
BEGIN:VEVENT
DTSTART;VALUE=DATE:20230515
DTEND;VALUE=DATE:20230516
DTSTAMP:20260419T191353
CREATED:20210830T200247Z
LAST-MODIFIED:20210830T200247Z
UID:10005101-1684108800-1684195199@www.iwcc.edu
SUMMARY:Last Day 100% Refund for Summer Interim Classes
DESCRIPTION:
URL:https://www.iwcc.edu/event/last-day-100-refund-for-summer-interim-classes/
LOCATION:Iowa Western Community College\, 2700 College Rd.\, Council Bluffs\, IA\, 51503\, United States
CATEGORIES:Payment & Refund
END:VEVENT
BEGIN:VEVENT
DTSTART;VALUE=DATE:20230515
DTEND;VALUE=DATE:20230516
DTSTAMP:20260419T191353
CREATED:20210830T200207Z
LAST-MODIFIED:20210830T200207Z
UID:10005099-1684108800-1684195199@www.iwcc.edu
SUMMARY:Last Day to Add Summer Interim Classes
DESCRIPTION:
URL:https://www.iwcc.edu/event/last-day-to-add-summer-interim-classes-2/
LOCATION:Iowa Western Community College\, 2700 College Rd.\, Council Bluffs\, IA\, 51503\, United States
CATEGORIES:Term Registration Dates
END:VEVENT
BEGIN:VEVENT
DTSTART;VALUE=DATE:20230515
DTEND;VALUE=DATE:20230516
DTSTAMP:20260419T191353
CREATED:20210830T200129Z
LAST-MODIFIED:20210830T200129Z
UID:10005098-1684108800-1684195199@www.iwcc.edu
SUMMARY:Summer Interim Classes Begin
DESCRIPTION:
URL:https://www.iwcc.edu/event/summer-interim-classes-begin/
LOCATION:Iowa Western Community College\, 2700 College Rd.\, Council Bluffs\, IA\, 51503\, United States
CATEGORIES:Term Start & End Dates
END:VEVENT
END:VCALENDAR