BEGIN:VCALENDAR
VERSION:2.0
PRODID:-//Iowa Western Community College - ECPv6.15.20//NONSGML v1.0//EN
CALSCALE:GREGORIAN
METHOD:PUBLISH
X-WR-CALNAME:Iowa Western Community College
X-ORIGINAL-URL:https://www.iwcc.edu
X-WR-CALDESC:Events for Iowa Western Community College
REFRESH-INTERVAL;VALUE=DURATION:PT1H
X-Robots-Tag:noindex
X-PUBLISHED-TTL:PT1H
BEGIN:VTIMEZONE
TZID:America/Chicago
BEGIN:DAYLIGHT
TZOFFSETFROM:-0600
TZOFFSETTO:-0500
TZNAME:CDT
DTSTART:20240310T080000
END:DAYLIGHT
BEGIN:STANDARD
TZOFFSETFROM:-0500
TZOFFSETTO:-0600
TZNAME:CST
DTSTART:20241103T070000
END:STANDARD
BEGIN:DAYLIGHT
TZOFFSETFROM:-0600
TZOFFSETTO:-0500
TZNAME:CDT
DTSTART:20250309T080000
END:DAYLIGHT
BEGIN:STANDARD
TZOFFSETFROM:-0500
TZOFFSETTO:-0600
TZNAME:CST
DTSTART:20251102T070000
END:STANDARD
BEGIN:DAYLIGHT
TZOFFSETFROM:-0600
TZOFFSETTO:-0500
TZNAME:CDT
DTSTART:20260308T080000
END:DAYLIGHT
BEGIN:STANDARD
TZOFFSETFROM:-0500
TZOFFSETTO:-0600
TZNAME:CST
DTSTART:20261101T070000
END:STANDARD
END:VTIMEZONE
BEGIN:VEVENT
DTSTART;TZID=America/Chicago:20250224T140000
DTEND;TZID=America/Chicago:20250224T140000
DTSTAMP:20260421T082938
CREATED:20250224T174506Z
LAST-MODIFIED:20250224T174506Z
UID:10009222-1740405600-1740405600@www.iwcc.edu
SUMMARY:(Baseball) Iowa Western vs. Lincoln Land Community College
DESCRIPTION:(Baseball) Iowa Western vs. Lincoln Land Community College
URL:https://www.iwcc.edu/event/baseball-iowa-western-vs-lincoln-land-community-college/
LOCATION:GCS Ballpark
CATEGORIES:Athletics,Baseball
END:VEVENT
BEGIN:VEVENT
DTSTART;TZID=America/Chicago:20250224T100000
DTEND;TZID=America/Chicago:20250224T100000
DTSTAMP:20260421T082938
CREATED:20250109T000433Z
LAST-MODIFIED:20250223T173416Z
UID:10008890-1740391200-1740391200@www.iwcc.edu
SUMMARY:(Baseball) Iowa Western at Southwestern Illinois College
DESCRIPTION:(Baseball) Iowa Western at Southwestern Illinois College\, Sauget\, IL
URL:https://www.iwcc.edu/event/baseball-iowa-western-vs-southwestern-illinois-college/
LOCATION:GCS Ballpark
CATEGORIES:Athletics,Baseball
END:VEVENT
BEGIN:VEVENT
DTSTART;TZID=America/Chicago:20250223T123000
DTEND;TZID=America/Chicago:20250223T123000
DTSTAMP:20260421T082938
CREATED:20250221T170037Z
LAST-MODIFIED:20250222T171742Z
UID:10009216-1740313800-1740313800@www.iwcc.edu
SUMMARY:(Baseball) Lincoln Land Community College vs. Iowa Western
DESCRIPTION:(Baseball) Lincoln Land Community College vs. Iowa Western
URL:https://www.iwcc.edu/event/baseball-lincoln-land-community-college-vs-iowa-western/
LOCATION:GCS Ballpark
CATEGORIES:Athletics,Baseball
END:VEVENT
BEGIN:VEVENT
DTSTART;TZID=America/Chicago:20250223T100000
DTEND;TZID=America/Chicago:20250223T100000
DTSTAMP:20260421T082938
CREATED:20250109T000457Z
LAST-MODIFIED:20250222T171740Z
UID:10008893-1740304800-1740304800@www.iwcc.edu
SUMMARY:(Baseball) Triton College vs. Iowa Western
DESCRIPTION:(Baseball) Triton College vs. Iowa Western\, Sauget\, IL
URL:https://www.iwcc.edu/event/baseball-iowa-western-vs-triton-college/
LOCATION:GCS Ballpark
CATEGORIES:Athletics,Baseball
END:VEVENT
BEGIN:VEVENT
DTSTART;TZID=America/Chicago:20250222T163000
DTEND;TZID=America/Chicago:20250222T163000
DTSTAMP:20260421T082938
CREATED:20250109T000450Z
LAST-MODIFIED:20250217T161824Z
UID:10008892-1740241800-1740241800@www.iwcc.edu
SUMMARY:(Baseball) Iowa Western vs. Lake Land College
DESCRIPTION:(Baseball) Iowa Western vs. Lake Land College\, Sauget\, IL
URL:https://www.iwcc.edu/event/baseball-iowa-western-vs-lake-land-college/
LOCATION:GCS Ballpark
CATEGORIES:Athletics,Baseball
END:VEVENT
END:VCALENDAR