BEGIN:VCALENDAR
VERSION:2.0
PRODID:-//Iowa Western Community College - ECPv6.15.20//NONSGML v1.0//EN
CALSCALE:GREGORIAN
METHOD:PUBLISH
X-ORIGINAL-URL:https://www.iwcc.edu
X-WR-CALDESC:Events for Iowa Western Community College
REFRESH-INTERVAL;VALUE=DURATION:PT1H
X-Robots-Tag:noindex
X-PUBLISHED-TTL:PT1H
BEGIN:VTIMEZONE
TZID:America/Chicago
BEGIN:DAYLIGHT
TZOFFSETFROM:-0600
TZOFFSETTO:-0500
TZNAME:CDT
DTSTART:20230312T080000
END:DAYLIGHT
BEGIN:STANDARD
TZOFFSETFROM:-0500
TZOFFSETTO:-0600
TZNAME:CST
DTSTART:20231105T070000
END:STANDARD
BEGIN:DAYLIGHT
TZOFFSETFROM:-0600
TZOFFSETTO:-0500
TZNAME:CDT
DTSTART:20240310T080000
END:DAYLIGHT
BEGIN:STANDARD
TZOFFSETFROM:-0500
TZOFFSETTO:-0600
TZNAME:CST
DTSTART:20241103T070000
END:STANDARD
BEGIN:DAYLIGHT
TZOFFSETFROM:-0600
TZOFFSETTO:-0500
TZNAME:CDT
DTSTART:20250309T080000
END:DAYLIGHT
BEGIN:STANDARD
TZOFFSETFROM:-0500
TZOFFSETTO:-0600
TZNAME:CST
DTSTART:20251102T070000
END:STANDARD
END:VTIMEZONE
BEGIN:VEVENT
DTSTART;TZID=America/Chicago:20241005T140000
DTEND;TZID=America/Chicago:20241005T140000
DTSTAMP:20260422T022713
CREATED:20240711T193137Z
LAST-MODIFIED:20241004T220125Z
UID:10008319-1728136800-1728136800@www.iwcc.edu
SUMMARY:(Women's Volleyball) Trinity Valley Community College vs. Iowa Western
DESCRIPTION:(Women’s Volleyball) Trinity Valley Community College vs. Iowa Western\, West Plains\, MO
URL:https://www.iwcc.edu/event/womens-volleyball-trinity-valley-community-college-vs-iowa-western-2/
LOCATION:Grizzly Invitational
CATEGORIES:Athletics,Women's Volleyball
END:VEVENT
BEGIN:VEVENT
DTSTART;TZID=America/Chicago:20241004T140000
DTEND;TZID=America/Chicago:20241004T140000
DTSTAMP:20260422T022713
CREATED:20240711T193133Z
LAST-MODIFIED:20241003T214728Z
UID:10008317-1728050400-1728050400@www.iwcc.edu
SUMMARY:(Women's Volleyball) Jefferson College vs. Iowa Western
DESCRIPTION:(Women’s Volleyball) Jefferson College vs. Iowa Western\, West Plains\, MO
URL:https://www.iwcc.edu/event/womens-volleyball-jefferson-college-vs-iowa-western-4/
LOCATION:Grizzly Invitational
CATEGORIES:Athletics,Women's Volleyball
END:VEVENT
END:VCALENDAR