BEGIN:VCALENDAR
VERSION:2.0
PRODID:-//Iowa Western Community College - ECPv6.15.20//NONSGML v1.0//EN
CALSCALE:GREGORIAN
METHOD:PUBLISH
X-ORIGINAL-URL:https://www.iwcc.edu
X-WR-CALDESC:Events for Iowa Western Community College
REFRESH-INTERVAL;VALUE=DURATION:PT1H
X-Robots-Tag:noindex
X-PUBLISHED-TTL:PT1H
BEGIN:VTIMEZONE
TZID:America/Chicago
BEGIN:DAYLIGHT
TZOFFSETFROM:-0600
TZOFFSETTO:-0500
TZNAME:CDT
DTSTART:20220313T080000
END:DAYLIGHT
BEGIN:STANDARD
TZOFFSETFROM:-0500
TZOFFSETTO:-0600
TZNAME:CST
DTSTART:20221106T070000
END:STANDARD
BEGIN:DAYLIGHT
TZOFFSETFROM:-0600
TZOFFSETTO:-0500
TZNAME:CDT
DTSTART:20230312T080000
END:DAYLIGHT
BEGIN:STANDARD
TZOFFSETFROM:-0500
TZOFFSETTO:-0600
TZNAME:CST
DTSTART:20231105T070000
END:STANDARD
BEGIN:DAYLIGHT
TZOFFSETFROM:-0600
TZOFFSETTO:-0500
TZNAME:CDT
DTSTART:20240310T080000
END:DAYLIGHT
BEGIN:STANDARD
TZOFFSETFROM:-0500
TZOFFSETTO:-0600
TZNAME:CST
DTSTART:20241103T070000
END:STANDARD
END:VTIMEZONE
BEGIN:VEVENT
DTSTART;TZID=America/Chicago:20230923T120000
DTEND;TZID=America/Chicago:20230923T120000
DTSTAMP:20260422T123351
CREATED:20230801T231837Z
LAST-MODIFIED:20230922T191816Z
UID:10007199-1695470400-1695470400@www.iwcc.edu
SUMMARY:(Women's Volleyball) Iowa Western vs. Spartanburg Methodist
DESCRIPTION:(Women’s Volleyball) Iowa Western vs. Spartanburg Methodist\, Hutchinson\, KS / Blue Dragon Classic
URL:https://www.iwcc.edu/event/womens-volleyball-iowa-western-vs-spartanburg-methodist/
LOCATION:Hutchinson CC
CATEGORIES:Athletics,Women's Volleyball
END:VEVENT
BEGIN:VEVENT
DTSTART;TZID=America/Chicago:20230922T160000
DTEND;TZID=America/Chicago:20230922T160000
DTSTAMP:20260422T123351
CREATED:20230801T231836Z
LAST-MODIFIED:20230922T191811Z
UID:10007196-1695398400-1695398400@www.iwcc.edu
SUMMARY:(Women's Volleyball) Iowa Western vs. Mineral Area College
DESCRIPTION:(Women’s Volleyball) Iowa Western vs. Mineral Area College\, Hutchinson CC Tournament
URL:https://www.iwcc.edu/event/womens-volleyball-iowa-western-vs-mineral-area-college-2/
LOCATION:Hutchinson CC
CATEGORIES:Athletics,Women's Volleyball
END:VEVENT
END:VCALENDAR