BEGIN:VCALENDAR
VERSION:2.0
PRODID:-//Iowa Western Community College - ECPv6.15.20//NONSGML v1.0//EN
CALSCALE:GREGORIAN
METHOD:PUBLISH
X-WR-CALNAME:Iowa Western Community College
X-ORIGINAL-URL:https://www.iwcc.edu
X-WR-CALDESC:Events for Iowa Western Community College
REFRESH-INTERVAL;VALUE=DURATION:PT1H
X-Robots-Tag:noindex
X-PUBLISHED-TTL:PT1H
BEGIN:VTIMEZONE
TZID:America/Chicago
BEGIN:DAYLIGHT
TZOFFSETFROM:-0600
TZOFFSETTO:-0500
TZNAME:CDT
DTSTART:20200308T080000
END:DAYLIGHT
BEGIN:STANDARD
TZOFFSETFROM:-0500
TZOFFSETTO:-0600
TZNAME:CST
DTSTART:20201101T070000
END:STANDARD
BEGIN:DAYLIGHT
TZOFFSETFROM:-0600
TZOFFSETTO:-0500
TZNAME:CDT
DTSTART:20210314T080000
END:DAYLIGHT
BEGIN:STANDARD
TZOFFSETFROM:-0500
TZOFFSETTO:-0600
TZNAME:CST
DTSTART:20211107T070000
END:STANDARD
BEGIN:DAYLIGHT
TZOFFSETFROM:-0600
TZOFFSETTO:-0500
TZNAME:CDT
DTSTART:20220313T080000
END:DAYLIGHT
BEGIN:STANDARD
TZOFFSETFROM:-0500
TZOFFSETTO:-0600
TZNAME:CST
DTSTART:20221106T070000
END:STANDARD
END:VTIMEZONE
BEGIN:VEVENT
DTSTART;TZID=America/Chicago:20211217T190000
DTEND;TZID=America/Chicago:20211217T190000
DTSTAMP:20260421T071250
CREATED:20211206T063031Z
LAST-MODIFIED:20211217T071444Z
UID:10005312-1639767600-1639767600@www.iwcc.edu
SUMMARY:(Football) New Mexico Military Institute vs. Iowa Western
DESCRIPTION:(Football) New Mexico Military Institute vs. Iowa Western\, NJCAA Division I National Championship
URL:https://www.iwcc.edu/event/football-new-mexico-military-institute-vs-iowa-western/
LOCATION:War Memorial Stadium / Little Rock\, AR
CATEGORIES:Football
END:VEVENT
END:VCALENDAR